{"text_format":"1","workbook":"xlsx","n_sheets":2,"sheets":["Sheet2","Sheet1"],"not_rendered":{"charts":2,"images":3,"macros":1,"external_links":0,"defined_names":0,"comments":0,"pivot_tables":0},"unopened":[],"bounds":{"document_bytes":16777216,"sheet_cells":100000,"rows_first":2000,"rows_last":500,"rows_between":2000,"halvings":0,"cell_chars":16384,"cell_head_chars":4096},"cells_cut":0,"cells_raw":0,"read":"whole","date_system":"1900"}

{"sheet":"Sheet2","index":0,"n_rows":29,"n_cols":9,"rows_kept":29,"cut":false,"hidden":false,"merged":[[19,0,19,1],[19,3,19,4],[19,5,19,6]]}
[]
[]
[]
[]
[]
[]
[]
[]
[]
[]
[]
[]
[]
[]
[]
[]
[]
[]
[]
["Choose FWHM:",null,null,"Choose object:",null,"Choose response:",null,null,"Choose an object and a response function."]
["Gaussian",20,null,null,null,null,null,null,"Enter the FWHM of the function you want to choose"]
["Triangle 1",10,null,null,null,null,null,null,"into the appropriate cell (B21 - B24) before you choose it."]
["Triangle 2",10,null,null,null,null,null,null,"Then click the convolution button."]
["Rectangle",20,null,null,null,null,null,null," "]
[null,null,null,null,null,null,null,null," "]
[null,null,null,null,null,null,null,null," "]
[null,null,null,null,null,null,null,null,"The calculations are done on sheet 1."]
[]
["x' =",44]

{"sheet":"Sheet1","index":1,"n_rows":131,"n_cols":15,"rows_kept":131,"cut":false,"hidden":false,"merged":[]}
[]
[null,"object","norm. resp.","response","product",null,null,"convolution",null,null,"Gaussian","Triangle 1","Triangle 2","Rectangle","Triangle 2'"]
[-63.5,0,{"$f":"D3/D$131","v":0},0,{"$f":"B3*C3","v":0},0,0,0,null,-63.5,{"$f":"EXP(-((J3)^2/(Sheet2!B$21^2*0.360673760222241)))","v":7.2730738913047625E-13},{"$f":"IF(1-ABS(J3)/Sheet2!B$22 >0, 1-ABS(J3)/Sheet2!B$22,0)","v":0},0,{"$f":"IF(ABS(J3)<Sheet2!B$24/2, 1, 0)","v":0},0]
[{"$f":"A3+1","v":-62.5},0,{"$f":"D4/D$131","v":0.05},1,{"$f":"B4*C4","v":0},0,1,0,null,{"$f":"J3+1","v":-62.5},{"$f":"EXP(-((J4)^2/(Sheet2!B$21^2*0.360673760222241)))","v":1.7418702203914756E-12},{"$f":"IF(1-ABS(J4)/Sheet2!B$22 >0, 1-ABS(J4)/Sheet2!B$22,0)","v":0},0,{"$f":"IF(ABS(J4)<Sheet2!B$24/2, 1, 0)","v":0},0]
[{"$f":"A4+1","v":-61.5},0,0.05,1,0,0,1,0,null,{"$f":"J4+1","v":-61.5},{"$f":"EXP(-((J5)^2/(Sheet2!B$21^2*0.360673760222241)))","v":4.1142718948899479E-12},{"$f":"IF(1-ABS(J5)/Sheet2!B$22 >0, 1-ABS(J5)/Sheet2!B$22,0)","v":0},0,{"$f":"IF(ABS(J5)<Sheet2!B$24/2, 1, 0)","v":0},0]
[-60.5,0,0.05,1,0,0,1,0,null,-60.5,{"$f":"EXP(-((J6)^2/(Sheet2!B$21^2*0.360673760222241)))","v":9.5840613196830658E-12},{"$f":"IF(1-ABS(J6)/Sheet2!B$22 >0, 1-ABS(J6)/Sheet2!B$22,0)","v":0},0,{"$f":"IF(ABS(J6)<Sheet2!B$24/2, 1, 0)","v":0},0]
[-59.5,0,0.05,1,0,0,1,0,null,-59.5,{"$f":"EXP(-((J7)^2/(Sheet2!B$21^2*0.360673760222241)))","v":2.2018390944221302E-11},{"$f":"IF(1-ABS(J7)/Sheet2!B$22 >0, 1-ABS(J7)/Sheet2!B$22,0)","v":0},0,{"$f":"IF(ABS(J7)<Sheet2!B$24/2, 1, 0)","v":0},0]
[-58.5,0,0.05,1,0,0,1,0,null,-58.5,{"$f":"EXP(-((J8)^2/(Sheet2!B$21^2*0.360673760222241)))","v":4.9888560561702402E-11},{"$f":"IF(1-ABS(J8)/Sheet2!B$22 >0, 1-ABS(J8)/Sheet2!B$22,0)","v":0},0,{"$f":"IF(ABS(J8)<Sheet2!B$24/2, 1, 0)","v":0},0]
[-57.5,0,0.05,1,0,0,1,0,null,-57.5,{"$f":"EXP(-((J9)^2/(Sheet2!B$21^2*0.360673760222241)))","v":1.1147969410505449E-10},{"$f":"IF(1-ABS(J9)/Sheet2!B$22 >0, 1-ABS(J9)/Sheet2!B$22,0)","v":0},0,{"$f":"IF(ABS(J9)<Sheet2!B$24/2, 1, 0)","v":0},0]
[-56.5,0,0.05,1,0,0,1,0,null,-56.5,{"$f":"EXP(-((J10)^2/(Sheet2!B$21^2*0.360673760222241)))","v":2.4568009050143757E-10},{"$f":"IF(1-ABS(J10)/Sheet2!B$22 >0, 1-ABS(J10)/Sheet2!B$22,0)","v":0},0,{"$f":"IF(ABS(J10)<Sheet2!B$24/2, 1, 0)","v":0},0]
[-55.5,0,0.05,1,0,0,1,0,null,-55.5,{"$f":"EXP(-((J11)^2/(Sheet2!B$21^2*0.360673760222241)))","v":5.3397823875293937E-10},{"$f":"IF(1-ABS(J11)/Sheet2!B$22 >0, 1-ABS(J11)/Sheet2!B$22,0)","v":0},0,{"$f":"IF(ABS(J11)<Sheet2!B$24/2, 1, 0)","v":0},0]
[-54.5,0,0.05,1,0,0,1,0,null,-54.5,{"$f":"EXP(-((J12)^2/(Sheet2!B$21^2*0.360673760222241)))","v":1.1446074117345377E-9},{"$f":"IF(1-ABS(J12)/Sheet2!B$22 >0, 1-ABS(J12)/Sheet2!B$22,0)","v":0},0,{"$f":"IF(ABS(J12)<Sheet2!B$24/2, 1, 0)","v":0},0]
[-53.5,0,0.05,1,0,0,1,0,null,-53.5,{"$f":"EXP(-((J13)^2/(Sheet2!B$21^2*0.360673760222241)))","v":2.4197413671273492E-9},{"$f":"IF(1-ABS(J13)/Sheet2!B$22 >0, 1-ABS(J13)/Sheet2!B$22,0)","v":0},0,{"$f":"IF(ABS(J13)<Sheet2!B$24/2, 1, 0)","v":0},0]
[-52.5,0,0.05,1,0,0,1,0,null,-52.5,{"$f":"EXP(-((J14)^2/(Sheet2!B$21^2*0.360673760222241)))","v":5.044995050642285E-9},{"$f":"IF(1-ABS(J14)/Sheet2!B$22 >0, 1-ABS(J14)/Sheet2!B$22,0)","v":0},0,{"$f":"IF(ABS(J14)<Sheet2!B$24/2, 1, 0)","v":0},0]
[-51.5,0,0.05,1,0,0,1,0,null,-51.5,{"$f":"EXP(-((J15)^2/(Sheet2!B$21^2*0.360673760222241)))","v":1.0373658333953505E-8},{"$f":"IF(1-ABS(J15)/Sheet2!B$22 >0, 1-ABS(J15)/Sheet2!B$22,0)","v":0},0,{"$f":"IF(ABS(J15)<Sheet2!B$24/2, 1, 0)","v":0},0]
[-50.5,0,0.05,1,0,0,1,0,null,-50.5,{"$f":"EXP(-((J16)^2/(Sheet2!B$21^2*0.360673760222241)))","v":2.1036938415630006E-8},{"$f":"IF(1-ABS(J16)/Sheet2!B$22 >0, 1-ABS(J16)/Sheet2!B$22,0)","v":0},0,{"$f":"IF(ABS(J16)<Sheet2!B$24/2, 1, 0)","v":0},0]
[-49.5,0,0.05,1,0,0,1,0,null,-49.5,{"$f":"EXP(-((J17)^2/(Sheet2!B$21^2*0.360673760222241)))","v":4.207387683125994E-8},{"$f":"IF(1-ABS(J17)/Sheet2!B$22 >0, 1-ABS(J17)/Sheet2!B$22,0)","v":0},0,{"$f":"IF(ABS(J17)<Sheet2!B$24/2, 1, 0)","v":0},0]
[-48.5,0,0.05,1,0,0,1,0,null,-48.5,{"$f":"EXP(-((J18)^2/(Sheet2!B$21^2*0.360673760222241)))","v":8.2989266671627924E-8},{"$f":"IF(1-ABS(J18)/Sheet2!B$22 >0, 1-ABS(J18)/Sheet2!B$22,0)","v":0},0,{"$f":"IF(ABS(J18)<Sheet2!B$24/2, 1, 0)","v":0},0]
[-47.5,0,0.05,1,0,0,1,0,null,-47.5,{"$f":"EXP(-((J19)^2/(Sheet2!B$21^2*0.360673760222241)))","v":1.6143984162055291E-7},{"$f":"IF(1-ABS(J19)/Sheet2!B$22 >0, 1-ABS(J19)/Sheet2!B$22,0)","v":0},0,{"$f":"IF(ABS(J19)<Sheet2!B$24/2, 1, 0)","v":0},0]
[-46.5,0,0.05,1,0,0,1,0,null,-46.5,{"$f":"EXP(-((J20)^2/(Sheet2!B$21^2*0.360673760222241)))","v":3.097268949922998E-7},{"$f":"IF(1-ABS(J20)/Sheet2!B$22 >0, 1-ABS(J20)/Sheet2!B$22,0)","v":0},0,{"$f":"IF(ABS(J20)<Sheet2!B$24/2, 1, 0)","v":0},0]
[-45.5,0,0.05,1,0,0,1,0,null,-45.5,{"$f":"EXP(-((J21)^2/(Sheet2!B$21^2*0.360673760222241)))","v":5.8603899480808158E-7},{"$f":"IF(1-ABS(J21)/Sheet2!B$22 >0, 1-ABS(J21)/Sheet2!B$22,0)","v":0},0,{"$f":"IF(ABS(J21)<Sheet2!B$24/2, 1, 0)","v":0},0]
[-44.5,0,0.05,1,0,0,1,0,null,-44.5,{"$f":"EXP(-((J22)^2/(Sheet2!B$21^2*0.360673760222241)))","v":1.093587432966015E-6},{"$f":"IF(1-ABS(J22)/Sheet2!B$22 >0, 1-ABS(J22)/Sheet2!B$22,0)","v":0},0,{"$f":"IF(ABS(J22)<Sheet2!B$24/2, 1, 0)","v":0},0]
[-43.5,0,0.05,1,0,0,1,0,null,-43.5,{"$f":"EXP(-((J23)^2/(Sheet2!B$21^2*0.360673760222241)))","v":2.0126113013877715E-6},{"$f":"IF(1-ABS(J23)/Sheet2!B$22 >0, 1-ABS(J23)/Sheet2!B$22,0)","v":0},0,{"$f":"IF(ABS(J23)<Sheet2!B$24/2, 1, 0)","v":0},0]
[-42.5,0,0,0,0,0,0,0,null,-42.5,{"$f":"EXP(-((J24)^2/(Sheet2!B$21^2*0.360673760222241)))","v":3.6529666164343979E-6},{"$f":"IF(1-ABS(J24)/Sheet2!B$22 >0, 1-ABS(J24)/Sheet2!B$22,0)","v":0},0,{"$f":"IF(ABS(J24)<Sheet2!B$24/2, 1, 0)","v":0},0]
[-41.5,0,0,0,0,0,0,0,null,-41.5,{"$f":"EXP(-((J25)^2/(Sheet2!B$21^2*0.360673760222241)))","v":6.5389934099434326E-6},{"$f":"IF(1-ABS(J25)/Sheet2!B$22 >0, 1-ABS(J25)/Sheet2!B$22,0)","v":0},0,{"$f":"IF(ABS(J25)<Sheet2!B$24/2, 1, 0)","v":0},0]
[-40.5,0,0,0,0,0,0,0,null,-40.5,{"$f":"EXP(-((J26)^2/(Sheet2!B$21^2*0.360673760222241)))","v":1.1543978151363815E-5},{"$f":"IF(1-ABS(J26)/Sheet2!B$22 >0, 1-ABS(J26)/Sheet2!B$22,0)","v":0},0,{"$f":"IF(ABS(J26)<Sheet2!B$24/2, 1, 0)","v":0},0]
[-39.5,0,0,0,0,0,0,0,null,-39.5,{"$f":"EXP(-((J27)^2/(Sheet2!B$21^2*0.360673760222241)))","v":2.0099233364695839E-5},{"$f":"IF(1-ABS(J27)/Sheet2!B$22 >0, 1-ABS(J27)/Sheet2!B$22,0)","v":0},0,{"$f":"IF(ABS(J27)<Sheet2!B$24/2, 1, 0)","v":0},0]
[-38.5,0,0,0,0,0,0,0,null,-38.5,{"$f":"EXP(-((J28)^2/(Sheet2!B$21^2*0.360673760222241)))","v":3.4513014131648678E-5},{"$f":"IF(1-ABS(J28)/Sheet2!B$22 >0, 1-ABS(J28)/Sheet2!B$22,0)","v":0},0,{"$f":"IF(ABS(J28)<Sheet2!B$24/2, 1, 0)","v":0},0]
[-37.5,0,0,0,0,0,0,0,null,-37.5,{"$f":"EXP(-((J29)^2/(Sheet2!B$21^2*0.360673760222241)))","v":5.8447465862950285E-5},{"$f":"IF(1-ABS(J29)/Sheet2!B$22 >0, 1-ABS(J29)/Sheet2!B$22,0)","v":0},0,{"$f":"IF(ABS(J29)<Sheet2!B$24/2, 1, 0)","v":0},0]
[-36.5,0,0,0,0,0,0,0,null,-36.5,{"$f":"EXP(-((J30)^2/(Sheet2!B$21^2*0.360673760222241)))","v":9.7617545326703618E-5},{"$f":"IF(1-ABS(J30)/Sheet2!B$22 >0, 1-ABS(J30)/Sheet2!B$22,0)","v":0},0,{"$f":"IF(ABS(J30)<Sheet2!B$24/2, 1, 0)","v":0},0]
[-35.5,0,0,0,0,0,0,0,null,-35.5,{"$f":"EXP(-((J31)^2/(Sheet2!B$21^2*0.360673760222241)))","v":1.6079386691756646E-4},{"$f":"IF(1-ABS(J31)/Sheet2!B$22 >0, 1-ABS(J31)/Sheet2!B$22,0)","v":0},0,{"$f":"IF(ABS(J31)<Sheet2!B$24/2, 1, 0)","v":0},0]
[-34.5,0,0,0,0,0,0,0,null,-34.5,{"$f":"EXP(-((J32)^2/(Sheet2!B$21^2*0.360673760222241)))","v":2.6121040744635823E-4},{"$f":"IF(1-ABS(J32)/Sheet2!B$22 >0, 1-ABS(J32)/Sheet2!B$22,0)","v":0},0,{"$f":"IF(ABS(J32)<Sheet2!B$24/2, 1, 0)","v":0},0]
[-33.5,0,0,0,0,0,0,0,null,-33.5,{"$f":"EXP(-((J33)^2/(Sheet2!B$21^2*0.360673760222241)))","v":4.1849557823637839E-4},{"$f":"IF(1-ABS(J33)/Sheet2!B$22 >0, 1-ABS(J33)/Sheet2!B$22,0)","v":0},0,{"$f":"IF(ABS(J33)<Sheet2!B$24/2, 1, 0)","v":0},0]
[-32.5,0,0,0,0,0,0,0,null,-32.5,{"$f":"EXP(-((J34)^2/(Sheet2!B$21^2*0.360673760222241)))","v":6.6125759127778189E-4},{"$f":"IF(1-ABS(J34)/Sheet2!B$22 >0, 1-ABS(J34)/Sheet2!B$22,0)","v":0},0,{"$f":"IF(ABS(J34)<Sheet2!B$24/2, 1, 0)","v":0},0]
[-31.5,0,0,0,0,0,0,0,null,-31.5,{"$f":"EXP(-((J35)^2/(Sheet2!B$21^2*0.360673760222241)))","v":1.0304569863105353E-3},{"$f":"IF(1-ABS(J35)/Sheet2!B$22 >0, 1-ABS(J35)/Sheet2!B$22,0)","v":0},0,{"$f":"IF(ABS(J35)<Sheet2!B$24/2, 1, 0)","v":0},0]
[-30.5,0,0,0,0,0,0,0,null,-30.5,{"$f":"EXP(-((J36)^2/(Sheet2!B$21^2*0.360673760222241)))","v":1.5836837676455023E-3},{"$f":"IF(1-ABS(J36)/Sheet2!B$22 >0, 1-ABS(J36)/Sheet2!B$22,0)","v":0},0,{"$f":"IF(ABS(J36)<Sheet2!B$24/2, 1, 0)","v":0},0]
[-29.5,0,0,0,0,0,0,0,null,-29.5,{"$f":"EXP(-((J37)^2/(Sheet2!B$21^2*0.360673760222241)))","v":2.4004157227338922E-3},{"$f":"IF(1-ABS(J37)/Sheet2!B$22 >0, 1-ABS(J37)/Sheet2!B$22,0)","v":0},0,{"$f":"IF(ABS(J37)<Sheet2!B$24/2, 1, 0)","v":0},0]
[-28.5,0,0,0,0,0,0,0,null,-28.5,{"$f":"EXP(-((J38)^2/(Sheet2!B$21^2*0.360673760222241)))","v":3.5882596395402496E-3},{"$f":"IF(1-ABS(J38)/Sheet2!B$22 >0, 1-ABS(J38)/Sheet2!B$22,0)","v":0},0,{"$f":"IF(ABS(J38)<Sheet2!B$24/2, 1, 0)","v":0},0]
[-27.5,0,0,0,0,0,0,0,null,-27.5,{"$f":"EXP(-((J39)^2/(Sheet2!B$21^2*0.360673760222241)))","v":5.2900607302222517E-3},{"$f":"IF(1-ABS(J39)/Sheet2!B$22 >0, 1-ABS(J39)/Sheet2!B$22,0)","v":0},0,{"$f":"IF(ABS(J39)<Sheet2!B$24/2, 1, 0)","v":0},0]
[-26.5,0,0,0,0,0,0,0,null,-26.5,{"$f":"EXP(-((J40)^2/(Sheet2!B$21^2*0.360673760222241)))","v":7.6916029166985631E-3},{"$f":"IF(1-ABS(J40)/Sheet2!B$22 >0, 1-ABS(J40)/Sheet2!B$22,0)","v":0},0,{"$f":"IF(ABS(J40)<Sheet2!B$24/2, 1, 0)","v":0},0]
[-25.5,0,0,0,0,0,0,0,null,-25.5,{"$f":"EXP(-((J41)^2/(Sheet2!B$21^2*0.360673760222241)))","v":1.1029414368053745E-2},{"$f":"IF(1-ABS(J41)/Sheet2!B$22 >0, 1-ABS(J41)/Sheet2!B$22,0)","v":0},0,{"$f":"IF(ABS(J41)<Sheet2!B$24/2, 1, 0)","v":0},0]
[-24.5,0,0,0,0,0,0,0,null,-24.5,{"$f":"EXP(-((J42)^2/(Sheet2!B$21^2*0.360673760222241)))","v":1.5597947384334288E-2},{"$f":"IF(1-ABS(J42)/Sheet2!B$22 >0, 1-ABS(J42)/Sheet2!B$22,0)","v":0},0,{"$f":"IF(ABS(J42)<Sheet2!B$24/2, 1, 0)","v":0},0]
[-23.5,0,0,0,0,0,0,0,null,-23.5,{"$f":"EXP(-((J43)^2/(Sheet2!B$21^2*0.360673760222241)))","v":2.1755138322367119E-2},{"$f":"IF(1-ABS(J43)/Sheet2!B$22 >0, 1-ABS(J43)/Sheet2!B$22,0)","v":0},0,{"$f":"IF(ABS(J43)<Sheet2!B$24/2, 1, 0)","v":0},0]
[-22.5,0,0,0,0,0,0,0,null,-22.5,{"$f":"EXP(-((J44)^2/(Sheet2!B$21^2*0.360673760222241)))","v":2.9925102521830477E-2},{"$f":"IF(1-ABS(J44)/Sheet2!B$22 >0, 1-ABS(J44)/Sheet2!B$22,0)","v":0},0,{"$f":"IF(ABS(J44)<Sheet2!B$24/2, 1, 0)","v":0},0]
[-21.5,0,0,0,0,0,0,0,null,-21.5,{"$f":"EXP(-((J45)^2/(Sheet2!B$21^2*0.360673760222241)))","v":4.0596523580430456E-2},{"$f":"IF(1-ABS(J45)/Sheet2!B$22 >0, 1-ABS(J45)/Sheet2!B$22,0)","v":0},0,{"$f":"IF(ABS(J45)<Sheet2!B$24/2, 1, 0)","v":0},0]
[-20.5,0,0,0,0,0,0,0,null,-20.5,{"$f":"EXP(-((J46)^2/(Sheet2!B$21^2*0.360673760222241)))","v":5.431520752678206E-2},{"$f":"IF(1-ABS(J46)/Sheet2!B$22 >0, 1-ABS(J46)/Sheet2!B$22,0)","v":0},0,{"$f":"IF(ABS(J46)<Sheet2!B$24/2, 1, 0)","v":0},0]
[-19.5,0,0,0,0,0,0,0,null,-19.5,{"$f":"EXP(-((J47)^2/(Sheet2!B$21^2*0.360673760222241)))","v":7.1669346006860354E-2},{"$f":"IF(1-ABS(J47)/Sheet2!B$22 >0, 1-ABS(J47)/Sheet2!B$22,0)","v":0},0,{"$f":"IF(ABS(J47)<Sheet2!B$24/2, 1, 0)","v":0},0]
[-18.5,0,0,0,0,0,0,0,null,-18.5,{"$f":"EXP(-((J48)^2/(Sheet2!B$21^2*0.360673760222241)))","v":9.3266319710877579E-2},{"$f":"IF(1-ABS(J48)/Sheet2!B$22 >0, 1-ABS(J48)/Sheet2!B$22,0)","v":0},0,{"$f":"IF(ABS(J48)<Sheet2!B$24/2, 1, 0)","v":0},0]
[-17.5,0,0,0,0,0,0,0,null,-17.5,{"$f":"EXP(-((J49)^2/(Sheet2!B$21^2*0.360673760222241)))","v":0.11970041008732182},{"$f":"IF(1-ABS(J49)/Sheet2!B$22 >0, 1-ABS(J49)/Sheet2!B$22,0)","v":0},0,{"$f":"IF(ABS(J49)<Sheet2!B$24/2, 1, 0)","v":0},0]
[-16.5,0,0,0,0,0,0,0,null,-16.5,{"$f":"EXP(-((J50)^2/(Sheet2!B$21^2*0.360673760222241)))","v":0.15151158336897422},{"$f":"IF(1-ABS(J50)/Sheet2!B$22 >0, 1-ABS(J50)/Sheet2!B$22,0)","v":0},0,{"$f":"IF(ABS(J50)<Sheet2!B$24/2, 1, 0)","v":0},0]
[-15.5,0,0,0,0,0,0,0,null,-15.5,{"$f":"EXP(-((J51)^2/(Sheet2!B$21^2*0.360673760222241)))","v":0.18913653803194388},{"$f":"IF(1-ABS(J51)/Sheet2!B$22 >0, 1-ABS(J51)/Sheet2!B$22,0)","v":0},0,{"$f":"IF(ABS(J51)<Sheet2!B$24/2, 1, 0)","v":0},0]
[-14.5,0,0,0,0,0,0,0,null,-14.5,{"$f":"EXP(-((J52)^2/(Sheet2!B$21^2*0.360673760222241)))","v":0.23285439215742595},{"$f":"IF(1-ABS(J52)/Sheet2!B$22 >0, 1-ABS(J52)/Sheet2!B$22,0)","v":0},0,{"$f":"IF(ABS(J52)<Sheet2!B$24/2, 1, 0)","v":0},0]
[-13.5,0,0,0,0,0,0,0,null,-13.5,{"$f":"EXP(-((J53)^2/(Sheet2!B$21^2*0.360673760222241)))","v":0.28273061176646469},{"$f":"IF(1-ABS(J53)/Sheet2!B$22 >0, 1-ABS(J53)/Sheet2!B$22,0)","v":0},0,{"$f":"IF(ABS(J53)<Sheet2!B$24/2, 1, 0)","v":0},0]
[-12.5,0,0,0,0,0,0,0,null,-12.5,{"$f":"EXP(-((J54)^2/(Sheet2!B$21^2*0.360673760222241)))","v":0.33856388673422338},{"$f":"IF(1-ABS(J54)/Sheet2!B$22 >0, 1-ABS(J54)/Sheet2!B$22,0)","v":0},0,{"$f":"IF(ABS(J54)<Sheet2!B$24/2, 1, 0)","v":0},0]
[-11.5,0,0,0,0,0,0,0,null,-11.5,{"$f":"EXP(-((J55)^2/(Sheet2!B$21^2*0.360673760222241)))","v":0.39984146565817646},{"$f":"IF(1-ABS(J55)/Sheet2!B$22 >0, 1-ABS(J55)/Sheet2!B$22,0)","v":0},0,{"$f":"IF(ABS(J55)<Sheet2!B$24/2, 1, 0)","v":0},0]
[-10.5,0,0,0,0,0,0,0,null,-10.5,{"$f":"EXP(-((J56)^2/(Sheet2!B$21^2*0.360673760222241)))","v":0.4657087843148518},{"$f":"IF(1-ABS(J56)/Sheet2!B$22 >0, 1-ABS(J56)/Sheet2!B$22,0)","v":0},0,{"$f":"IF(ABS(J56)<Sheet2!B$24/2, 1, 0)","v":0},0]
[-9.5,1,0,0,0,0,0,0,null,-9.5,{"$f":"EXP(-((J57)^2/(Sheet2!B$21^2*0.360673760222241)))","v":0.53495891445013921},{"$f":"IF(1-ABS(J57)/Sheet2!B$22 >0, 1-ABS(J57)/Sheet2!B$22,0)","v":5.0000000000000044E-2},0,{"$f":"IF(ABS(J57)<Sheet2!B$24/2, 1, 0)","v":1},0]
[-8.5,1,0,0,0,0,0,0,null,-8.5,{"$f":"EXP(-((J58)^2/(Sheet2!B$21^2*0.360673760222241)))","v":0.60604633347589643},{"$f":"IF(1-ABS(J58)/Sheet2!B$22 >0, 1-ABS(J58)/Sheet2!B$22,0)","v":0.15000000000000002},0,{"$f":"IF(ABS(J58)<Sheet2!B$24/2, 1, 0)","v":1},0]
[-7.5,1,0,0,0,0,0,0,null,-7.5,{"$f":"EXP(-((J59)^2/(Sheet2!B$21^2*0.360673760222241)))","v":0.67712777346844644},{"$f":"IF(1-ABS(J59)/Sheet2!B$22 >0, 1-ABS(J59)/Sheet2!B$22,0)","v":0.25},0,{"$f":"IF(ABS(J59)<Sheet2!B$24/2, 1, 0)","v":1},0]
[-6.5,1,0,0,0,0,0,0,null,-6.5,{"$f":"EXP(-((J60)^2/(Sheet2!B$21^2*0.360673760222241)))","v":0.74613055768701986},{"$f":"IF(1-ABS(J60)/Sheet2!B$22 >0, 1-ABS(J60)/Sheet2!B$22,0)","v":0.35},0,{"$f":"IF(ABS(J60)<Sheet2!B$24/2, 1, 0)","v":1},0]
[-5.5,1,0,0,0,0,0,0,null,-5.5,{"$f":"EXP(-((J61)^2/(Sheet2!B$21^2*0.360673760222241)))","v":0.81084608903449462},{"$f":"IF(1-ABS(J61)/Sheet2!B$22 >0, 1-ABS(J61)/Sheet2!B$22,0)","v":0.44999999999999996},0,{"$f":"IF(ABS(J61)<Sheet2!B$24/2, 1, 0)","v":1},0]
[-4.5,1,0,0,0,0,0,0,null,-4.5,{"$f":"EXP(-((J62)^2/(Sheet2!B$21^2*0.360673760222241)))","v":0.86904332042851173},{"$f":"IF(1-ABS(J62)/Sheet2!B$22 >0, 1-ABS(J62)/Sheet2!B$22,0)","v":0.55000000000000004},0,{"$f":"IF(ABS(J62)<Sheet2!B$24/2, 1, 0)","v":1},0]
[-3.5,1,0,0,0,0,0,0,null,-3.5,{"$f":"EXP(-((J63)^2/(Sheet2!B$21^2*0.360673760222241)))","v":0.91859446772230124},{"$f":"IF(1-ABS(J63)/Sheet2!B$22 >0, 1-ABS(J63)/Sheet2!B$22,0)","v":0.65},0,{"$f":"IF(ABS(J63)<Sheet2!B$24/2, 1, 0)","v":1},0]
[-2.5,1,0,0,0,0,0,0,null,-2.5,{"$f":"EXP(-((J64)^2/(Sheet2!B$21^2*0.360673760222241)))","v":0.9576032806985737},{"$f":"IF(1-ABS(J64)/Sheet2!B$22 >0, 1-ABS(J64)/Sheet2!B$22,0)","v":0.75},0,{"$f":"IF(ABS(J64)<Sheet2!B$24/2, 1, 0)","v":1},0]
[-1.5,1,0,0,0,0,0,0,null,-1.5,{"$f":"EXP(-((J65)^2/(Sheet2!B$21^2*0.360673760222241)))","v":0.98452517333741396},{"$f":"IF(1-ABS(J65)/Sheet2!B$22 >0, 1-ABS(J65)/Sheet2!B$22,0)","v":0.85},0,{"$f":"IF(ABS(J65)<Sheet2!B$24/2, 1, 0)","v":1},0]
[-0.5,1,0,0,0,0,0,0,null,-0.5,{"$f":"EXP(-((J66)^2/(Sheet2!B$21^2*0.360673760222241)))","v":0.99826863259739251},{"$f":"IF(1-ABS(J66)/Sheet2!B$22 >0, 1-ABS(J66)/Sheet2!B$22,0)","v":0.95},0,{"$f":"IF(ABS(J66)<Sheet2!B$24/2, 1, 0)","v":1},0]
[0.5,1,0,0,0,0,0,0,null,0.5,{"$f":"EXP(-((J67)^2/(Sheet2!B$21^2*0.360673760222241)))","v":0.99826863259739251},{"$f":"IF(1-ABS(J67)/Sheet2!B$22 >0, 1-ABS(J67)/Sheet2!B$22,0)","v":0.95},{"$f":"IF(1-J67/(Sheet2!B$23*2)>0,1-J67/(Sheet2!B$23*2),0)","v":0.97499999999999998},{"$f":"IF(ABS(J67)<Sheet2!B$24/2, 1, 0)","v":1},{"$f":"IF(J67/(Sheet2!B$23*2)<1,J67/(Sheet2!B$23*2),0)","v":2.5000000000000001E-2}]
[1.5,1,{"$f":"D68/D$131","v":0},0,{"$f":"B68*C68","v":0},0,0,0,null,1.5,{"$f":"EXP(-((J68)^2/(Sheet2!B$21^2*0.360673760222241)))","v":0.98452517333741396},{"$f":"IF(1-ABS(J68)/Sheet2!B$22 >0, 1-ABS(J68)/Sheet2!B$22,0)","v":0.85},{"$f":"IF(1-J68/(Sheet2!B$23*2)>0,1-J68/(Sheet2!B$23*2),0)","v":0.92500000000000004},{"$f":"IF(ABS(J68)<Sheet2!B$24/2, 1, 0)","v":1},{"$f":"IF(J68/(Sheet2!B$23*2)<1,J68/(Sheet2!B$23*2),0)","v":7.4999999999999997E-2}]
[{"$f":"A68+1","v":2.5},1,0,0,0,0,0,0,null,{"$f":"J68+1","v":2.5},{"$f":"EXP(-((J69)^2/(Sheet2!B$21^2*0.360673760222241)))","v":0.9576032806985737},{"$f":"IF(1-ABS(J69)/Sheet2!B$22 >0, 1-ABS(J69)/Sheet2!B$22,0)","v":0.75},{"$f":"IF(1-J69/(Sheet2!B$23*2)>0,1-J69/(Sheet2!B$23*2),0)","v":0.875},{"$f":"IF(ABS(J69)<Sheet2!B$24/2, 1, 0)","v":1},{"$f":"IF(J69/(Sheet2!B$23*2)<1,J69/(Sheet2!B$23*2),0)","v":0.125}]
[3.5,1,0,0,0,0,0,0,null,3.5,{"$f":"EXP(-((J70)^2/(Sheet2!B$21^2*0.360673760222241)))","v":0.91859446772230124},{"$f":"IF(1-ABS(J70)/Sheet2!B$22 >0, 1-ABS(J70)/Sheet2!B$22,0)","v":0.65},{"$f":"IF(1-J70/(Sheet2!B$23*2)>0,1-J70/(Sheet2!B$23*2),0)","v":0.82499999999999996},{"$f":"IF(ABS(J70)<Sheet2!B$24/2, 1, 0)","v":1},{"$f":"IF(J70/(Sheet2!B$23*2)<1,J70/(Sheet2!B$23*2),0)","v":0.17499999999999999}]
[4.5,1,0,0,0,0,0,0,null,4.5,{"$f":"EXP(-((J71)^2/(Sheet2!B$21^2*0.360673760222241)))","v":0.86904332042851173},{"$f":"IF(1-ABS(J71)/Sheet2!B$22 >0, 1-ABS(J71)/Sheet2!B$22,0)","v":0.55000000000000004},{"$f":"IF(1-J71/(Sheet2!B$23*2)>0,1-J71/(Sheet2!B$23*2),0)","v":0.77500000000000002},{"$f":"IF(ABS(J71)<Sheet2!B$24/2, 1, 0)","v":1},{"$f":"IF(J71/(Sheet2!B$23*2)<1,J71/(Sheet2!B$23*2),0)","v":0.22500000000000001}]
[5.5,1,0,0,0,0,0,0,null,5.5,{"$f":"EXP(-((J72)^2/(Sheet2!B$21^2*0.360673760222241)))","v":0.81084608903449462},{"$f":"IF(1-ABS(J72)/Sheet2!B$22 >0, 1-ABS(J72)/Sheet2!B$22,0)","v":0.44999999999999996},{"$f":"IF(1-J72/(Sheet2!B$23*2)>0,1-J72/(Sheet2!B$23*2),0)","v":0.72499999999999998},{"$f":"IF(ABS(J72)<Sheet2!B$24/2, 1, 0)","v":1},{"$f":"IF(J72/(Sheet2!B$23*2)<1,J72/(Sheet2!B$23*2),0)","v":0.27500000000000002}]
[6.5,1,0,0,0,0,0,0,null,6.5,{"$f":"EXP(-((J73)^2/(Sheet2!B$21^2*0.360673760222241)))","v":0.74613055768701986},{"$f":"IF(1-ABS(J73)/Sheet2!B$22 >0, 1-ABS(J73)/Sheet2!B$22,0)","v":0.35},{"$f":"IF(1-J73/(Sheet2!B$23*2)>0,1-J73/(Sheet2!B$23*2),0)","v":0.67500000000000004},{"$f":"IF(ABS(J73)<Sheet2!B$24/2, 1, 0)","v":1},{"$f":"IF(J73/(Sheet2!B$23*2)<1,J73/(Sheet2!B$23*2),0)","v":0.32500000000000001}]
[7.5,1,0,0,0,0,0,0,null,7.5,{"$f":"EXP(-((J74)^2/(Sheet2!B$21^2*0.360673760222241)))","v":0.67712777346844644},{"$f":"IF(1-ABS(J74)/Sheet2!B$22 >0, 1-ABS(J74)/Sheet2!B$22,0)","v":0.25},{"$f":"IF(1-J74/(Sheet2!B$23*2)>0,1-J74/(Sheet2!B$23*2),0)","v":0.625},{"$f":"IF(ABS(J74)<Sheet2!B$24/2, 1, 0)","v":1},{"$f":"IF(J74/(Sheet2!B$23*2)<1,J74/(Sheet2!B$23*2),0)","v":0.375}]
[8.5,1,0,0,0,0,0,0,null,8.5,{"$f":"EXP(-((J75)^2/(Sheet2!B$21^2*0.360673760222241)))","v":0.60604633347589643},{"$f":"IF(1-ABS(J75)/Sheet2!B$22 >0, 1-ABS(J75)/Sheet2!B$22,0)","v":0.15000000000000002},{"$f":"IF(1-J75/(Sheet2!B$23*2)>0,1-J75/(Sheet2!B$23*2),0)","v":0.57499999999999996},{"$f":"IF(ABS(J75)<Sheet2!B$24/2, 1, 0)","v":1},{"$f":"IF(J75/(Sheet2!B$23*2)<1,J75/(Sheet2!B$23*2),0)","v":0.42499999999999999}]
[9.5,1,0,0,0,0,0,0,null,9.5,{"$f":"EXP(-((J76)^2/(Sheet2!B$21^2*0.360673760222241)))","v":0.53495891445013921},{"$f":"IF(1-ABS(J76)/Sheet2!B$22 >0, 1-ABS(J76)/Sheet2!B$22,0)","v":5.0000000000000044E-2},{"$f":"IF(1-J76/(Sheet2!B$23*2)>0,1-J76/(Sheet2!B$23*2),0)","v":0.52500000000000002},{"$f":"IF(ABS(J76)<Sheet2!B$24/2, 1, 0)","v":1},{"$f":"IF(J76/(Sheet2!B$23*2)<1,J76/(Sheet2!B$23*2),0)","v":0.47499999999999998}]
[10.5,0,0,0,0,0,0,0,null,10.5,{"$f":"EXP(-((J77)^2/(Sheet2!B$21^2*0.360673760222241)))","v":0.4657087843148518},{"$f":"IF(1-ABS(J77)/Sheet2!B$22 >0, 1-ABS(J77)/Sheet2!B$22,0)","v":0},{"$f":"IF(1-J77/(Sheet2!B$23*2)>0,1-J77/(Sheet2!B$23*2),0)","v":0.47499999999999998},{"$f":"IF(ABS(J77)<Sheet2!B$24/2, 1, 0)","v":0},{"$f":"IF(J77/(Sheet2!B$23*2)<1,J77/(Sheet2!B$23*2),0)","v":0.52500000000000002}]
[11.5,0,0,0,0,0,0,0,null,11.5,{"$f":"EXP(-((J78)^2/(Sheet2!B$21^2*0.360673760222241)))","v":0.39984146565817646},{"$f":"IF(1-ABS(J78)/Sheet2!B$22 >0, 1-ABS(J78)/Sheet2!B$22,0)","v":0},{"$f":"IF(1-J78/(Sheet2!B$23*2)>0,1-J78/(Sheet2!B$23*2),0)","v":0.42500000000000004},{"$f":"IF(ABS(J78)<Sheet2!B$24/2, 1, 0)","v":0},{"$f":"IF(J78/(Sheet2!B$23*2)<1,J78/(Sheet2!B$23*2),0)","v":0.57499999999999996}]
[12.5,0,0,0,0,0,0,0,null,12.5,{"$f":"EXP(-((J79)^2/(Sheet2!B$21^2*0.360673760222241)))","v":0.33856388673422338},{"$f":"IF(1-ABS(J79)/Sheet2!B$22 >0, 1-ABS(J79)/Sheet2!B$22,0)","v":0},{"$f":"IF(1-J79/(Sheet2!B$23*2)>0,1-J79/(Sheet2!B$23*2),0)","v":0.375},{"$f":"IF(ABS(J79)<Sheet2!B$24/2, 1, 0)","v":0},{"$f":"IF(J79/(Sheet2!B$23*2)<1,J79/(Sheet2!B$23*2),0)","v":0.625}]
[13.5,0,0,0,0,0,0,0,null,13.5,{"$f":"EXP(-((J80)^2/(Sheet2!B$21^2*0.360673760222241)))","v":0.28273061176646469},{"$f":"IF(1-ABS(J80)/Sheet2!B$22 >0, 1-ABS(J80)/Sheet2!B$22,0)","v":0},{"$f":"IF(1-J80/(Sheet2!B$23*2)>0,1-J80/(Sheet2!B$23*2),0)","v":0.32499999999999996},{"$f":"IF(ABS(J80)<Sheet2!B$24/2, 1, 0)","v":0},{"$f":"IF(J80/(Sheet2!B$23*2)<1,J80/(Sheet2!B$23*2),0)","v":0.67500000000000004}]
[14.5,0,0,0,0,0,0,0,null,14.5,{"$f":"EXP(-((J81)^2/(Sheet2!B$21^2*0.360673760222241)))","v":0.23285439215742595},{"$f":"IF(1-ABS(J81)/Sheet2!B$22 >0, 1-ABS(J81)/Sheet2!B$22,0)","v":0},{"$f":"IF(1-J81/(Sheet2!B$23*2)>0,1-J81/(Sheet2!B$23*2),0)","v":0.27500000000000002},{"$f":"IF(ABS(J81)<Sheet2!B$24/2, 1, 0)","v":0},{"$f":"IF(J81/(Sheet2!B$23*2)<1,J81/(Sheet2!B$23*2),0)","v":0.72499999999999998}]
[15.5,0,0,0,0,0,0,0,null,15.5,{"$f":"EXP(-((J82)^2/(Sheet2!B$21^2*0.360673760222241)))","v":0.18913653803194388},{"$f":"IF(1-ABS(J82)/Sheet2!B$22 >0, 1-ABS(J82)/Sheet2!B$22,0)","v":0},{"$f":"IF(1-J82/(Sheet2!B$23*2)>0,1-J82/(Sheet2!B$23*2),0)","v":0.22499999999999998},{"$f":"IF(ABS(J82)<Sheet2!B$24/2, 1, 0)","v":0},{"$f":"IF(J82/(Sheet2!B$23*2)<1,J82/(Sheet2!B$23*2),0)","v":0.77500000000000002}]
[16.5,0,0,0,0,0,0,0,null,16.5,{"$f":"EXP(-((J83)^2/(Sheet2!B$21^2*0.360673760222241)))","v":0.15151158336897422},{"$f":"IF(1-ABS(J83)/Sheet2!B$22 >0, 1-ABS(J83)/Sheet2!B$22,0)","v":0},{"$f":"IF(1-J83/(Sheet2!B$23*2)>0,1-J83/(Sheet2!B$23*2),0)","v":0.17500000000000004},{"$f":"IF(ABS(J83)<Sheet2!B$24/2, 1, 0)","v":0},{"$f":"IF(J83/(Sheet2!B$23*2)<1,J83/(Sheet2!B$23*2),0)","v":0.82499999999999996}]
[17.5,0,0,0,0,0,0,0,null,17.5,{"$f":"EXP(-((J84)^2/(Sheet2!B$21^2*0.360673760222241)))","v":0.11970041008732182},{"$f":"IF(1-ABS(J84)/Sheet2!B$22 >0, 1-ABS(J84)/Sheet2!B$22,0)","v":0},{"$f":"IF(1-J84/(Sheet2!B$23*2)>0,1-J84/(Sheet2!B$23*2),0)","v":0.125},{"$f":"IF(ABS(J84)<Sheet2!B$24/2, 1, 0)","v":0},{"$f":"IF(J84/(Sheet2!B$23*2)<1,J84/(Sheet2!B$23*2),0)","v":0.875}]
[18.5,0,0,0,0,0,0,0,null,18.5,{"$f":"EXP(-((J85)^2/(Sheet2!B$21^2*0.360673760222241)))","v":9.3266319710877579E-2},{"$f":"IF(1-ABS(J85)/Sheet2!B$22 >0, 1-ABS(J85)/Sheet2!B$22,0)","v":0},{"$f":"IF(1-J85/(Sheet2!B$23*2)>0,1-J85/(Sheet2!B$23*2),0)","v":7.4999999999999956E-2},{"$f":"IF(ABS(J85)<Sheet2!B$24/2, 1, 0)","v":0},{"$f":"IF(J85/(Sheet2!B$23*2)<1,J85/(Sheet2!B$23*2),0)","v":0.92500000000000004}]
[19.5,0,0,0,0,0,0,0,null,19.5,{"$f":"EXP(-((J86)^2/(Sheet2!B$21^2*0.360673760222241)))","v":7.1669346006860354E-2},{"$f":"IF(1-ABS(J86)/Sheet2!B$22 >0, 1-ABS(J86)/Sheet2!B$22,0)","v":0},{"$f":"IF(1-J86/(Sheet2!B$23*2)>0,1-J86/(Sheet2!B$23*2),0)","v":2.5000000000000022E-2},{"$f":"IF(ABS(J86)<Sheet2!B$24/2, 1, 0)","v":0},{"$f":"IF(J86/(Sheet2!B$23*2)<1,J86/(Sheet2!B$23*2),0)","v":0.97499999999999998}]
[20.5,0,0,0,0,0,0,0,null,20.5,{"$f":"EXP(-((J87)^2/(Sheet2!B$21^2*0.360673760222241)))","v":5.431520752678206E-2},{"$f":"IF(1-ABS(J87)/Sheet2!B$22 >0, 1-ABS(J87)/Sheet2!B$22,0)","v":0},{"$f":"IF(1-J87/(Sheet2!B$23*2)>0,1-J87/(Sheet2!B$23*2),0)","v":0},{"$f":"IF(ABS(J87)<Sheet2!B$24/2, 1, 0)","v":0},{"$f":"IF(J87/(Sheet2!B$23*2)<1,J87/(Sheet2!B$23*2),0)","v":0}]
[21.5,0,0,0,0,0,0,0,null,21.5,{"$f":"EXP(-((J88)^2/(Sheet2!B$21^2*0.360673760222241)))","v":4.0596523580430456E-2},{"$f":"IF(1-ABS(J88)/Sheet2!B$22 >0, 1-ABS(J88)/Sheet2!B$22,0)","v":0},{"$f":"IF(1-J88/(Sheet2!B$23*2)>0,1-J88/(Sheet2!B$23*2),0)","v":0},{"$f":"IF(ABS(J88)<Sheet2!B$24/2, 1, 0)","v":0},{"$f":"IF(J88/(Sheet2!B$23*2)<1,J88/(Sheet2!B$23*2),0)","v":0}]
[22.5,0,0,0,0,0,0,0,null,22.5,{"$f":"EXP(-((J89)^2/(Sheet2!B$21^2*0.360673760222241)))","v":2.9925102521830477E-2},{"$f":"IF(1-ABS(J89)/Sheet2!B$22 >0, 1-ABS(J89)/Sheet2!B$22,0)","v":0},{"$f":"IF(1-J89/(Sheet2!B$23*2)>0,1-J89/(Sheet2!B$23*2),0)","v":0},{"$f":"IF(ABS(J89)<Sheet2!B$24/2, 1, 0)","v":0},{"$f":"IF(J89/(Sheet2!B$23*2)<1,J89/(Sheet2!B$23*2),0)","v":0}]
[23.5,0,0,0,0,0,0,0,null,23.5,{"$f":"EXP(-((J90)^2/(Sheet2!B$21^2*0.360673760222241)))","v":2.1755138322367119E-2},{"$f":"IF(1-ABS(J90)/Sheet2!B$22 >0, 1-ABS(J90)/Sheet2!B$22,0)","v":0},{"$f":"IF(1-J90/(Sheet2!B$23*2)>0,1-J90/(Sheet2!B$23*2),0)","v":0},{"$f":"IF(ABS(J90)<Sheet2!B$24/2, 1, 0)","v":0},{"$f":"IF(J90/(Sheet2!B$23*2)<1,J90/(Sheet2!B$23*2),0)","v":0}]
[24.5,0,0,0,0,0,0,0,null,24.5,{"$f":"EXP(-((J91)^2/(Sheet2!B$21^2*0.360673760222241)))","v":1.5597947384334288E-2},{"$f":"IF(1-ABS(J91)/Sheet2!B$22 >0, 1-ABS(J91)/Sheet2!B$22,0)","v":0},{"$f":"IF(1-J91/(Sheet2!B$23*2)>0,1-J91/(Sheet2!B$23*2),0)","v":0},{"$f":"IF(ABS(J91)<Sheet2!B$24/2, 1, 0)","v":0},{"$f":"IF(J91/(Sheet2!B$23*2)<1,J91/(Sheet2!B$23*2),0)","v":0}]
[25.5,0,0,0,0,0,0,0,null,25.5,{"$f":"EXP(-((J92)^2/(Sheet2!B$21^2*0.360673760222241)))","v":1.1029414368053745E-2},{"$f":"IF(1-ABS(J92)/Sheet2!B$22 >0, 1-ABS(J92)/Sheet2!B$22,0)","v":0},{"$f":"IF(1-J92/(Sheet2!B$23*2)>0,1-J92/(Sheet2!B$23*2),0)","v":0},{"$f":"IF(ABS(J92)<Sheet2!B$24/2, 1, 0)","v":0},{"$f":"IF(J92/(Sheet2!B$23*2)<1,J92/(Sheet2!B$23*2),0)","v":0}]
[26.5,0,0,0,0,0,0,0,null,26.5,{"$f":"EXP(-((J93)^2/(Sheet2!B$21^2*0.360673760222241)))","v":7.6916029166985631E-3},{"$f":"IF(1-ABS(J93)/Sheet2!B$22 >0, 1-ABS(J93)/Sheet2!B$22,0)","v":0},{"$f":"IF(1-J93/(Sheet2!B$23*2)>0,1-J93/(Sheet2!B$23*2),0)","v":0},{"$f":"IF(ABS(J93)<Sheet2!B$24/2, 1, 0)","v":0},{"$f":"IF(J93/(Sheet2!B$23*2)<1,J93/(Sheet2!B$23*2),0)","v":0}]
[27.5,0,0,0,0,0,0,0,null,27.5,{"$f":"EXP(-((J94)^2/(Sheet2!B$21^2*0.360673760222241)))","v":5.2900607302222517E-3},{"$f":"IF(1-ABS(J94)/Sheet2!B$22 >0, 1-ABS(J94)/Sheet2!B$22,0)","v":0},{"$f":"IF(1-J94/(Sheet2!B$23*2)>0,1-J94/(Sheet2!B$23*2),0)","v":0},{"$f":"IF(ABS(J94)<Sheet2!B$24/2, 1, 0)","v":0},{"$f":"IF(J94/(Sheet2!B$23*2)<1,J94/(Sheet2!B$23*2),0)","v":0}]
[28.5,0,0,0,0,0,0,0,null,28.5,{"$f":"EXP(-((J95)^2/(Sheet2!B$21^2*0.360673760222241)))","v":3.5882596395402496E-3},{"$f":"IF(1-ABS(J95)/Sheet2!B$22 >0, 1-ABS(J95)/Sheet2!B$22,0)","v":0},{"$f":"IF(1-J95/(Sheet2!B$23*2)>0,1-J95/(Sheet2!B$23*2),0)","v":0},{"$f":"IF(ABS(J95)<Sheet2!B$24/2, 1, 0)","v":0},{"$f":"IF(J95/(Sheet2!B$23*2)<1,J95/(Sheet2!B$23*2),0)","v":0}]
[29.5,0,0,0,0,0,0,0,null,29.5,{"$f":"EXP(-((J96)^2/(Sheet2!B$21^2*0.360673760222241)))","v":2.4004157227338922E-3},{"$f":"IF(1-ABS(J96)/Sheet2!B$22 >0, 1-ABS(J96)/Sheet2!B$22,0)","v":0},{"$f":"IF(1-J96/(Sheet2!B$23*2)>0,1-J96/(Sheet2!B$23*2),0)","v":0},{"$f":"IF(ABS(J96)<Sheet2!B$24/2, 1, 0)","v":0},{"$f":"IF(J96/(Sheet2!B$23*2)<1,J96/(Sheet2!B$23*2),0)","v":0}]
[30.5,0,0,0,0,0,0,0,null,30.5,{"$f":"EXP(-((J97)^2/(Sheet2!B$21^2*0.360673760222241)))","v":1.5836837676455023E-3},{"$f":"IF(1-ABS(J97)/Sheet2!B$22 >0, 1-ABS(J97)/Sheet2!B$22,0)","v":0},{"$f":"IF(1-J97/(Sheet2!B$23*2)>0,1-J97/(Sheet2!B$23*2),0)","v":0},{"$f":"IF(ABS(J97)<Sheet2!B$24/2, 1, 0)","v":0},{"$f":"IF(J97/(Sheet2!B$23*2)<1,J97/(Sheet2!B$23*2),0)","v":0}]
[31.5,0,0,0,0,0,0,0,null,31.5,{"$f":"EXP(-((J98)^2/(Sheet2!B$21^2*0.360673760222241)))","v":1.0304569863105353E-3},{"$f":"IF(1-ABS(J98)/Sheet2!B$22 >0, 1-ABS(J98)/Sheet2!B$22,0)","v":0},{"$f":"IF(1-J98/(Sheet2!B$23*2)>0,1-J98/(Sheet2!B$23*2),0)","v":0},{"$f":"IF(ABS(J98)<Sheet2!B$24/2, 1, 0)","v":0},{"$f":"IF(J98/(Sheet2!B$23*2)<1,J98/(Sheet2!B$23*2),0)","v":0}]
[32.5,0,0,0,0,0,0,0,null,32.5,{"$f":"EXP(-((J99)^2/(Sheet2!B$21^2*0.360673760222241)))","v":6.6125759127778189E-4},{"$f":"IF(1-ABS(J99)/Sheet2!B$22 >0, 1-ABS(J99)/Sheet2!B$22,0)","v":0},{"$f":"IF(1-J99/(Sheet2!B$23*2)>0,1-J99/(Sheet2!B$23*2),0)","v":0},{"$f":"IF(ABS(J99)<Sheet2!B$24/2, 1, 0)","v":0},{"$f":"IF(J99/(Sheet2!B$23*2)<1,J99/(Sheet2!B$23*2),0)","v":0}]
[33.5,0,0,0,0,0,0,0,null,33.5,{"$f":"EXP(-((J100)^2/(Sheet2!B$21^2*0.360673760222241)))","v":4.1849557823637839E-4},{"$f":"IF(1-ABS(J100)/Sheet2!B$22 >0, 1-ABS(J100)/Sheet2!B$22,0)","v":0},{"$f":"IF(1-J100/(Sheet2!B$23*2)>0,1-J100/(Sheet2!B$23*2),0)","v":0},{"$f":"IF(ABS(J100)<Sheet2!B$24/2, 1, 0)","v":0},{"$f":"IF(J100/(Sheet2!B$23*2)<1,J100/(Sheet2!B$23*2),0)","v":0}]
[34.5,0,0,0,0,0,0,0,null,34.5,{"$f":"EXP(-((J101)^2/(Sheet2!B$21^2*0.360673760222241)))","v":2.6121040744635823E-4},{"$f":"IF(1-ABS(J101)/Sheet2!B$22 >0, 1-ABS(J101)/Sheet2!B$22,0)","v":0},{"$f":"IF(1-J101/(Sheet2!B$23*2)>0,1-J101/(Sheet2!B$23*2),0)","v":0},{"$f":"IF(ABS(J101)<Sheet2!B$24/2, 1, 0)","v":0},{"$f":"IF(J101/(Sheet2!B$23*2)<1,J101/(Sheet2!B$23*2),0)","v":0}]
[35.5,0,0,0,0,0,0,0,null,35.5,{"$f":"EXP(-((J102)^2/(Sheet2!B$21^2*0.360673760222241)))","v":1.6079386691756646E-4},{"$f":"IF(1-ABS(J102)/Sheet2!B$22 >0, 1-ABS(J102)/Sheet2!B$22,0)","v":0},{"$f":"IF(1-J102/(Sheet2!B$23*2)>0,1-J102/(Sheet2!B$23*2),0)","v":0},{"$f":"IF(ABS(J102)<Sheet2!B$24/2, 1, 0)","v":0},{"$f":"IF(J102/(Sheet2!B$23*2)<1,J102/(Sheet2!B$23*2),0)","v":0}]
[36.5,0,0,0,0,0,0,0,null,36.5,{"$f":"EXP(-((J103)^2/(Sheet2!B$21^2*0.360673760222241)))","v":9.7617545326703618E-5},{"$f":"IF(1-ABS(J103)/Sheet2!B$22 >0, 1-ABS(J103)/Sheet2!B$22,0)","v":0},{"$f":"IF(1-J103/(Sheet2!B$23*2)>0,1-J103/(Sheet2!B$23*2),0)","v":0},{"$f":"IF(ABS(J103)<Sheet2!B$24/2, 1, 0)","v":0},{"$f":"IF(J103/(Sheet2!B$23*2)<1,J103/(Sheet2!B$23*2),0)","v":0}]
[37.5,0,0,0,0,0,0,0,null,37.5,{"$f":"EXP(-((J104)^2/(Sheet2!B$21^2*0.360673760222241)))","v":5.8447465862950285E-5},{"$f":"IF(1-ABS(J104)/Sheet2!B$22 >0, 1-ABS(J104)/Sheet2!B$22,0)","v":0},{"$f":"IF(1-J104/(Sheet2!B$23*2)>0,1-J104/(Sheet2!B$23*2),0)","v":0},{"$f":"IF(ABS(J104)<Sheet2!B$24/2, 1, 0)","v":0},{"$f":"IF(J104/(Sheet2!B$23*2)<1,J104/(Sheet2!B$23*2),0)","v":0}]
[38.5,0,0,0,0,0,0,0,null,38.5,{"$f":"EXP(-((J105)^2/(Sheet2!B$21^2*0.360673760222241)))","v":3.4513014131648678E-5},{"$f":"IF(1-ABS(J105)/Sheet2!B$22 >0, 1-ABS(J105)/Sheet2!B$22,0)","v":0},{"$f":"IF(1-J105/(Sheet2!B$23*2)>0,1-J105/(Sheet2!B$23*2),0)","v":0},{"$f":"IF(ABS(J105)<Sheet2!B$24/2, 1, 0)","v":0},{"$f":"IF(J105/(Sheet2!B$23*2)<1,J105/(Sheet2!B$23*2),0)","v":0}]
[39.5,0,0,0,0,0,0,0,null,39.5,{"$f":"EXP(-((J106)^2/(Sheet2!B$21^2*0.360673760222241)))","v":2.0099233364695839E-5},{"$f":"IF(1-ABS(J106)/Sheet2!B$22 >0, 1-ABS(J106)/Sheet2!B$22,0)","v":0},{"$f":"IF(1-J106/(Sheet2!B$23*2)>0,1-J106/(Sheet2!B$23*2),0)","v":0},{"$f":"IF(ABS(J106)<Sheet2!B$24/2, 1, 0)","v":0},{"$f":"IF(J106/(Sheet2!B$23*2)<1,J106/(Sheet2!B$23*2),0)","v":0}]
[40.5,0,0,0,0,0,0,0,null,40.5,{"$f":"EXP(-((J107)^2/(Sheet2!B$21^2*0.360673760222241)))","v":1.1543978151363815E-5},{"$f":"IF(1-ABS(J107)/Sheet2!B$22 >0, 1-ABS(J107)/Sheet2!B$22,0)","v":0},{"$f":"IF(1-J107/(Sheet2!B$23*2)>0,1-J107/(Sheet2!B$23*2),0)","v":0},{"$f":"IF(ABS(J107)<Sheet2!B$24/2, 1, 0)","v":0},{"$f":"IF(J107/(Sheet2!B$23*2)<1,J107/(Sheet2!B$23*2),0)","v":0}]
[41.5,0,0,0,0,0,0,0,null,41.5,{"$f":"EXP(-((J108)^2/(Sheet2!B$21^2*0.360673760222241)))","v":6.5389934099434326E-6},{"$f":"IF(1-ABS(J108)/Sheet2!B$22 >0, 1-ABS(J108)/Sheet2!B$22,0)","v":0},{"$f":"IF(1-J108/(Sheet2!B$23*2)>0,1-J108/(Sheet2!B$23*2),0)","v":0},{"$f":"IF(ABS(J108)<Sheet2!B$24/2, 1, 0)","v":0},{"$f":"IF(J108/(Sheet2!B$23*2)<1,J108/(Sheet2!B$23*2),0)","v":0}]
[42.5,0,0,0,0,0,0,0,null,42.5,{"$f":"EXP(-((J109)^2/(Sheet2!B$21^2*0.360673760222241)))","v":3.6529666164343979E-6},{"$f":"IF(1-ABS(J109)/Sheet2!B$22 >0, 1-ABS(J109)/Sheet2!B$22,0)","v":0},{"$f":"IF(1-J109/(Sheet2!B$23*2)>0,1-J109/(Sheet2!B$23*2),0)","v":0},{"$f":"IF(ABS(J109)<Sheet2!B$24/2, 1, 0)","v":0},{"$f":"IF(J109/(Sheet2!B$23*2)<1,J109/(Sheet2!B$23*2),0)","v":0}]
[43.5,0,0,0,0,1,0,0,null,43.5,{"$f":"EXP(-((J110)^2/(Sheet2!B$21^2*0.360673760222241)))","v":2.0126113013877715E-6},{"$f":"IF(1-ABS(J110)/Sheet2!B$22 >0, 1-ABS(J110)/Sheet2!B$22,0)","v":0},{"$f":"IF(1-J110/(Sheet2!B$23*2)>0,1-J110/(Sheet2!B$23*2),0)","v":0},{"$f":"IF(ABS(J110)<Sheet2!B$24/2, 1, 0)","v":0},{"$f":"IF(J110/(Sheet2!B$23*2)<1,J110/(Sheet2!B$23*2),0)","v":0}]
[44.5,0,0,0,0,1,0,0,null,44.5,{"$f":"EXP(-((J111)^2/(Sheet2!B$21^2*0.360673760222241)))","v":1.093587432966015E-6},{"$f":"IF(1-ABS(J111)/Sheet2!B$22 >0, 1-ABS(J111)/Sheet2!B$22,0)","v":0},{"$f":"IF(1-J111/(Sheet2!B$23*2)>0,1-J111/(Sheet2!B$23*2),0)","v":0},{"$f":"IF(ABS(J111)<Sheet2!B$24/2, 1, 0)","v":0},{"$f":"IF(J111/(Sheet2!B$23*2)<1,J111/(Sheet2!B$23*2),0)","v":0}]
[45.5,0,0,0,0,1,0,0,null,45.5,{"$f":"EXP(-((J112)^2/(Sheet2!B$21^2*0.360673760222241)))","v":5.8603899480808158E-7},{"$f":"IF(1-ABS(J112)/Sheet2!B$22 >0, 1-ABS(J112)/Sheet2!B$22,0)","v":0},{"$f":"IF(1-J112/(Sheet2!B$23*2)>0,1-J112/(Sheet2!B$23*2),0)","v":0},{"$f":"IF(ABS(J112)<Sheet2!B$24/2, 1, 0)","v":0},{"$f":"IF(J112/(Sheet2!B$23*2)<1,J112/(Sheet2!B$23*2),0)","v":0}]
[46.5,0,0,0,0,1,0,0,null,46.5,{"$f":"EXP(-((J113)^2/(Sheet2!B$21^2*0.360673760222241)))","v":3.097268949922998E-7},{"$f":"IF(1-ABS(J113)/Sheet2!B$22 >0, 1-ABS(J113)/Sheet2!B$22,0)","v":0},{"$f":"IF(1-J113/(Sheet2!B$23*2)>0,1-J113/(Sheet2!B$23*2),0)","v":0},{"$f":"IF(ABS(J113)<Sheet2!B$24/2, 1, 0)","v":0},{"$f":"IF(J113/(Sheet2!B$23*2)<1,J113/(Sheet2!B$23*2),0)","v":0}]
[47.5,0,0,0,0,1,0,0,null,47.5,{"$f":"EXP(-((J114)^2/(Sheet2!B$21^2*0.360673760222241)))","v":1.6143984162055291E-7},{"$f":"IF(1-ABS(J114)/Sheet2!B$22 >0, 1-ABS(J114)/Sheet2!B$22,0)","v":0},{"$f":"IF(1-J114/(Sheet2!B$23*2)>0,1-J114/(Sheet2!B$23*2),0)","v":0},{"$f":"IF(ABS(J114)<Sheet2!B$24/2, 1, 0)","v":0},{"$f":"IF(J114/(Sheet2!B$23*2)<1,J114/(Sheet2!B$23*2),0)","v":0}]
[48.5,0,0,0,0,1,0,0,null,48.5,{"$f":"EXP(-((J115)^2/(Sheet2!B$21^2*0.360673760222241)))","v":8.2989266671627924E-8},{"$f":"IF(1-ABS(J115)/Sheet2!B$22 >0, 1-ABS(J115)/Sheet2!B$22,0)","v":0},{"$f":"IF(1-J115/(Sheet2!B$23*2)>0,1-J115/(Sheet2!B$23*2),0)","v":0},{"$f":"IF(ABS(J115)<Sheet2!B$24/2, 1, 0)","v":0},{"$f":"IF(J115/(Sheet2!B$23*2)<1,J115/(Sheet2!B$23*2),0)","v":0}]
[49.5,0,0,0,0,1,0,0,null,49.5,{"$f":"EXP(-((J116)^2/(Sheet2!B$21^2*0.360673760222241)))","v":4.207387683125994E-8},{"$f":"IF(1-ABS(J116)/Sheet2!B$22 >0, 1-ABS(J116)/Sheet2!B$22,0)","v":0},{"$f":"IF(1-J116/(Sheet2!B$23*2)>0,1-J116/(Sheet2!B$23*2),0)","v":0},{"$f":"IF(ABS(J116)<Sheet2!B$24/2, 1, 0)","v":0},{"$f":"IF(J116/(Sheet2!B$23*2)<1,J116/(Sheet2!B$23*2),0)","v":0}]
[50.5,0,0,0,0,1,0,0,null,50.5,{"$f":"EXP(-((J117)^2/(Sheet2!B$21^2*0.360673760222241)))","v":2.1036938415630006E-8},{"$f":"IF(1-ABS(J117)/Sheet2!B$22 >0, 1-ABS(J117)/Sheet2!B$22,0)","v":0},{"$f":"IF(1-J117/(Sheet2!B$23*2)>0,1-J117/(Sheet2!B$23*2),0)","v":0},{"$f":"IF(ABS(J117)<Sheet2!B$24/2, 1, 0)","v":0},{"$f":"IF(J117/(Sheet2!B$23*2)<1,J117/(Sheet2!B$23*2),0)","v":0}]
[51.5,0,0,0,0,1,0,0,null,51.5,{"$f":"EXP(-((J118)^2/(Sheet2!B$21^2*0.360673760222241)))","v":1.0373658333953505E-8},{"$f":"IF(1-ABS(J118)/Sheet2!B$22 >0, 1-ABS(J118)/Sheet2!B$22,0)","v":0},{"$f":"IF(1-J118/(Sheet2!B$23*2)>0,1-J118/(Sheet2!B$23*2),0)","v":0},{"$f":"IF(ABS(J118)<Sheet2!B$24/2, 1, 0)","v":0},{"$f":"IF(J118/(Sheet2!B$23*2)<1,J118/(Sheet2!B$23*2),0)","v":0}]
[52.5,0,0,0,0,1,0,0,null,52.5,{"$f":"EXP(-((J119)^2/(Sheet2!B$21^2*0.360673760222241)))","v":5.044995050642285E-9},{"$f":"IF(1-ABS(J119)/Sheet2!B$22 >0, 1-ABS(J119)/Sheet2!B$22,0)","v":0},{"$f":"IF(1-J119/(Sheet2!B$23*2)>0,1-J119/(Sheet2!B$23*2),0)","v":0},{"$f":"IF(ABS(J119)<Sheet2!B$24/2, 1, 0)","v":0},{"$f":"IF(J119/(Sheet2!B$23*2)<1,J119/(Sheet2!B$23*2),0)","v":0}]
[53.5,0,0,0,0,1,0,0,null,53.5,{"$f":"EXP(-((J120)^2/(Sheet2!B$21^2*0.360673760222241)))","v":2.4197413671273492E-9},{"$f":"IF(1-ABS(J120)/Sheet2!B$22 >0, 1-ABS(J120)/Sheet2!B$22,0)","v":0},{"$f":"IF(1-J120/(Sheet2!B$23*2)>0,1-J120/(Sheet2!B$23*2),0)","v":0},{"$f":"IF(ABS(J120)<Sheet2!B$24/2, 1, 0)","v":0},{"$f":"IF(J120/(Sheet2!B$23*2)<1,J120/(Sheet2!B$23*2),0)","v":0}]
[54.5,0,0,0,0,1,0,0,null,54.5,{"$f":"EXP(-((J121)^2/(Sheet2!B$21^2*0.360673760222241)))","v":1.1446074117345377E-9},{"$f":"IF(1-ABS(J121)/Sheet2!B$22 >0, 1-ABS(J121)/Sheet2!B$22,0)","v":0},{"$f":"IF(1-J121/(Sheet2!B$23*2)>0,1-J121/(Sheet2!B$23*2),0)","v":0},{"$f":"IF(ABS(J121)<Sheet2!B$24/2, 1, 0)","v":0},{"$f":"IF(J121/(Sheet2!B$23*2)<1,J121/(Sheet2!B$23*2),0)","v":0}]
[55.5,0,0,0,0,1,0,0,null,55.5,{"$f":"EXP(-((J122)^2/(Sheet2!B$21^2*0.360673760222241)))","v":5.3397823875293937E-10},{"$f":"IF(1-ABS(J122)/Sheet2!B$22 >0, 1-ABS(J122)/Sheet2!B$22,0)","v":0},{"$f":"IF(1-J122/(Sheet2!B$23*2)>0,1-J122/(Sheet2!B$23*2),0)","v":0},{"$f":"IF(ABS(J122)<Sheet2!B$24/2, 1, 0)","v":0},{"$f":"IF(J122/(Sheet2!B$23*2)<1,J122/(Sheet2!B$23*2),0)","v":0}]
[56.5,0,0,0,0,1,0,0,null,56.5,{"$f":"EXP(-((J123)^2/(Sheet2!B$21^2*0.360673760222241)))","v":2.4568009050143757E-10},{"$f":"IF(1-ABS(J123)/Sheet2!B$22 >0, 1-ABS(J123)/Sheet2!B$22,0)","v":0},{"$f":"IF(1-J123/(Sheet2!B$23*2)>0,1-J123/(Sheet2!B$23*2),0)","v":0},{"$f":"IF(ABS(J123)<Sheet2!B$24/2, 1, 0)","v":0},{"$f":"IF(J123/(Sheet2!B$23*2)<1,J123/(Sheet2!B$23*2),0)","v":0}]
[57.5,0,0,0,0,1,0,0,null,57.5,{"$f":"EXP(-((J124)^2/(Sheet2!B$21^2*0.360673760222241)))","v":1.1147969410505449E-10},{"$f":"IF(1-ABS(J124)/Sheet2!B$22 >0, 1-ABS(J124)/Sheet2!B$22,0)","v":0},{"$f":"IF(1-J124/(Sheet2!B$23*2)>0,1-J124/(Sheet2!B$23*2),0)","v":0},{"$f":"IF(ABS(J124)<Sheet2!B$24/2, 1, 0)","v":0},{"$f":"IF(J124/(Sheet2!B$23*2)<1,J124/(Sheet2!B$23*2),0)","v":0}]
[58.5,0,0,0,0,1,0,0,null,58.5,{"$f":"EXP(-((J125)^2/(Sheet2!B$21^2*0.360673760222241)))","v":4.9888560561702402E-11},{"$f":"IF(1-ABS(J125)/Sheet2!B$22 >0, 1-ABS(J125)/Sheet2!B$22,0)","v":0},{"$f":"IF(1-J125/(Sheet2!B$23*2)>0,1-J125/(Sheet2!B$23*2),0)","v":0},{"$f":"IF(ABS(J125)<Sheet2!B$24/2, 1, 0)","v":0},{"$f":"IF(J125/(Sheet2!B$23*2)<1,J125/(Sheet2!B$23*2),0)","v":0}]
[59.5,0,0,0,0,1,0,0,null,59.5,{"$f":"EXP(-((J126)^2/(Sheet2!B$21^2*0.360673760222241)))","v":2.2018390944221302E-11},{"$f":"IF(1-ABS(J126)/Sheet2!B$22 >0, 1-ABS(J126)/Sheet2!B$22,0)","v":0},{"$f":"IF(1-J126/(Sheet2!B$23*2)>0,1-J126/(Sheet2!B$23*2),0)","v":0},{"$f":"IF(ABS(J126)<Sheet2!B$24/2, 1, 0)","v":0},{"$f":"IF(J126/(Sheet2!B$23*2)<1,J126/(Sheet2!B$23*2),0)","v":0}]
[60.5,0,0,0,0,1,0,0,null,60.5,{"$f":"EXP(-((J127)^2/(Sheet2!B$21^2*0.360673760222241)))","v":9.5840613196830658E-12},{"$f":"IF(1-ABS(J127)/Sheet2!B$22 >0, 1-ABS(J127)/Sheet2!B$22,0)","v":0},{"$f":"IF(1-J127/(Sheet2!B$23*2)>0,1-J127/(Sheet2!B$23*2),0)","v":0},{"$f":"IF(ABS(J127)<Sheet2!B$24/2, 1, 0)","v":0},{"$f":"IF(J127/(Sheet2!B$23*2)<1,J127/(Sheet2!B$23*2),0)","v":0}]
[61.5,0,0,0,0,1,0,0,null,61.5,{"$f":"EXP(-((J128)^2/(Sheet2!B$21^2*0.360673760222241)))","v":4.1142718948899479E-12},{"$f":"IF(1-ABS(J128)/Sheet2!B$22 >0, 1-ABS(J128)/Sheet2!B$22,0)","v":0},{"$f":"IF(1-J128/(Sheet2!B$23*2)>0,1-J128/(Sheet2!B$23*2),0)","v":0},{"$f":"IF(ABS(J128)<Sheet2!B$24/2, 1, 0)","v":0},{"$f":"IF(J128/(Sheet2!B$23*2)<1,J128/(Sheet2!B$23*2),0)","v":0}]
[62.5,0,0,0,0,1,0,0,null,62.5,{"$f":"EXP(-((J129)^2/(Sheet2!B$21^2*0.360673760222241)))","v":1.7418702203914756E-12},{"$f":"IF(1-ABS(J129)/Sheet2!B$22 >0, 1-ABS(J129)/Sheet2!B$22,0)","v":0},{"$f":"IF(1-J129/(Sheet2!B$23*2)>0,1-J129/(Sheet2!B$23*2),0)","v":0},{"$f":"IF(ABS(J129)<Sheet2!B$24/2, 1, 0)","v":0},{"$f":"IF(J129/(Sheet2!B$23*2)<1,J129/(Sheet2!B$23*2),0)","v":0}]
[63.5,0,0,0,0,0,0,0,null,63.5,{"$f":"EXP(-((J130)^2/(Sheet2!B$21^2*0.360673760222241)))","v":7.2730738913047625E-13},{"$f":"IF(1-ABS(J130)/Sheet2!B$22 >0, 1-ABS(J130)/Sheet2!B$22,0)","v":0},{"$f":"IF(1-J130/(Sheet2!B$23*2)>0,1-J130/(Sheet2!B$23*2),0)","v":0},{"$f":"IF(ABS(J130)<Sheet2!B$24/2, 1, 0)","v":0},{"$f":"IF(J130/(Sheet2!B$23*2)<1,J130/(Sheet2!B$23*2),0)","v":0}]
[null,null,null,{"$f":"SUM(D3:D130)","v":20},{"$f":"SUM(E3:E130)","v":0}]