{"text_format":"1","workbook":"xlsx","n_sheets":2,"sheets":["Sheet2","Sheet1"],"not_rendered":{"charts":2,"images":3,"macros":1,"external_links":0,"defined_names":0,"comments":0,"pivot_tables":0},"unopened":[],"bounds":{"document_bytes":16777216,"sheet_cells":100000,"rows_first":2000,"rows_last":500,"rows_between":2000,"halvings":0,"cell_chars":16384,"cell_head_chars":4096},"cells_cut":0,"cells_raw":0,"read":"whole","date_system":"1900"}

{"sheet":"Sheet2","index":0,"n_rows":27,"n_cols":9,"rows_kept":27,"cut":false,"hidden":false,"merged":[]}
[]
[]
[]
[]
[]
[]
[]
[]
[]
[]
[]
[]
[]
[]
[]
[]
[]
[]
[]
["Choose FWHM:",null,null,"Choose object:",null,"Choose response:",null,null,"Choose an object and a response function."]
["Gaussian",100,null,null,null,null,null,null,"Enter the FWHM of the function you want to choose"]
["Triangle 1",200,null,null,null,null,null,null,"into the appropriate cell (B21 - B24) before you choose it."]
["Triangle 2",160,null,null,null,null,null,null,"Then click the convolution button."]
["Rectangle",200,null,null,null,null,null,null,"Excel computes the Fourier transform of the object and the response,"]
[null,null,null,null,null,null,null,null,"multiplies these Fourier transforms, and then computes the"]
[null,null,null,null,null,null,null,null,"inverse Fourier transform of the product."]
[null,null,null,null,null,null,null,null,"The calculations are done on sheet 1."]

{"sheet":"Sheet1","index":1,"n_rows":1027,"n_cols":14,"rows_kept":1027,"cut":false,"hidden":false,"merged":[]}
[]
[null,"object","transform","response","transform","product","inv. transform","convolution",null,null,"Gaussian","Triangle 1","Triangle 2","Rectangle"]
[-511.5,0,"200",0,"200",{"$f":"IMPRODUCT(C3,E3,D$1027)","v":"200"},null,{"$f":"IMABS(G3)","v":0},null,-511.5,{"$f":"EXP(-((J3)^2/(Sheet2!B$21^2*0.360673760222241)))","v":3.1357249876799646E-32},{"$f":"IF(1-ABS(J3)/Sheet2!B$22 >0, 1-ABS(J3)/Sheet2!B$22,0)","v":0},0,{"$f":"IF(ABS(J3)<Sheet2!B$24/2, 1, 0)","v":0}]
[{"$f":"A3+1","v":-510.5},0,"-176.125859190182-0.540349063821177i",0,"-187.683701578044-0.575808191417715i",{"$f":"IMPRODUCT(C4,E4,D$1027)","v":"165.278210295048+1.0141471244219i"},null,0,null,{"$f":"J3+1","v":-510.5},{"$f":"EXP(-((J4)^2/(Sheet2!B$21^2*0.360673760222241)))","v":4.1629292403737952E-32},{"$f":"IF(1-ABS(J4)/Sheet2!B$22 >0, 1-ABS(J4)/Sheet2!B$22,0)","v":0},0,{"$f":"IF(ABS(J4)<Sheet2!B$24/2, 1, 0)","v":0}]
[{"$f":"A4+1","v":-509.5},0,"117.728220783034+0.722380381281328i",0,"153.445899771245+0.941544065182892i","90.3211630677982+1.10846307582808i",null,0,null,{"$f":"J4+1","v":-509.5},{"$f":"EXP(-((J5)^2/(Sheet2!B$21^2*0.360673760222241)))","v":5.5235624332397976E-32},{"$f":"IF(1-ABS(J5)/Sheet2!B$22 >0, 1-ABS(J5)/Sheet2!B$22,0)","v":0},0,{"$f":"IF(ABS(J5)<Sheet2!B$24/2, 1, 0)","v":0}]
[-508.5,0,"-54.8220674545023-0.504590237642289i",0,"-104.71109535718-0.963776065795289i","28.6999621045604+0.52836196490064i",null,0,null,-508.5,{"$f":"EXP(-((J6)^2/(Sheet2!B$21^2*0.360673760222241)))","v":7.324849088167613E-32},{"$f":"IF(1-ABS(J6)/Sheet2!B$22 >0, 1-ABS(J6)/Sheet2!B$22,0)","v":0},0,{"$f":"IF(ABS(J6)<Sheet2!B$24/2, 1, 0)","v":0}]
[-507.5,0,"13.3605316128196+0.163966621589324i",0,"51.692420358926+0.634393284163606i","3.45267098512513+0.084758315280283i",null,0,null,-507.5,{"$f":"EXP(-((J7)^2/(Sheet2!B$21^2*0.360673760222241)))","v":9.7081677431481077E-32},{"$f":"IF(1-ABS(J7)/Sheet2!B$22 >0, 1-ABS(J7)/Sheet2!B$22,0)","v":0},0,{"$f":"IF(ABS(J7)<Sheet2!B$24/2, 1, 0)","v":0}]
[-506.5,0,"-0.114973924740804-1.76381626646764E-003i",0,"-4.7952877857486-7.35645635996588E-002i","0.00275601651307622+0.0000845800659889712i",null,0,null,-506.5,{"$f":"EXP(-((J8)^2/(Sheet2!B$21^2*0.360673760222241)))","v":1.2859824387587485E-31},{"$f":"IF(1-ABS(J8)/Sheet2!B$22 >0, 1-ABS(J8)/Sheet2!B$22,0)","v":0},0,{"$f":"IF(ABS(J8)<Sheet2!B$24/2, 1, 0)","v":0}]
[-505.5,0,"3.89914514361485+7.17826728135623E-002i",0,"-27.9254190429249-0.514102744193179i","-0.544241791877757-0.020045612183399i",null,0,null,-505.5,{"$f":"EXP(-((J9)^2/(Sheet2!B$21^2*0.360673760222241)))","v":1.7025190505073822E-31},{"$f":"IF(1-ABS(J9)/Sheet2!B$22 >0, 1-ABS(J9)/Sheet2!B$22,0)","v":0},0,{"$f":"IF(ABS(J9)<Sheet2!B$24/2, 1, 0)","v":0}]
[-504.5,0,"-9.05799856507923-0.194557052136686i",0,"42.5628912671098+0.914209755703427i","-1.92678371034-0.0828091065534313i",null,0,null,-504.5,{"$f":"EXP(-((J10)^2/(Sheet2!B$21^2*0.360673760222241)))","v":2.2527245835308609E-31},{"$f":"IF(1-ABS(J10)/Sheet2!B$22 >0, 1-ABS(J10)/Sheet2!B$22,0)","v":0},0,{"$f":"IF(ABS(J10)<Sheet2!B$24/2, 1, 0)","v":0}]
[-503.5,0,"7.98111634542115+0.195925409171105i",0,"-39.9527629718425-0.980785280403198i","-1.59337744420969-0.0782776143277442i",null,0,null,-503.5,{"$f":"EXP(-((J11)^2/(Sheet2!B$21^2*0.360673760222241)))","v":2.9790884154138139E-31},{"$f":"IF(1-ABS(J11)/Sheet2!B$22 >0, 1-ABS(J11)/Sheet2!B$22,0)","v":0},0,{"$f":"IF(ABS(J11)<Sheet2!B$24/2, 1, 0)","v":0}]
[-502.5,0,"-3.11662098754186-8.60769371539642E-002i",0,"24.9664614534853+0.689540544737028i","-0.388758221062264-0.021490365334885i",null,0,null,-502.5,{"$f":"EXP(-((J12)^2/(Sheet2!B$21^2*0.360673760222241)))","v":3.9374754858227424E-31},{"$f":"IF(1-ABS(J12)/Sheet2!B$22 >0, 1-ABS(J12)/Sheet2!B$22,0)","v":0},0,{"$f":"IF(ABS(J12)<Sheet2!B$24/2, 1, 0)","v":0}]
[-501.5,0,"0.114297896929782+3.50771616166067E-003i",0,"-4.7811692488293-0.146730474455348i","-0.0027298145057494-0.000167709846457545i",null,0,null,-501.5,{"$f":"EXP(-((J13)^2/(Sheet2!B$21^2*0.360673760222241)))","v":5.2012952755566169E-31},{"$f":"IF(1-ABS(J13)/Sheet2!B$22 >0, 1-ABS(J13)/Sheet2!B$22,0)","v":0},0,{"$f":"IF(ABS(J13)<Sheet2!B$24/2, 1, 0)","v":0}]
[-500.5,0,"-0.886807713558488-2.99389785803193E-002i",0,"-13.3177153713274-0.449611329654578i","0.0589839590715079+0.00398718795240964i",null,0,null,-500.5,{"$f":"EXP(-((J14)^2/(Sheet2!B$21^2*0.360673760222241)))","v":6.866957056335711E-31},{"$f":"IF(1-ABS(J14)/Sheet2!B$22 >0, 1-ABS(J14)/Sheet2!B$22,0)","v":0},0,{"$f":"IF(ABS(J14)<Sheet2!B$24/2, 1, 0)","v":0}]
[-499.5,0,"2.86665058708272+0.105584993272407i",0,"23.9443128407675+0.881921264348318i","0.342734304057577+0.0252816011020484i",null,0,null,-499.5,{"$f":"EXP(-((J15)^2/(Sheet2!B$21^2*0.360673760222241)))","v":9.0610041587727504E-31},{"$f":"IF(1-ABS(J15)/Sheet2!B$22 >0, 1-ABS(J15)/Sheet2!B$22,0)","v":0},0,{"$f":"IF(ABS(J15)<Sheet2!B$24/2, 1, 0)","v":0}]
[-498.5,0,"-3.09289989596152-0.123421123172306i",0,"-24.8712681460415-0.992479534598645i","0.384009248612186+0.0306963984930406i",null,0,null,-498.5,{"$f":"EXP(-((J16)^2/(Sheet2!B$21^2*0.360673760222241)))","v":1.194943865377143E-30},{"$f":"IF(1-ABS(J16)/Sheet2!B$22 >0, 1-ABS(J16)/Sheet2!B$22,0)","v":0},0,{"$f":"IF(ABS(J16)<Sheet2!B$24/2, 1, 0)","v":0}]
[-497.5,0,"1.48613705303464+6.38710411123556E-002i",0,"17.2402845280152+0.740951125354911i","0.127870501610767+0.0110115492187761i",null,0,null,-497.5,{"$f":"EXP(-((J17)^2/(Sheet2!B$21^2*0.360673760222241)))","v":1.5749901943291027E-30},{"$f":"IF(1-ABS(J17)/Sheet2!B$22 >0, 1-ABS(J17)/Sheet2!B$22,0)","v":0},0,{"$f":"IF(ABS(J17)<Sheet2!B$24/2, 1, 0)","v":0}]
[-496.5,0,"-0.113178480836538-5.21208834065088E-003i",0,"-4.75769862089755-0.219101240156858i","0.00268663563586016+0.000247975455103328i",null,0,null,-496.5,{"$f":"EXP(-((J18)^2/(Sheet2!B$21^2*0.360673760222241)))","v":2.0747576785179561E-30},{"$f":"IF(1-ABS(J18)/Sheet2!B$22 >0, 1-ABS(J18)/Sheet2!B$22,0)","v":0},0,{"$f":"IF(ABS(J18)<Sheet2!B$24/2, 1, 0)","v":0}]
[-495.5,0,"0.303397147441404+1.49049460828385E-002i",0,"-7.78970021812656-0.382683432365083i","-0.0117883447483854-0.00116105061752652i",null,0,null,-495.5,{"$f":"EXP(-((J19)^2/(Sheet2!B$21^2*0.360673760222241)))","v":2.7315935768343811E-30},{"$f":"IF(1-ABS(J19)/Sheet2!B$22 >0, 1-ABS(J19)/Sheet2!B$22,0)","v":0},0,{"$f":"IF(ABS(J19)<Sheet2!B$24/2, 1, 0)","v":0}]
[-494.5,0,"-1.30962554791763-6.83659751158451E-002i",0,"16.18410051821+0.844853565249677i","-0.105686761354482-0.0110644181330028i",null,0,null,-494.5,{"$f":"EXP(-((J20)^2/(Sheet2!B$21^2*0.360673760222241)))","v":3.5943797686176648E-30},{"$f":"IF(1-ABS(J20)/Sheet2!B$22 >0, 1-ABS(J20)/Sheet2!B$22,0)","v":0},0,{"$f":"IF(ABS(J20)<Sheet2!B$24/2, 1, 0)","v":0}]
[-493.5,0,"1.63228013586519+9.02316518291745E-002i",0,"-18.0680941765598-0.998795456205137i","-0.147010341267436-0.0163031398295607i",null,0,null,-493.5,{"$f":"EXP(-((J21)^2/(Sheet2!B$21^2*0.360673760222241)))","v":4.7270589182632177E-30},{"$f":"IF(1-ABS(J21)/Sheet2!B$22 >0, 1-ABS(J21)/Sheet2!B$22,0)","v":0},0,{"$f":"IF(ABS(J21)<Sheet2!B$24/2, 1, 0)","v":0}]
[-492.5,0,"-0.912457431794959-5.3248626806862E-002i",0,"13.5089409784404+0.788346427626575i","-0.061421776133691-0.00719332556716887i",null,0,null,-492.5,{"$f":"EXP(-((J22)^2/(Sheet2!B$21^2*0.360673760222241)))","v":6.21322735561477E-30},{"$f":"IF(1-ABS(J22)/Sheet2!B$22 >0, 1-ABS(J22)/Sheet2!B$22,0)","v":0},0,{"$f":"IF(ABS(J22)<Sheet2!B$24/2, 1, 0)","v":0}]
[-491.5,0,"0.111626518615317+6.85792615510635E-003i",0,"-4.72496600231814-0.290284677254452i","-0.00262720377266968-0.000324034679292856i",null,0,null,-491.5,{"$f":"EXP(-((J23)^2/(Sheet2!B$21^2*0.360673760222241)))","v":8.1621139196972063E-30},{"$f":"IF(1-ABS(J23)/Sheet2!B$22 >0, 1-ABS(J23)/Sheet2!B$22,0)","v":0},0,{"$f":"IF(ABS(J23)<Sheet2!B$24/2, 1, 0)","v":0}]
[-490.5,0,"-0.118197175136321-7.62566617862032E-003i",0,"-4.8620402124274-0.313681740398881i","0.00286143693134753+0.00037076295606996i",null,0,null,-490.5,{"$f":"EXP(-((J24)^2/(Sheet2!B$21^2*0.360673760222241)))","v":1.0716358510356508E-29},{"$f":"IF(1-ABS(J24)/Sheet2!B$22 >0, 1-ABS(J24)/Sheet2!B$22,0)","v":0},0,{"$f":"IF(ABS(J24)<Sheet2!B$24/2, 1, 0)","v":0}]
[-489.5,0,"0.705927289163047+4.77191566475878E-002i",0,"11.8821487043634+0.803207531480618i","0.0417480231914411+0.00567006115333452i",null,0,null,-489.5,{"$f":"EXP(-((J25)^2/(Sheet2!B$21^2*0.360673760222241)))","v":1.4062126245532268E-29},{"$f":"IF(1-ABS(J25)/Sheet2!B$22 >0, 1-ABS(J25)/Sheet2!B$22,0)","v":0},0,{"$f":"IF(ABS(J25)<Sheet2!B$24/2, 1, 0)","v":0}]
[-488.5,0,"-1.00025232206714-7.06982990673473E-002i",0,"-14.1439196976447-0.999698818696162i","0.0703840575731941+0.00999951064768621i",null,0,null,-488.5,{"$f":"EXP(-((J26)^2/(Sheet2!B$21^2*0.360673760222241)))","v":1.8442250931563844E-29},{"$f":"IF(1-ABS(J26)/Sheet2!B$22 >0, 1-ABS(J26)/Sheet2!B$22,0)","v":0},0,{"$f":"IF(ABS(J26)<Sheet2!B$24/2, 1, 0)","v":0}]
[-487.5,0,"0.63528524427622+4.68614548986344E-002i",0,"11.2719585190526+0.831469612302527i","0.0356097252275563+0.00528220375759863i",null,0,null,-487.5,{"$f":"EXP(-((J27)^2/(Sheet2!B$21^2*0.360673760222241)))","v":2.4173305307344211E-29},{"$f":"IF(1-ABS(J27)/Sheet2!B$22 >0, 1-ABS(J27)/Sheet2!B$22,0)","v":0},0,{"$f":"IF(ABS(J27)<Sheet2!B$24/2, 1, 0)","v":0}]
[-486.5,0,"-0.109656984518861-8.42711671282044E-003i",0,"-4.68309693512421-0.359895036534976i","0.00255250705318998+0.000394650044497371i",null,0,null,-486.5,{"$f":"EXP(-((J28)^2/(Sheet2!B$21^2*0.360673760222241)))","v":3.1667758439905519E-29},{"$f":"IF(1-ABS(J28)/Sheet2!B$22 >0, 1-ABS(J28)/Sheet2!B$22,0)","v":0},0,{"$f":"IF(ABS(J28)<Sheet2!B$24/2, 1, 0)","v":0}]
[-485.5,0,"4.61976860353254E-002+3.69288652583736E-003i",0,"-3.03966070591158-0.242980179903256i","-0.000697639963566042-0.000112251220639778i",null,0,null,-485.5,{"$f":"EXP(-((J29)^2/(Sheet2!B$21^2*0.360673760222241)))","v":4.146271970689883E-29},{"$f":"IF(1-ABS(J29)/Sheet2!B$22 >0, 1-ABS(J29)/Sheet2!B$22,0)","v":0},0,{"$f":"IF(ABS(J29)<Sheet2!B$24/2, 1, 0)","v":0}]
[-484.5,0,"-0.415895450665059-3.45296969095077E-002i",0,"9.12025713086028+0.757208846506453i","-0.0188346362882664-0.00314919714465376i",null,0,null,-484.5,{"$f":"EXP(-((J30)^2/(Sheet2!B$21^2*0.360673760222241)))","v":5.4257205791333131E-29},{"$f":"IF(1-ABS(J30)/Sheet2!B$22 >0, 1-ABS(J30)/Sheet2!B$22,0)","v":0},0,{"$f":"IF(ABS(J30)<Sheet2!B$24/2, 1, 0)","v":0}]
[-483.5,0,"0.667761379570733+5.75041718372552E-002i",0,"-11.5564819869259-0.995184726672163i","-0.038298725405208-0.00664545926010329i",null,0,null,-483.5,{"$f":"EXP(-((J31)^2/(Sheet2!B$21^2*0.360673760222241)))","v":7.0960429987552719E-29},{"$f":"IF(1-ABS(J31)/Sheet2!B$22 >0, 1-ABS(J31)/Sheet2!B$22,0)","v":0},0,{"$f":"IF(ABS(J31)<Sheet2!B$24/2, 1, 0)","v":0}]
[-482.5,0,"-0.475667435737911-4.2432575038943E-002i",0,"9.75363968719231+0.870086991108672i","-0.0230128437378883-0.00413872047929588i",null,0,null,-482.5,{"$f":"EXP(-((J32)^2/(Sheet2!B$21^2*0.360673760222241)))","v":9.2754337707322156E-29},{"$f":"IF(1-ABS(J32)/Sheet2!B$22 >0, 1-ABS(J32)/Sheet2!B$22,0)","v":0},0,{"$f":"IF(ABS(J32)<Sheet2!B$24/2, 1, 0)","v":0}]
[-481.5,0,"0.107288784074918+9.90271427333896E-003i",0,"-4.63225180824269-0.427555093430258i","-0.00246377354054424-0.000458718660991777i",null,0,null,-481.5,{"$f":"EXP(-((J33)^2/(Sheet2!B$21^2*0.360673760222241)))","v":1.211745442883856E-28},{"$f":"IF(1-ABS(J33)/Sheet2!B$22 >0, 1-ABS(J33)/Sheet2!B$22,0)","v":0},0,{"$f":"IF(ABS(J33)<Sheet2!B$24/2, 1, 0)","v":0}]
[-480.5,0,"-1.60590915322789E-002-1.53195072362452E-003i",0,"-1.79215465471946-0.170961888760308i","0.000142592352254705+0.000027454926201388i",null,0,null,-480.5,{"$f":"EXP(-((J34)^2/(Sheet2!B$21^2*0.360673760222241)))","v":1.582150298242906E-28},{"$f":"IF(1-ABS(J34)/Sheet2!B$22 >0, 1-ABS(J34)/Sheet2!B$22,0)","v":0},0,{"$f":"IF(ABS(J34)<Sheet2!B$24/2, 1, 0)","v":0}]
[-479.5,0,"0.257717172299542+2.53829259690217E-002i",0,"7.17937563162067+0.707106781186541i","0.00916149973789233+0.00182233560161226i",null,0,null,-479.5,{"$f":"EXP(-((J35)^2/(Sheet2!B$21^2*0.360673760222241)))","v":2.0646348596796378E-28},{"$f":"IF(1-ABS(J35)/Sheet2!B$22 >0, 1-ABS(J35)/Sheet2!B$22,0)","v":0},0,{"$f":"IF(ABS(J35)<Sheet2!B$24/2, 1, 0)","v":0}]
[-478.5,0,"-0.470310554324307-4.77788830327076E-002i",0,"-9.69856230917036-0.985277642388927i","0.0225713037527215+0.0046338647415528i",null,0,null,-478.5,{"$f":"EXP(-((J36)^2/(Sheet2!B$21^2*0.360673760222241)))","v":2.6927618769925604E-28},{"$f":"IF(1-ABS(J36)/Sheet2!B$22 >0, 1-ABS(J36)/Sheet2!B$22,0)","v":0},0,{"$f":"IF(ABS(J36)<Sheet2!B$24/2, 1, 0)","v":0}]
[-477.5,0,"0.372804029303705+3.90291045824496E-002i",0,"8.63485992131541+0.903989293123434i","0.0159191433923836+0.00337010850923823i",null,0,null,-477.5,{"$f":"EXP(-((J37)^2/(Sheet2!B$21^2*0.360673760222241)))","v":3.5100380181991967E-28},{"$f":"IF(1-ABS(J37)/Sheet2!B$22 >0, 1-ABS(J37)/Sheet2!B$22,0)","v":0},0,{"$f":"IF(ABS(J37)<Sheet2!B$24/2, 1, 0)","v":0}]
[-476.5,0,"-0.104544501436948-1.12691932228864E-002i",0,"-4.57262509805767-0.492898192229776i","0.00236244123083533+0.000515297957658333i",null,0,null,-476.5,{"$f":"EXP(-((J38)^2/(Sheet2!B$21^2*0.360673760222241)))","v":4.5728280046590599E-28},{"$f":"IF(1-ABS(J38)/Sheet2!B$22 >0, 1-ABS(J38)/Sheet2!B$22,0)","v":0},0,{"$f":"IF(ABS(J38)<Sheet2!B$24/2, 1, 0)","v":0}]
[-475.5,0,"3.90595579938003E-003+4.33162340936949E-004i",0,"-0.883850190855828-9.80171403295593E-002i","-0.0000170491122239969-3.82850617708784E-06i",null,0,null,-475.5,{"$f":"EXP(-((J39)^2/(Sheet2!B$21^2*0.360673760222241)))","v":5.9541132263906013E-28},{"$f":"IF(1-ABS(J39)/Sheet2!B$22 >0, 1-ABS(J39)/Sheet2!B$22,0)","v":0},0,{"$f":"IF(ABS(J39)<Sheet2!B$24/2, 1, 0)","v":0}]
[-474.5,0,"-0.16412734876333-1.8711284363198E-002i",0,"5.72935159967199+0.653172842953763i","-0.0046406079269214-0.00107203526998207i",null,0,null,-474.5,{"$f":"EXP(-((J40)^2/(Sheet2!B$21^2*0.360673760222241)))","v":7.7483367535425124E-28},{"$f":"IF(1-ABS(J40)/Sheet2!B$22 >0, 1-ABS(J40)/Sheet2!B$22,0)","v":0},0,{"$f":"IF(ABS(J40)<Sheet2!B$24/2, 1, 0)","v":0}]
[-473.5,0,"0.343025784501861+4.01729858883371E-002i",0,"-8.28282300308108-0.970031253194523i","-0.0140112640333806-0.00332745731618372i",null,0,null,-473.5,{"$f":"EXP(-((J41)^2/(Sheet2!B$21^2*0.360673760222241)))","v":1.0077645144715271E-27},{"$f":"IF(1-ABS(J41)/Sheet2!B$22 >0, 1-ABS(J41)/Sheet2!B$22,0)","v":0},0,{"$f":"IF(ABS(J41)<Sheet2!B$24/2, 1, 0)","v":0}]
[-472.5,0,"-0.301119348960813-3.62020051046738E-002i",0,"7.76040397093844+0.932992798834713i","-0.0115151579066793-0.0028094218417024i",null,0,null,-472.5,{"$f":"EXP(-((J42)^2/(Sheet2!B$21^2*0.360673760222241)))","v":1.3099925090113285E-27},{"$f":"IF(1-ABS(J42)/Sheet2!B$22 >0, 1-ABS(J42)/Sheet2!B$22,0)","v":0},0,{"$f":"IF(ABS(J42)<Sheet2!B$24/2, 1, 0)","v":0}]
[-471.5,0,"0.101450098935586+1.25126762586125E-002i",0,"-4.50444444822181-0.555570233019596i","-0.00225012332228629-0.000563626551055043i",null,0,null,-471.5,{"$f":"EXP(-((J43)^2/(Sheet2!B$21^2*0.360673760222241)))","v":1.7019145006679168E-27},{"$f":"IF(1-ABS(J43)/Sheet2!B$22 >0, 1-ABS(J43)/Sheet2!B$22,0)","v":0},0,{"$f":"IF(ABS(J43)<Sheet2!B$24/2, 1, 0)","v":0}]
[-470.5,0,"-1.88320269335263E-004-2.3813862131851E-005i",0,"-0.194072290308128-2.45412285229102E-002i","1.79816622743736E-07+4.62161076513151E-08i",null,0,null,-470.5,{"$f":"EXP(-((J44)^2/(Sheet2!B$21^2*0.360673760222241)))","v":2.2098654954698704E-27},{"$f":"IF(1-ABS(J44)/Sheet2!B$22 >0, 1-ABS(J44)/Sheet2!B$22,0)","v":0},0,{"$f":"IF(ABS(J44)<Sheet2!B$24/2, 1, 0)","v":0}]
[-469.5,0,"0.105681720363422+1.36934232641101E-002i",0,"4.59742798450218+0.595699304492424i","0.0023885346796729+0.000629545273180531i",null,0,null,-469.5,{"$f":"EXP(-((J45)^2/(Sheet2!B$21^2*0.360673760222241)))","v":2.8678281231925276E-27},{"$f":"IF(1-ABS(J45)/Sheet2!B$22 >0, 1-ABS(J45)/Sheet2!B$22,0)","v":0},0,{"$f":"IF(ABS(J45)<Sheet2!B$24/2, 1, 0)","v":0}]
[-468.5,0,"-0.256029250318653-3.39732936456692E-002i",0,"-7.15582630195345-0.949528180593018i","0.00899921121897758+0.00243106988233666i",null,0,null,-468.5,{"$f":"EXP(-((J46)^2/(Sheet2!B$21^2*0.360673760222241)))","v":3.7196285603660132E-27},{"$f":"IF(1-ABS(J46)/Sheet2!B$22 >0, 1-ABS(J46)/Sheet2!B$22,0)","v":0},0,{"$f":"IF(ABS(J46)<Sheet2!B$24/2, 1, 0)","v":0}]
[-467.5,0,"0.248219600441595+3.37122624347079E-002i",0,"7.04584417144736+0.956940335732194i","0.00858328000638922+0.00237531347781891i",null,0,null,-467.5,{"$f":"EXP(-((J47)^2/(Sheet2!B$21^2*0.360673760222241)))","v":4.8217557168132645E-27},{"$f":"IF(1-ABS(J47)/Sheet2!B$22 >0, 1-ABS(J47)/Sheet2!B$22,0)","v":0},0,{"$f":"IF(ABS(J47)<Sheet2!B$24/2, 1, 0)","v":0}]
[-466.5,0,"-9.80345736031264E-002-1.36211338801421E-002i",0,"-4.42796959346189-0.615231590580614i","0.00212856979580027+0.000603139666497433i",null,0,null,-466.5,{"$f":"EXP(-((J48)^2/(Sheet2!B$21^2*0.360673760222241)))","v":6.2469784883876471E-27},{"$f":"IF(1-ABS(J48)/Sheet2!B$22 >0, 1-ABS(J48)/Sheet2!B$22,0)","v":0},0,{"$f":"IF(ABS(J48)<Sheet2!B$24/2, 1, 0)","v":0}]
[-465.5,0,"5.9641980713664E-004+8.47337652510338E-005i",0,"0.345375102494928+4.90676743274185E-002i","1.00915431610974E-06+2.92649328586797E-07i",null,0,null,-465.5,{"$f":"EXP(-((J49)^2/(Sheet2!B$21^2*0.360673760222241)))","v":8.0889843063163765E-27},{"$f":"IF(1-ABS(J49)/Sheet2!B$22 >0, 1-ABS(J49)/Sheet2!B$22,0)","v":0},0,{"$f":"IF(ABS(J49)<Sheet2!B$24/2, 1, 0)","v":0}]
[-464.5,0,"-6.78779767097722E-002-9.85601365103728E-003i",0,"3.68450747616945+0.534997619887079i","-0.00122411984404766-0.000363145559824769i",null,0,null,-464.5,{"$f":"EXP(-((J50)^2/(Sheet2!B$21^2*0.360673760222241)))","v":1.0468323889199326E-26},{"$f":"IF(1-ABS(J50)/Sheet2!B$22 >0, 1-ABS(J50)/Sheet2!B$22,0)","v":0},0,{"$f":"IF(ABS(J50)<Sheet2!B$24/2, 1, 0)","v":0}]
[-463.5,0,"0.19395797519053+2.87709477908252E-002i",0,"-6.2282898967619-0.923879532511277i","-0.0059072280374034-0.00179193803445861i",null,0,null,-463.5,{"$f":"EXP(-((J51)^2/(Sheet2!B$21^2*0.360673760222241)))","v":1.3540025604372849E-26},{"$f":"IF(1-ABS(J51)/Sheet2!B$22 >0, 1-ABS(J51)/Sheet2!B$22,0)","v":0},0,{"$f":"IF(ABS(J51)<Sheet2!B$24/2, 1, 0)","v":0}]
[-462.5,0,"-0.207460142763704-3.14245879277669E-002i",0,"6.44143062935091+0.975702130038514i","-0.00652839540295465-0.00202419303192644i",null,0,null,-462.5,{"$f":"EXP(-((J52)^2/(Sheet2!B$21^2*0.360673760222241)))","v":1.7503342701072292E-26},{"$f":"IF(1-ABS(J52)/Sheet2!B$22 >0, 1-ABS(J52)/Sheet2!B$22,0)","v":0},0,{"$f":"IF(ABS(J52)<Sheet2!B$24/2, 1, 0)","v":0}]
[-461.5,0,"9.43295761087024E-002+1.45845518280506E-002i",0,"-4.34349113291826-0.671558954847007i","-0.00199962645508765-0.00063347871542723i",null,0,null,-461.5,{"$f":"EXP(-((J53)^2/(Sheet2!B$21^2*0.360673760222241)))","v":2.261422362192515E-26},{"$f":"IF(1-ABS(J53)/Sheet2!B$22 >0, 1-ABS(J53)/Sheet2!B$22,0)","v":0},0,{"$f":"IF(ABS(J53)<Sheet2!B$24/2, 1, 0)","v":0}]
[-460.5,0,"-3.01050588396097E-003-4.74923911256056E-004i",0,"0.775951787671346+0.122410675199215i","-0.0000113893583290476-3.68518057946938E-06i",null,0,null,-460.5,{"$f":"EXP(-((J54)^2/(Sheet2!B$21^2*0.360673760222241)))","v":2.9201256883530821E-26},{"$f":"IF(1-ABS(J54)/Sheet2!B$22 >0, 1-ABS(J54)/Sheet2!B$22,0)","v":0},0,{"$f":"IF(ABS(J54)<Sheet2!B$24/2, 1, 0)","v":0}]
[-459.5,0,"4.29164415511039E-002+6.90531391722796E-003i",0,"2.92972495470487+0.471396736825991i","0.000612391136660309+0.000202306705033737i",null,0,null,-459.5,{"$f":"EXP(-((J55)^2/(Sheet2!B$21^2*0.360673760222241)))","v":3.7686046807931737E-26},{"$f":"IF(1-ABS(J55)/Sheet2!B$22 >0, 1-ABS(J55)/Sheet2!B$22,0)","v":0},0,{"$f":"IF(ABS(J55)<Sheet2!B$24/2, 1, 0)","v":0}]
[-458.5,0,"-0.148230278341904-2.43172239397764E-002i",0,"-5.44481915846426-0.8932243011955i","0.00392683162009934+0.00132402886787961i",null,0,null,-458.5,{"$f":"EXP(-((J56)^2/(Sheet2!B$21^2*0.360673760222241)))","v":4.8609236264866632E-26},{"$f":"IF(1-ABS(J56)/Sheet2!B$22 >0, 1-ABS(J56)/Sheet2!B$22,0)","v":0},0,{"$f":"IF(ABS(J56)<Sheet2!B$24/2, 1, 0)","v":0}]
[-457.5,0,"0.174997712429548+2.92600445195431E-002i",0,"5.9160411159751+0.989176509964765i","0.00503175156607769+0.00173103626432878i",null,0,null,-457.5,{"$f":"EXP(-((J57)^2/(Sheet2!B$21^2*0.360673760222241)))","v":6.2663722170015317E-26},{"$f":"IF(1-ABS(J57)/Sheet2!B$22 >0, 1-ABS(J57)/Sheet2!B$22,0)","v":0},0,{"$f":"IF(ABS(J57)<Sheet2!B$24/2, 1, 0)","v":0}]
[-456.5,0,"-9.03689981051656E-002-1.53950637115854E-002i",0,"-4.25132915933713-0.724247082951454i","0.00186519263379802+0.000654494832669138i",null,0,null,-456.5,{"$f":"EXP(-((J58)^2/(Sheet2!B$21^2*0.360673760222241)))","v":8.0737027223847918E-26},{"$f":"IF(1-ABS(J58)/Sheet2!B$22 >0, 1-ABS(J58)/Sheet2!B$22,0)","v":0},0,{"$f":"IF(ABS(J58)<Sheet2!B$24/2, 1, 0)","v":0}]
[-455.5,0,"6.3206260559565E-003+1.09673265908436E-003i",0,"1.12433322960329+0.195090322016124i","0.0000344626398949095+0.0000123309297259989i",null,0,null,-455.5,{"$f":"EXP(-((J59)^2/(Sheet2!B$21^2*0.360673760222241)))","v":1.0396532053001252E-25},{"$f":"IF(1-ABS(J59)/Sheet2!B$22 >0, 1-ABS(J59)/Sheet2!B$22,0)","v":0},0,{"$f":"IF(ABS(J59)<Sheet2!B$24/2, 1, 0)","v":0}]
[-454.5,0,"-2.63045030280911E-002-4.64743974322946E-003i",0,"2.29366532118721+0.405241314004983i","-0.000292251958991456-0.000106596713713521i",null,0,null,-454.5,{"$f":"EXP(-((J60)^2/(Sheet2!B$21^2*0.360673760222241)))","v":1.3380224961435665E-25},{"$f":"IF(1-ABS(J60)/Sheet2!B$22 >0, 1-ABS(J60)/Sheet2!B$22,0)","v":0},0,{"$f":"IF(ABS(J60)<Sheet2!B$24/2, 1, 0)","v":0}]
[-453.5,0,"0.11373082308712+2.04537992783077E-002i",0,"-4.7692939327979-0.857728610000258i","-0.00262435957848653-0.000975501808006998i",null,0,null,-453.5,{"$f":"EXP(-((J61)^2/(Sheet2!B$21^2*0.360673760222241)))","v":1.7210659389273329E-25},{"$f":"IF(1-ABS(J61)/Sheet2!B$22 >0, 1-ABS(J61)/Sheet2!B$22,0)","v":0},0,{"$f":"IF(ABS(J61)<Sheet2!B$24/2, 1, 0)","v":0}]
[-452.5,0,"-0.14847385197872-2.71726286315864E-002i",0,"5.44929081585324+0.997290456678669i","-0.00390989097382419-0.00148071555644697i",null,0,null,-452.5,{"$f":"EXP(-((J62)^2/(Sheet2!B$21^2*0.360673760222241)))","v":2.2125382127279E-25},{"$f":"IF(1-ABS(J62)/Sheet2!B$22 >0, 1-ABS(J62)/Sheet2!B$22,0)","v":0},0,{"$f":"IF(ABS(J62)<Sheet2!B$24/2, 1, 0)","v":0}]
[-451.5,0,"8.61885344500911E-002+1.60470467212869E-002i",0,"-4.15183175116913-0.773010453362721i","-0.00172717879527734-0.000666246380899334i",null,0,null,-451.5,{"$f":"EXP(-((J63)^2/(Sheet2!B$21^2*0.360673760222241)))","v":2.8427798376834238E-25},{"$f":"IF(1-ABS(J63)/Sheet2!B$22 >0, 1-ABS(J63)/Sheet2!B$22,0)","v":0},0,{"$f":"IF(ABS(J63)<Sheet2!B$24/2, 1, 0)","v":0}]
[-450.5,0,"-9.91914061553362E-003-1.87830370479524E-003i",0,"1.40848433541128+0.266712757474883i","-0.0000673499330861984-0.0000264556134534957i",null,0,null,-450.5,{"$f":"EXP(-((J64)^2/(Sheet2!B$21^2*0.360673760222241)))","v":3.6505209822682248E-25},{"$f":"IF(1-ABS(J64)/Sheet2!B$22 >0, 1-ABS(J64)/Sheet2!B$22,0)","v":0},0,{"$f":"IF(ABS(J64)<Sheet2!B$24/2, 1, 0)","v":0}]
[-449.5,0,"1.53072710166601E-002+2.94728286237534E-003i",0,"1.74970117543474+0.336889853392227i","0.000128951201995686+0.0000515686428863725i",null,0,null,-449.5,{"$f":"EXP(-((J65)^2/(Sheet2!B$21^2*0.360673760222241)))","v":4.6851731682398061E-25},{"$f":"IF(1-ABS(J65)/Sheet2!B$22 >0, 1-ABS(J65)/Sheet2!B$22,0)","v":0},0,{"$f":"IF(ABS(J65)<Sheet2!B$24/2, 1, 0)","v":0}]
[-448.5,0,"-8.72455406699179E-002-1.70761293971583E-002i",0,"-4.17721296248617-0.817584813151581i","0.00175241009671484+0.000713306290669122i",null,0,null,-448.5,{"$f":"EXP(-((J66)^2/(Sheet2!B$21^2*0.360673760222241)))","v":6.0097391475510446E-25},{"$f":"IF(1-ABS(J66)/Sheet2!B$22 >0, 1-ABS(J66)/Sheet2!B$22,0)","v":0},0,{"$f":"IF(ABS(J66)<Sheet2!B$24/2, 1, 0)","v":0}]
[-447.5,0,"0.12637071184544+2.51366974606289E-002i",0,"5.02733949212585+0.999999999999997i","0.00305085886424004+0.00126370711845439i",null,{"$f":"IMABS(G67)","v":0},null,-447.5,{"$f":"EXP(-((J67)^2/(Sheet2!B$21^2*0.360673760222241)))","v":7.7045055496179067E-25},{"$f":"IF(1-ABS(J67)/Sheet2!B$22 >0, 1-ABS(J67)/Sheet2!B$22,0)","v":0},0,{"$f":"IF(ABS(J67)<Sheet2!B$24/2, 1, 0)","v":0}]
[-446.5,0,"-8.18252271110715E-002-1.65371790124823E-002i",0,"-4.04537333533179-0.817584813151579i",{"$f":"IMPRODUCT(C68,E68,D$1027)","v":"0.00158746522749811+0.000668990630186977i"},null,0,null,-446.5,{"$f":"EXP(-((J68)^2/(Sheet2!B$21^2*0.360673760222241)))","v":9.871726141224545E-25},{"$f":"IF(1-ABS(J68)/Sheet2!B$22 >0, 1-ABS(J68)/Sheet2!B$22,0)","v":0},0,{"$f":"IF(ABS(J68)<Sheet2!B$24/2, 1, 0)","v":0}]
[{"$f":"A68+1","v":-445.5},0,"1.34639487799329E-002+2.7641344167357E-003i",0,"1.64097219841971+0.336889853392211i","0.000105813783952032+0.000045358677305551i",null,0,null,{"$f":"J68+1","v":-445.5},{"$f":"EXP(-((J69)^2/(Sheet2!B$21^2*0.360673760222241)))","v":1.2641557990185366E-24},{"$f":"IF(1-ABS(J69)/Sheet2!B$22 >0, 1-ABS(J69)/Sheet2!B$22,0)","v":0},0,{"$f":"IF(ABS(J69)<Sheet2!B$24/2, 1, 0)","v":0}]
[-444.5,0,"-8.18187462179889E-003-1.70590641247377E-003i",0,"1.27920871024174+0.266712757474891i","-0.00005005669139523-0.0000218221034169375i",null,0,null,-444.5,{"$f":"EXP(-((J70)^2/(Sheet2!B$21^2*0.360673760222241)))","v":1.6179581339651364E-24},{"$f":"IF(1-ABS(J70)/Sheet2!B$22 >0, 1-ABS(J70)/Sheet2!B$22,0)","v":0},0,{"$f":"IF(ABS(J70)<Sheet2!B$24/2, 1, 0)","v":0}]
[-443.5,0,"6.66641519706087E-002+1.41129092363593E-002i",0,"-3.65141484826382-0.773010453362731i","-0.00116254523992666-0.000515320863378421i",null,0,null,-443.5,{"$f":"EXP(-((J71)^2/(Sheet2!B$21^2*0.360673760222241)))","v":2.0696320164850377E-24},{"$f":"IF(1-ABS(J71)/Sheet2!B$22 >0, 1-ABS(J71)/Sheet2!B$22,0)","v":0},0,{"$f":"IF(ABS(J71)<Sheet2!B$24/2, 1, 0)","v":0}]
[-442.5,0,"-0.107672155278412-2.31397343360445E-002i",0,"4.6405205586961+0.997290456678679i","-0.00238288906972586-0.00107380412909183i",null,0,null,-442.5,{"$f":"EXP(-((J72)^2/(Sheet2!B$21^2*0.360673760222241)))","v":2.6459288678979165E-24},{"$f":"IF(1-ABS(J72)/Sheet2!B$22 >0, 1-ABS(J72)/Sheet2!B$22,0)","v":0},0,{"$f":"IF(ABS(J72)<Sheet2!B$24/2, 1, 0)","v":0}]
[-441.5,0,"7.73169977930789E-002+1.68644580593257E-002i",0,"-3.93235292905074-0.857728610000261i","-0.00144786297283695-0.000663170010464468i",null,0,null,-441.5,{"$f":"EXP(-((J73)^2/(Sheet2!B$21^2*0.360673760222241)))","v":3.3808225081469657E-24},{"$f":"IF(1-ABS(J73)/Sheet2!B$22 >0, 1-ABS(J73)/Sheet2!B$22,0)","v":0},0,{"$f":"IF(ABS(J73)<Sheet2!B$24/2, 1, 0)","v":0}]
[-440.5,0,"-1.67605858655478E-002-3.70973864950821E-003i",0,"1.83087879803858+0.405241314004984i","-0.000145916309694974-0.000067920818396484i",null,0,null,-440.5,{"$f":"EXP(-((J74)^2/(Sheet2!B$21^2*0.360673760222241)))","v":4.3174344598097673E-24},{"$f":"IF(1-ABS(J74)/Sheet2!B$22 >0, 1-ABS(J74)/Sheet2!B$22,0)","v":0},0,{"$f":"IF(ABS(J74)<Sheet2!B$24/2, 1, 0)","v":0}]
[-439.5,0,"3.77386438974143E-003+8.47449587860619E-004i",0,"0.868776655963941+0.195090322016126i","0.000015566580357964+7.36244419039708E-06i",null,0,null,-439.5,{"$f":"EXP(-((J75)^2/(Sheet2!B$21^2*0.360673760222241)))","v":5.5104658085886776E-24},{"$f":"IF(1-ABS(J75)/Sheet2!B$22 >0, 1-ABS(J75)/Sheet2!B$22,0)","v":0},0,{"$f":"IF(ABS(J75)<Sheet2!B$24/2, 1, 0)","v":0}]
[-438.5,0,"-5.05479042395574E-002-1.15139233477057E-002i",0,"-3.17955670619517-0.724247082951459i","0.000761905012555467+0.00036609172194812i",null,0,null,-438.5,{"$f":"EXP(-((J76)^2/(Sheet2!B$21^2*0.360673760222241)))","v":7.0292671068946122E-24},{"$f":"IF(1-ABS(J76)/Sheet2!B$22 >0, 1-ABS(J76)/Sheet2!B$22,0)","v":0},0,{"$f":"IF(ABS(J76)<Sheet2!B$24/2, 1, 0)","v":0}]
[-437.5,0,"9.16746373899896E-002+2.11779245720708E-002i",0,"4.28193034483246+0.989176509964772i","0.00185797853087605+0.000906823978657194i",null,0,null,-437.5,{"$f":"EXP(-((J77)^2/(Sheet2!B$21^2*0.360673760222241)))","v":8.9617114629489725E-24},{"$f":"IF(1-ABS(J77)/Sheet2!B$22 >0, 1-ABS(J77)/Sheet2!B$22,0)","v":0},0,{"$f":"IF(ABS(J77)<Sheet2!B$24/2, 1, 0)","v":0}]
[-436.5,0,"-7.27021764328181E-002-1.70301800026404E-002i",0,"-3.81319226981305-0.893224301195507i","0.00131007803270057+0.000649393507395948i",null,0,null,-436.5,{"$f":"EXP(-((J78)^2/(Sheet2!B$21^2*0.360673760222241)))","v":1.1419078104406372E-23},{"$f":"IF(1-ABS(J78)/Sheet2!B$22 >0, 1-ABS(J78)/Sheet2!B$22,0)","v":0},0,{"$f":"IF(ABS(J78)<Sheet2!B$24/2, 1, 0)","v":0}]
[-435.5,0,"1.97002980182474E-002+4.67851441637564E-003i",0,"1.9849583380135+0.471396736825994i","0.000184494171917991+0.000092866562003013i",null,0,null,-435.5,{"$f":"EXP(-((J79)^2/(Sheet2!B$21^2*0.360673760222241)))","v":1.4542206452952707E-23},{"$f":"IF(1-ABS(J79)/Sheet2!B$22 >0, 1-ABS(J79)/Sheet2!B$22,0)","v":0},0,{"$f":"IF(ABS(J79)<Sheet2!B$24/2, 1, 0)","v":0}]
[-434.5,0,"-1.29287354775503E-003-3.11230621904638E-004i",0,"0.508502418430739+0.122410675199213i","-3.09665687594272E-06-1.58261523928053E-06i",null,0,null,-434.5,{"$f":"EXP(-((J80)^2/(Sheet2!B$21^2*0.360673760222241)))","v":1.8509246721055321E-23},{"$f":"IF(1-ABS(J80)/Sheet2!B$22 >0, 1-ABS(J80)/Sheet2!B$22,0)","v":0},0,{"$f":"IF(ABS(J80)<Sheet2!B$24/2, 1, 0)","v":0}]
[-433.5,0,"3.78829839517983E-002+9.24253782757956E-003i",0,"-2.75256185949699-0.671558954847008i","-0.000490341738530167-0.000254406571091547i",null,0,null,-433.5,{"$f":"EXP(-((J81)^2/(Sheet2!B$21^2*0.360673760222241)))","v":2.3545415510972538E-23},{"$f":"IF(1-ABS(J81)/Sheet2!B$22 >0, 1-ABS(J81)/Sheet2!B$22,0)","v":0},0,{"$f":"IF(ABS(J81)<Sheet2!B$24/2, 1, 0)","v":0}]
[-432.5,0,"-7.7876369567221E-002-1.9253296720519E-002i",0,"3.94655215516542+0.975702130038511i","-0.0014427883576575-0.000759841396664037i",null,0,null,-432.5,{"$f":"EXP(-((J82)^2/(Sheet2!B$21^2*0.360673760222241)))","v":2.9935267920445764E-23},{"$f":"IF(1-ABS(J82)/Sheet2!B$22 >0, 1-ABS(J82)/Sheet2!B$22,0)","v":0},0,{"$f":"IF(ABS(J82)<Sheet2!B$24/2, 1, 0)","v":0}]
[-431.5,0,"6.80190326882019E-002+1.70378807332206E-002i",0,"-3.68833384302995-0.923879532511282i","-0.00117567975473632-0.000628413921218455i",null,0,null,-431.5,{"$f":"EXP(-((J83)^2/(Sheet2!B$21^2*0.360673760222241)))","v":3.8038126284569029E-23},{"$f":"IF(1-ABS(J83)/Sheet2!B$22 >0, 1-ABS(J83)/Sheet2!B$22,0)","v":0},0,{"$f":"IF(ABS(J83)<Sheet2!B$24/2, 1, 0)","v":0}]
[-430.5,0,"-2.22260263713122E-002-5.63985274398784E-003i",0,"2.1083655456922+0.534997619887093i","-0.000219216402121868-0.000118908712082007i",null,0,null,-430.5,{"$f":"EXP(-((J84)^2/(Sheet2!B$21^2*0.360673760222241)))","v":4.8307466173273546E-23},{"$f":"IF(1-ABS(J84)/Sheet2!B$22 >0, 1-ABS(J84)/Sheet2!B$22,0)","v":0},0,{"$f":"IF(ABS(J84)<Sheet2!B$24/2, 1, 0)","v":0}]
[-429.5,0,"1.82235882193088E-004+4.68379008636489E-005i",0,"0.190911436111711+4.90676743274184E-002i","1.62463435574048E-07+8.94189091827869E-08i",null,0,null,-429.5,{"$f":"EXP(-((J85)^2/(Sheet2!B$21^2*0.360673760222241)))","v":6.1315260391122314E-23},{"$f":"IF(1-ABS(J85)/Sheet2!B$22 >0, 1-ABS(J85)/Sheet2!B$22,0)","v":0},0,{"$f":"IF(ABS(J85)<Sheet2!B$24/2, 1, 0)","v":0}]
[-428.5,0,"-2.79336862701205E-002-7.27089302542149E-003i",0,"-2.36362798553902-0.615231590580619i","0.000307757797631762+0.000171856862347465i",null,0,null,-428.5,{"$f":"EXP(-((J86)^2/(Sheet2!B$21^2*0.360673760222241)))","v":7.778253112857292E-23},{"$f":"IF(1-ABS(J86)/Sheet2!B$22 >0, 1-ABS(J86)/Sheet2!B$22,0)","v":0},0,{"$f":"IF(ABS(J86)<Sheet2!B$24/2, 1, 0)","v":0}]
[-427.5,0,"6.59096330268969E-002+1.73717795610275E-002i",0,"3.63069230386979+0.956940335732202i","0.00111336920408121+0.00063071586356745i",null,0,null,-427.5,{"$f":"EXP(-((J87)^2/(Sheet2!B$21^2*0.360673760222241)))","v":9.8617671035109088E-23},{"$f":"IF(1-ABS(J87)/Sheet2!B$22 >0, 1-ABS(J87)/Sheet2!B$22,0)","v":0},0,{"$f":"IF(ABS(J87)<Sheet2!B$24/2, 1, 0)","v":0}]
[-426.5,0,"-6.33053174127197E-002-1.68932401526016E-002i",0,"-3.55823881752523-0.949528180593029i","0.00104607415093637+0.000601101828647634i",null,0,null,-426.5,{"$f":"EXP(-((J88)^2/(Sheet2!B$21^2*0.360673760222241)))","v":1.2496448061629924E-22},{"$f":"IF(1-ABS(J88)/Sheet2!B$22 >0, 1-ABS(J88)/Sheet2!B$22,0)","v":0},0,{"$f":"IF(ABS(J88)<Sheet2!B$24/2, 1, 0)","v":0}]
[-425.5,0,"2.43129801055387E-002+6.56797048610015E-003i",0,"2.2051294794425+0.595699304492429i","0.000248503668566629+0.000144832253390077i",null,0,null,-425.5,{"$f":"EXP(-((J89)^2/(Sheet2!B$21^2*0.360673760222241)))","v":1.5826235030613277E-22},{"$f":"IF(1-ABS(J89)/Sheet2!B$22 >0, 1-ABS(J89)/Sheet2!B$22,0)","v":0},0,{"$f":"IF(ABS(J89)<Sheet2!B$24/2, 1, 0)","v":0}]
[-424.5,0,"-4.02761159475741E-005-1.10129861469093E-005i",0,"-8.97508951879349E-002-2.45412285229159E-002i","1.67227262561841E-08+9.88425365431154E-09i",null,0,null,-424.5,{"$f":"EXP(-((J90)^2/(Sheet2!B$21^2*0.360673760222241)))","v":2.0032161347722124E-22},{"$f":"IF(1-ABS(J90)/Sheet2!B$22 >0, 1-ABS(J90)/Sheet2!B$22,0)","v":0},0,{"$f":"IF(ABS(J90)<Sheet2!B$24/2, 1, 0)","v":0}]
[-423.5,0,"2.01517439508541E-002+5.57673860952765E-003i",0,"-2.00757286048862-0.555570233019598i","-0.000186789121392329-0.00011195709082527i",null,0,null,-423.5,{"$f":"EXP(-((J91)^2/(Sheet2!B$21^2*0.360673760222241)))","v":2.5341783951586895E-22},{"$f":"IF(1-ABS(J91)/Sheet2!B$22 >0, 1-ABS(J91)/Sheet2!B$22,0)","v":0},0,{"$f":"IF(ABS(J91)<Sheet2!B$24/2, 1, 0)","v":0}]
[-422.5,0,"-5.54979744262702E-002-1.55418194745922E-002i",0,"3.33160545161842+0.93299279883473i","-0.000851984742508788-0.000517792104896224i",null,0,null,-422.5,{"$f":"EXP(-((J92)^2/(Sheet2!B$21^2*0.360673760222241)))","v":3.2040975848535228E-22},{"$f":"IF(1-ABS(J92)/Sheet2!B$22 >0, 1-ABS(J92)/Sheet2!B$22,0)","v":0},0,{"$f":"IF(ABS(J92)<Sheet2!B$24/2, 1, 0)","v":0}]
[-421.5,0,"5.85978208480917E-002+1.66039517207865E-002i",0,"-3.42338489942597-0.970031253194535i","-0.000922482714674647-0.000568417175917408i",null,0,null,-421.5,{"$f":"EXP(-((J93)^2/(Sheet2!B$21^2*0.360673760222241)))","v":4.048866535193073E-22},{"$f":"IF(1-ABS(J93)/Sheet2!B$22 >0, 1-ABS(J93)/Sheet2!B$22,0)","v":0},0,{"$f":"IF(ABS(J93)<Sheet2!B$24/2, 1, 0)","v":0}]
[-420.5,0,"-2.59571429714807E-002-7.44117582572929E-003i",0,"2.27847067005375+0.653172842953768i","-0.000271411074849501-0.000169545008696383i",null,0,null,-420.5,{"$f":"EXP(-((J94)^2/(Sheet2!B$21^2*0.360673760222241)))","v":5.1135247659842157E-22},{"$f":"IF(1-ABS(J94)/Sheet2!B$22 >0, 1-ABS(J94)/Sheet2!B$22,0)","v":0},0,{"$f":"IF(ABS(J94)<Sheet2!B$24/2, 1, 0)","v":0}]
[-419.5,0,"5.7120784004098E-004+1.65647204005576E-004i",0,"-0.337996402359188-9.80171403295567E-002i","-8.84149648465003E-07-5.59881590146914E-07i",null,0,null,-419.5,{"$f":"EXP(-((J95)^2/(Sheet2!B$21^2*0.360673760222241)))","v":6.4545570271192458E-22},{"$f":"IF(1-ABS(J95)/Sheet2!B$22 >0, 1-ABS(J95)/Sheet2!B$22,0)","v":0},0,{"$f":"IF(ABS(J95)<Sheet2!B$24/2, 1, 0)","v":0}]
[-418.5,0,"-1.41185645260361E-002-4.14130769176198E-003i",0,"-1.68039070016625-0.492898192229784i","0.000108417307272557+0.0000695901493176327i",null,0,null,-418.5,{"$f":"EXP(-((J96)^2/(Sheet2!B$21^2*0.360673760222241)))","v":8.1427611661693975E-22},{"$f":"IF(1-ABS(J96)/Sheet2!B$22 >0, 1-ABS(J96)/Sheet2!B$22,0)","v":0},0,{"$f":"IF(ABS(J96)<Sheet2!B$24/2, 1, 0)","v":0}]
[-417.5,0,"4.64283208979492E-002+1.37733561515196E-002i",0,"3.04723877954866+0.903989293123439i","0.000645136067091053+0.000419707049894455i",null,0,null,-417.5,{"$f":"EXP(-((J97)^2/(Sheet2!B$21^2*0.360673760222241)))","v":1.0266824240335285E-21},{"$f":"IF(1-ABS(J97)/Sheet2!B$22 >0, 1-ABS(J97)/Sheet2!B$22,0)","v":0},0,{"$f":"IF(ABS(J97)<Sheet2!B$24/2, 1, 0)","v":0}]
[-416.5,0,"-5.39319538998723E-002-1.61795600232286E-002i",0,"-3.28426411544012-0.985277642388941i","0.000805927110571722+0.000531379483878972i",null,0,null,-416.5,{"$f":"EXP(-((J98)^2/(Sheet2!B$21^2*0.360673760222241)))","v":1.2937779164343292E-21},{"$f":"IF(1-ABS(J98)/Sheet2!B$22 >0, 1-ABS(J98)/Sheet2!B$22,0)","v":0},0,{"$f":"IF(ABS(J98)<Sheet2!B$24/2, 1, 0)","v":0}]
[-415.5,0,"2.71682400622969E-002+8.24139552234586E-003i",0,"2.33101866411647+0.707106781186545i","0.000287510639980599+0.000192108467809541i",null,0,null,-415.5,{"$f":"EXP(-((J99)^2/(Sheet2!B$21^2*0.360673760222241)))","v":1.6294555447729507E-21},{"$f":"IF(1-ABS(J99)/Sheet2!B$22 >0, 1-ABS(J99)/Sheet2!B$22,0)","v":0},0,{"$f":"IF(ABS(J99)<Sheet2!B$24/2, 1, 0)","v":0}]
[-414.5,0,"-1.55360574181211E-003-4.76491017687491E-004i",0,"-0.557423670435694-0.1709618887603i","3.92277405324852E-06+2.65607372009023E-06i",null,0,null,-414.5,{"$f":"EXP(-((J100)^2/(Sheet2!B$21^2*0.360673760222241)))","v":2.0510888558902202E-21},{"$f":"IF(1-ABS(J100)/Sheet2!B$22 >0, 1-ABS(J100)/Sheet2!B$22,0)","v":0},0,{"$f":"IF(ABS(J100)<Sheet2!B$24/2, 1, 0)","v":0}]
[-413.5,0,"9.50743189174076E-003+2.94787251673764E-003i",0,"-1.37894393589709-0.427555093430281i","-0.000059249188218781-0.0000406495093075416i",null,0,null,-413.5,{"$f":"EXP(-((J101)^2/(Sheet2!B$21^2*0.360673760222241)))","v":2.5803915411549512E-21},{"$f":"IF(1-ABS(J101)/Sheet2!B$22 >0, 1-ABS(J101)/Sheet2!B$22,0)","v":0},0,{"$f":"IF(ABS(J101)<Sheet2!B$24/2, 1, 0)","v":0}]
[-412.5,0,"-3.85323515764984E-002-1.20770380539062E-002i",0,"2.77605301017442+0.870086991108702i","-0.000482298884406044-0.000335264978435377i",null,0,null,-412.5,{"$f":"EXP(-((J102)^2/(Sheet2!B$21^2*0.360673760222241)))","v":3.2444861166020836E-21},{"$f":"IF(1-ABS(J102)/Sheet2!B$22 >0, 1-ABS(J102)/Sheet2!B$22,0)","v":0},0,{"$f":"IF(ABS(J102)<Sheet2!B$24/2, 1, 0)","v":0}]
[-411.5,0,"4.93413583865543E-002+1.56312696547008E-002i",0,"-3.1413805368517-0.995184726672192i","-0.000697219910392467-0.000491037662595577i",null,0,null,-411.5,{"$f":"EXP(-((J103)^2/(Sheet2!B$21^2*0.360673760222241)))","v":4.0772318365904308E-21},{"$f":"IF(1-ABS(J103)/Sheet2!B$22 >0, 1-ABS(J103)/Sheet2!B$22,0)","v":0},0,{"$f":"IF(ABS(J103)<Sheet2!B$24/2, 1, 0)","v":0}]
[-410.5,0,"-2.79652839954437E-002-8.9538599755042E-003i",0,"2.36496443928612+0.757208846506478i","-0.000296784800999648-0.000211755604364154i",null,0,null,-410.5,{"$f":"EXP(-((J104)^2/(Sheet2!B$21^2*0.360673760222241)))","v":5.1208737546388525E-21},{"$f":"IF(1-ABS(J104)/Sheet2!B$22 >0, 1-ABS(J104)/Sheet2!B$22,0)","v":0},0,{"$f":"IF(ABS(J104)<Sheet2!B$24/2, 1, 0)","v":0}]
[-409.5,0,"2.81963354649452E-003+9.12330483119799E-004i",0,"-0.750950537184728-0.242980179903261i","-9.47863550742231E-06-6.85115066388662E-06i",null,0,null,-409.5,{"$f":"EXP(-((J105)^2/(Sheet2!B$21^2*0.360673760222241)))","v":6.4280893950925173E-21},{"$f":"IF(1-ABS(J105)/Sheet2!B$22 >0, 1-ABS(J105)/Sheet2!B$22,0)","v":0},0,{"$f":"IF(ABS(J105)<Sheet2!B$24/2, 1, 0)","v":0}]
[-408.5,0,"-6.05819178049478E-003-1.98076232996489E-003i",0,"-1.10074445540151-0.359895036534986i","0.000029778272405144+0.0000218031315217707i",null,0,null,-408.5,{"$f":"EXP(-((J106)^2/(Sheet2!B$21^2*0.360673760222241)))","v":8.06452741146067E-21},{"$f":"IF(1-ABS(J106)/Sheet2!B$22 >0, 1-ABS(J106)/Sheet2!B$22,0)","v":0},0,{"$f":"IF(ABS(J106)<Sheet2!B$24/2, 1, 0)","v":0}]
[-407.5,0,"3.16737880983629E-002+1.04636062191591E-002i",0,"2.51689443951715+0.83146961230254i","0.000355097052684417+0.000263357923102986i",null,0,null,-407.5,{"$f":"EXP(-((J107)^2/(Sheet2!B$21^2*0.360673760222241)))","v":1.0111954645026337E-20},{"$f":"IF(1-ABS(J107)/Sheet2!B$22 >0, 1-ABS(J107)/Sheet2!B$22,0)","v":0},0,{"$f":"IF(ABS(J107)<Sheet2!B$24/2, 1, 0)","v":0}]
[-406.5,0,"-4.48575515852509E-002-1.49717292158529E-002i",0,"-2.99524795585435-0.999698818696197i","0.000596961348397132+0.000448440413293836i",null,0,null,-406.5,{"$f":"EXP(-((J108)^2/(Sheet2!B$21^2*0.360673760222241)))","v":1.2672155094194019E-20},{"$f":"IF(1-ABS(J108)/Sheet2!B$22 >0, 1-ABS(J108)/Sheet2!B$22,0)","v":0},0,{"$f":"IF(ABS(J108)<Sheet2!B$24/2, 1, 0)","v":0}]
[-405.5,0,"2.83736494642466E-002+9.56688104105834E-003i",0,"2.38216915706014+0.80320753148064i","0.000299533208610034+0.000227899289452735i",null,0,null,-405.5,{"$f":"EXP(-((J109)^2/(Sheet2!B$21^2*0.360673760222241)))","v":1.5871757601900229E-20},{"$f":"IF(1-ABS(J109)/Sheet2!B$22 >0, 1-ABS(J109)/Sheet2!B$22,0)","v":0},0,{"$f":"IF(ABS(J109)<Sheet2!B$24/2, 1, 0)","v":0}]
[-404.5,0,"-4.24103216707248E-003-1.44447498180926E-003i",0,"-0.920981234018186-0.313681740398893i","0.0000172640280624232+0.0000133033435125504i",null,0,null,-404.5,{"$f":"EXP(-((J110)^2/(Sheet2!B$21^2*0.360673760222241)))","v":1.9868209958673305E-20},{"$f":"IF(1-ABS(J110)/Sheet2!B$22 >0, 1-ABS(J110)/Sheet2!B$22,0)","v":0},0,{"$f":"IF(ABS(J110)<Sheet2!B$24/2, 1, 0)","v":0}]
[-403.5,0,"3.55995310409485E-003+1.22470432841767E-003i",0,"-0.843795366672942-0.290284677254459i","-0.0000132417951705066-0.0000103339983786316i",null,0,null,-403.5,{"$f":"EXP(-((J111)^2/(Sheet2!B$21^2*0.360673760222241)))","v":2.4857167303344043E-20},{"$f":"IF(1-ABS(J111)/Sheet2!B$22 >0, 1-ABS(J111)/Sheet2!B$22,0)","v":0},0,{"$f":"IF(ABS(J111)<Sheet2!B$24/2, 1, 0)","v":0}]
[-402.5,0,"-2.57395730258481E-002-8.94340247197652E-003i",0,"2.26890162968085+0.788346427626597i","-0.000256750298980132-0.000202917004435603i",null,0,null,-402.5,{"$f":"EXP(-((J112)^2/(Sheet2!B$21^2*0.360673760222241)))","v":3.1081624256501871E-20},{"$f":"IF(1-ABS(J112)/Sheet2!B$22 >0, 1-ABS(J112)/Sheet2!B$22,0)","v":0},0,{"$f":"IF(ABS(J112)<Sheet2!B$24/2, 1, 0)","v":0}]
[-401.5,0,"4.0509609742762E-002+1.42147946381769E-002i",0,"-2.84638752606716-0.998795456205162i","-0.000505541877810729-0.000404608141437141i",null,0,null,-401.5,{"$f":"EXP(-((J113)^2/(Sheet2!B$21^2*0.360673760222241)))","v":3.8843195672420901E-20},{"$f":"IF(1-ABS(J113)/Sheet2!B$22 >0, 1-ABS(J113)/Sheet2!B$22,0)","v":0},0,{"$f":"IF(ABS(J113)<Sheet2!B$24/2, 1, 0)","v":0}]
[-400.5,0,"-2.84230730975518E-002-1.00716809385697E-002i",0,"2.38424298667468+0.844853565249697i","-0.000296292085717858-0.000240133346418146i",null,0,null,-400.5,{"$f":"EXP(-((J114)^2/(Sheet2!B$21^2*0.360673760222241)))","v":4.8516043324040718E-20},{"$f":"IF(1-ABS(J114)/Sheet2!B$22 >0, 1-ABS(J114)/Sheet2!B$22,0)","v":0},0,{"$f":"IF(ABS(J114)<Sheet2!B$24/2, 1, 0)","v":0}]
[-399.5,0,"5.71945653851197E-003+2.04645427228936E-003i",0,"-1.06952854459446-0.382683432365091i","-0.0000266698894120404-0.0000218874125942074i",null,0,null,-399.5,{"$f":"EXP(-((J115)^2/(Sheet2!B$21^2*0.360673760222241)))","v":6.0564058993234229E-20},{"$f":"IF(1-ABS(J115)/Sheet2!B$22 >0, 1-ABS(J115)/Sheet2!B$22,0)","v":0},0,{"$f":"IF(ABS(J115)<Sheet2!B$24/2, 1, 0)","v":0}]
[-398.5,0,"-1.83905713765017E-003-6.64396673254259E-004i",0,"-0.606474589352341-0.219101240156868i","4.84885643642886E-06+4.02939699578715E-06i",null,0,null,-398.5,{"$f":"EXP(-((J116)^2/(Sheet2!B$21^2*0.360673760222241)))","v":7.556205288816766E-20},{"$f":"IF(1-ABS(J116)/Sheet2!B$22 >0, 1-ABS(J116)/Sheet2!B$22,0)","v":0},0,{"$f":"IF(ABS(J116)<Sheet2!B$24/2, 1, 0)","v":0}]
[-397.5,0,"2.06336641944307E-002+7.52597451385778E-003i",0,"2.03143615181119+0.740951125354955i","0.000181697960517315+0.0001528853670506i",null,0,null,-397.5,{"$f":"EXP(-((J117)^2/(Sheet2!B$21^2*0.360673760222241)))","v":9.4221865599262659E-20},{"$f":"IF(1-ABS(J117)/Sheet2!B$22 >0, 1-ABS(J117)/Sheet2!B$22,0)","v":0},0,{"$f":"IF(ABS(J117)<Sheet2!B$24/2, 1, 0)","v":0}]
[-396.5,0,"-3.63238944999651E-002-1.33752763899188E-002i",0,"-2.69532537924315-0.992479534598705i","0.000423150133160555+0.000360507219081388i",null,0,null,-396.5,{"$f":"EXP(-((J118)^2/(Sheet2!B$21^2*0.360673760222241)))","v":1.1742452867670189E-19},{"$f":"IF(1-ABS(J118)/Sheet2!B$22 >0, 1-ABS(J118)/Sheet2!B$22,0)","v":0},0,{"$f":"IF(ABS(J118)<Sheet2!B$24/2, 1, 0)","v":0}]
[-395.5,0,"2.81462250116266E-002+1.04622451940253E-002i",0,"2.37260300141534+0.881921264348355i","0.000287764707158298+0.000248227543488873i",null,0,null,-395.5,{"$f":"EXP(-((J119)^2/(Sheet2!B$21^2*0.360673760222241)))","v":1.4625985155194649E-19},{"$f":"IF(1-ABS(J119)/Sheet2!B$22 >0, 1-ABS(J119)/Sheet2!B$22,0)","v":0},0,{"$f":"IF(ABS(J119)<Sheet2!B$24/2, 1, 0)","v":0}]
[-394.5,0,"-7.17966704639122E-003-2.6938561488921E-003i",0,"-1.19830438924239-0.449611329654608i","0.0000369611914499396+0.0000322805964720517i",null,0,null,-394.5,{"$f":"EXP(-((J120)^2/(Sheet2!B$21^2*0.360673760222241)))","v":1.8207512086783982E-19},{"$f":"IF(1-ABS(J120)/Sheet2!B$22 >0, 1-ABS(J120)/Sheet2!B$22,0)","v":0},0,{"$f":"IF(ABS(J120)<Sheet2!B$24/2, 1, 0)","v":0}]
[-393.5,0,"7.50579441008107E-004+2.84252083264976E-004i",0,"-0.387447916758935-0.146730474455358i","-1.24550998869142E-06-0.0000011013287749548i",null,0,null,-393.5,{"$f":"EXP(-((J121)^2/(Sheet2!B$21^2*0.360673760222241)))","v":2.2653497437438887E-19},{"$f":"IF(1-ABS(J121)/Sheet2!B$22 >0, 1-ABS(J121)/Sheet2!B$22,0)","v":0},0,{"$f":"IF(ABS(J121)<Sheet2!B$24/2, 1, 0)","v":0}]
[-392.5,0,"-1.62726273208355E-002-6.21976031351124E-003i",0,"1.80403033903683+0.68954054473706i","-0.000125337682339572-0.000112206363071118i",null,0,null,-392.5,{"$f":"EXP(-((J122)^2/(Sheet2!B$21^2*0.360673760222241)))","v":2.8169496999208125E-19},{"$f":"IF(1-ABS(J122)/Sheet2!B$22 >0, 1-ABS(J122)/Sheet2!B$22,0)","v":0},0,{"$f":"IF(ABS(J122)<Sheet2!B$24/2, 1, 0)","v":0}]
[-391.5,0,"3.23238253955254E-002+1.24686753597706E-002i",0,"-2.5425902302778-0.980785280403232i","-0.000349785746984394-0.000317027321542569i",null,0,null,-391.5,{"$f":"EXP(-((J123)^2/(Sheet2!B$21^2*0.360673760222241)))","v":3.5009192912665451E-19},{"$f":"IF(1-ABS(J123)/Sheet2!B$22 >0, 1-ABS(J123)/Sheet2!B$22,0)","v":0},0,{"$f":"IF(ABS(J123)<Sheet2!B$24/2, 1, 0)","v":0}]
[-390.5,0,"-2.75776411555494E-002-1.07351819997533E-002i",0,"2.34851617646301+0.914209755703534i","-0.000274761641245362-0.000252117485836948i",null,0,null,-390.5,{"$f":"EXP(-((J124)^2/(Sheet2!B$21^2*0.360673760222241)))","v":4.3485481324506083E-19},{"$f":"IF(1-ABS(J124)/Sheet2!B$22 >0, 1-ABS(J124)/Sheet2!B$22,0)","v":0},0,{"$f":"IF(ABS(J124)<Sheet2!B$24/2, 1, 0)","v":0}]
[-389.5,0,"8.56462816601154E-003+3.36425712321097E-003i",0,"-1.30878784881332-0.514102744193228i","-0.0000473985372703292-0.0000440309884314166i",null,0,null,-389.5,{"$f":"EXP(-((J125)^2/(Sheet2!B$21^2*0.360673760222241)))","v":5.3984071998487144E-19},{"$f":"IF(1-ABS(J125)/Sheet2!B$22 >0, 1-ABS(J125)/Sheet2!B$22,0)","v":0},0,{"$f":"IF(ABS(J125)<Sheet2!B$24/2, 1, 0)","v":0}]
[-388.5,0,"-1.72242759775909E-004-6.82690961215876E-005i",0,"-0.185603211056368-7.35645635996655E-002i","1.34733115160456E-07+1.26709634560996E-07i",null,0,null,-388.5,{"$f":"EXP(-((J126)^2/(Sheet2!B$21^2*0.360673760222241)))","v":6.6980159096935817E-19},{"$f":"IF(1-ABS(J126)/Sheet2!B$22 >0, 1-ABS(J126)/Sheet2!B$22,0)","v":0},0,{"$f":"IF(ABS(J126)<Sheet2!B$24/2, 1, 0)","v":0}]
[-387.5,0,"1.25824885114406E-002+5.03184031344107E-003i",0,"1.58634728300173+0.634393284163651i","0.0000838401538084667+0.0000798224620972501i",null,0,null,-387.5,{"$f":"EXP(-((J127)^2/(Sheet2!B$21^2*0.360673760222241)))","v":8.3058844585012812E-19},{"$f":"IF(1-ABS(J127)/Sheet2!B$22 >0, 1-ABS(J127)/Sheet2!B$22,0)","v":0},0,{"$f":"IF(ABS(J127)<Sheet2!B$24/2, 1, 0)","v":0}]
[-386.5,0,"-2.85297007934815E-002-1.15109123659793E-002i",0,"-2.38871098266234-0.963776065795457i","0.0002852763389183+0.000274962427890708i",null,0,null,-386.5,{"$f":"EXP(-((J128)^2/(Sheet2!B$21^2*0.360673760222241)))","v":1.0294014415480321E-18},{"$f":"IF(1-ABS(J128)/Sheet2!B$22 >0, 1-ABS(J128)/Sheet2!B$22,0)","v":0},0,{"$f":"IF(ABS(J128)<Sheet2!B$24/2, 1, 0)","v":0}]
[-385.5,0,"2.6752889153638E-002+1.08895766822278E-002i",0,"2.31313160687341+0.941544065183048i","0.000258149685894768+0.000251890240091203i",null,0,null,-385.5,{"$f":"EXP(-((J129)^2/(Sheet2!B$21^2*0.360673760222241)))","v":1.2750958572859359E-18},{"$f":"IF(1-ABS(J129)/Sheet2!B$22 >0, 1-ABS(J129)/Sheet2!B$22,0)","v":0},0,{"$f":"IF(ABS(J129)<Sheet2!B$24/2, 1, 0)","v":0}]
[-384.5,0,"-9.83190118151207E-003-4.0372123532286E-003i",0,"-1.4022768044455-0.575808191417887i","0.0000573119351347609+0.0000566128923753957i",null,0,null,-384.5,{"$f":"EXP(-((J130)^2/(Sheet2!B$21^2*0.360673760222241)))","v":1.5785562912070401E-18},{"$f":"IF(1-ABS(J130)/Sheet2!B$22 >0, 1-ABS(J130)/Sheet2!B$22,0)","v":0},0,{"$f":"IF(ABS(J130)<Sheet2!B$24/2, 1, 0)","v":0}]
[-383.5,0,"0",0,"0","0",null,{"$f":"IMABS(G131)","v":0},null,-383.5,{"$f":"EXP(-((J131)^2/(Sheet2!B$21^2*0.360673760222241)))","v":1.9531540031591763E-18},{"$f":"IF(1-ABS(J131)/Sheet2!B$22 >0, 1-ABS(J131)/Sheet2!B$22,0)","v":0},0,{"$f":"IF(ABS(J131)<Sheet2!B$24/2, 1, 0)","v":0}]
[-382.5,0,"-9.49648419258886E-003-3.96774968502329E-003i",0,"1.37814978812851+0.575808191417831i",{"$f":"IMPRODUCT(C132,E132,D$1027)","v":"-0.0000540145745392508-0.0000546815338776221i"},null,0,null,-382.5,{"$f":"EXP(-((J132)^2/(Sheet2!B$21^2*0.360673760222241)))","v":2.4153055469397512E-18},{"$f":"IF(1-ABS(J132)/Sheet2!B$22 >0, 1-ABS(J132)/Sheet2!B$22,0)","v":0},0,{"$f":"IF(ABS(J132)<Sheet2!B$24/2, 1, 0)","v":0}]
[{"$f":"A132+1","v":-381.5},0,"2.49585687304575E-002+1.05180562914511E-002i",0,"-2.2342143464964-0.941544065183019i","-0.000229297894235639-0.000234995922636208i",null,0,null,{"$f":"J132+1","v":-381.5},{"$f":"EXP(-((J133)^2/(Sheet2!B$21^2*0.360673760222241)))","v":2.9851547198669951E-18},{"$f":"IF(1-ABS(J133)/Sheet2!B$22 >0, 1-ABS(J133)/Sheet2!B$22,0)","v":0},0,{"$f":"IF(ABS(J133)<Sheet2!B$24/2, 1, 0)","v":0}]
[-380.5,0,"-2.57078903210101E-002-1.09268343256492E-002i",0,"2.26750481018262+0.963776065795433i","-0.000238808717822825-0.000247766493934809i",null,0,null,-380.5,{"$f":"EXP(-((J134)^2/(Sheet2!B$21^2*0.360673760222241)))","v":3.6874045573824528E-18},{"$f":"IF(1-ABS(J134)/Sheet2!B$22 >0, 1-ABS(J134)/Sheet2!B$22,0)","v":0},0,{"$f":"IF(ABS(J134)<Sheet2!B$24/2, 1, 0)","v":0}]
[-379.5,0,"1.09509270272772E-002+4.69428033545936E-003i",0,"-1.47992750006728-0.634393284163643i","-0.0000661427907005034-0.0000694719456147107i",null,0,null,-379.5,{"$f":"EXP(-((J135)^2/(Sheet2!B$21^2*0.360673760222241)))","v":4.5523317830331794E-18},{"$f":"IF(1-ABS(J135)/Sheet2!B$22 >0, 1-ABS(J135)/Sheet2!B$22,0)","v":0},0,{"$f":"IF(ABS(J135)<Sheet2!B$24/2, 1, 0)","v":0}]
[-378.5,0,"-1.44788348686142E-004-6.25922369236708E-005i",0,"0.170169532339596+7.35645635996657E-002i","-1.00169974950632E-07-1.06512916854013E-07i",null,0,null,-378.5,{"$f":"EXP(-((J136)^2/(Sheet2!B$21^2*0.360673760222241)))","v":5.6170229908377371E-18},{"$f":"IF(1-ABS(J136)/Sheet2!B$22 >0, 1-ABS(J136)/Sheet2!B$22,0)","v":0},0,{"$f":"IF(ABS(J136)<Sheet2!B$24/2, 1, 0)","v":0}]
[-377.5,0,"6.95345919521449E-003+3.03134508961701E-003i",0,"1.17927598086376+0.514102744193219i","0.0000332081229183198+0.0000357479245389499i",null,0,null,-377.5,{"$f":"EXP(-((J137)^2/(Sheet2!B$21^2*0.360673760222241)))","v":6.9268801291919749E-18},{"$f":"IF(1-ABS(J137)/Sheet2!B$22 >0, 1-ABS(J137)/Sheet2!B$22,0)","v":0},0,{"$f":"IF(ABS(J137)<Sheet2!B$24/2, 1, 0)","v":0}]
[-376.5,0,"-2.16241483191427E-002-9.50605580193656E-003i",0,"-2.07962248108333-0.914209755703523i","0.000181397680131885+0.0001976900735214i",null,0,null,-376.5,{"$f":"EXP(-((J138)^2/(Sheet2!B$21^2*0.360673760222241)))","v":8.5374528627530253E-18},{"$f":"IF(1-ABS(J138)/Sheet2!B$22 >0, 1-ABS(J138)/Sheet2!B$22,0)","v":0},0,{"$f":"IF(ABS(J138)<Sheet2!B$24/2, 1, 0)","v":0}]
[-375.5,0,"2.44783508948941E-002+1.08505067020299E-002i",0,"2.21261613909389+0.980785280403225i","0.000217595884950893+0.000240080062462575i",null,0,null,-375.5,{"$f":"EXP(-((J139)^2/(Sheet2!B$21^2*0.360673760222241)))","v":1.0516667458306258E-17},{"$f":"IF(1-ABS(J139)/Sheet2!B$22 >0, 1-ABS(J139)/Sheet2!B$22,0)","v":0},0,{"$f":"IF(ABS(J139)<Sheet2!B$24/2, 1, 0)","v":0}]
[-374.5,0,"-1.19009290026194E-002-5.31906431953189E-003i",0,"-1.54278507917451-0.689540544737063i","0.0000734643259258745+0.0000820617306734331i",null,0,null,-374.5,{"$f":"EXP(-((J140)^2/(Sheet2!B$21^2*0.360673760222241)))","v":1.2947536388300018E-17},{"$f":"IF(1-ABS(J140)/Sheet2!B$22 >0, 1-ABS(J140)/Sheet2!B$22,0)","v":0},0,{"$f":"IF(ABS(J140)<Sheet2!B$24/2, 1, 0)","v":0}]
[-373.5,0,"5.30112639342804E-004+2.38885287713267E-004i",0,"0.325611006982319+0.146730474455361i","6.87793793519461E-07+7.77836790855656E-07i",null,0,null,-373.5,{"$f":"EXP(-((J141)^2/(Sheet2!B$21^2*0.360673760222241)))","v":1.5931450369277945E-17},{"$f":"IF(1-ABS(J141)/Sheet2!B$22 >0, 1-ABS(J141)/Sheet2!B$22,0)","v":0},0,{"$f":"IF(ABS(J141)<Sheet2!B$24/2, 1, 0)","v":0}]
[-372.5,0,"-4.89673808625609E-003-2.22472167584691E-003i",0,"0.989619935758384+0.4496113296546i","-0.0000192282477977872-0.0000220162892193191i",null,0,null,-372.5,{"$f":"EXP(-((J142)^2/(Sheet2!B$21^2*0.360673760222241)))","v":1.9592175647272031E-17},{"$f":"IF(1-ABS(J142)/Sheet2!B$22 >0, 1-ABS(J142)/Sheet2!B$22,0)","v":0},0,{"$f":"IF(ABS(J142)<Sheet2!B$24/2, 1, 0)","v":0}]
[-371.5,0,"1.85368014895147E-002+8.49047946415322E-003i",0,"-1.92545067397291-0.881921264348347i","-0.000141018812686692-0.00016347999406607i",null,0,null,-371.5,{"$f":"EXP(-((J143)^2/(Sheet2!B$21^2*0.360673760222241)))","v":2.4080704720144535E-17},{"$f":"IF(1-ABS(J143)/Sheet2!B$22 >0, 1-ABS(J143)/Sheet2!B$22,0)","v":0},0,{"$f":"IF(ABS(J143)<Sheet2!B$24/2, 1, 0)","v":0}]
[-370.5,0,"-2.30992742007028E-002-1.06661019240274E-002i",0,"2.14938475851574+0.992479534598698i","-0.000195316700131127-0.000229255569082806i",null,0,null,-370.5,{"$f":"EXP(-((J144)^2/(Sheet2!B$21^2*0.360673760222241)))","v":2.9581139198218819E-17},{"$f":"IF(1-ABS(J144)/Sheet2!B$22 >0, 1-ABS(J144)/Sheet2!B$22,0)","v":0},0,{"$f":"IF(ABS(J144)<Sheet2!B$24/2, 1, 0)","v":0}]
[-369.5,0,"1.26692522448004E-002+5.89725701490832E-003i",0,"-1.59180729014503-0.74095112535495i","-0.0000789871443112794-0.0000938729670819028i",null,0,null,-369.5,{"$f":"EXP(-((J145)^2/(Sheet2!B$21^2*0.360673760222241)))","v":3.6317820164511835E-17},{"$f":"IF(1-ABS(J145)/Sheet2!B$22 >0, 1-ABS(J145)/Sheet2!B$22,0)","v":0},0,{"$f":"IF(ABS(J145)<Sheet2!B$24/2, 1, 0)","v":0}]
[-368.5,0,"-1.09021998284231E-003-5.11548607670639E-004i",0,"0.466951813966235+0.219101240156865i","-0.0000019849963213465-2.38868550284126E-06i",null,0,null,-368.5,{"$f":"EXP(-((J146)^2/(Sheet2!B$21^2*0.360673760222241)))","v":4.4563965415643383E-17},{"$f":"IF(1-ABS(J146)/Sheet2!B$22 >0, 1-ABS(J146)/Sheet2!B$22,0)","v":0},0,{"$f":"IF(ABS(J146)<Sheet2!B$24/2, 1, 0)","v":0}]
[-367.5,0,"3.2733446150646E-003+1.5481767022791E-003i",0,"0.809116136912959+0.382683432365086i","0.0000102802718769504+0.000012526547526067i",null,0,null,-367.5,{"$f":"EXP(-((J147)^2/(Sheet2!B$21^2*0.360673760222241)))","v":5.4652125788114665E-17},{"$f":"IF(1-ABS(J147)/Sheet2!B$22 >0, 1-ABS(J147)/Sheet2!B$22,0)","v":0},0,{"$f":"IF(ABS(J147)<Sheet2!B$24/2, 1, 0)","v":0}]
[-366.5,0,"-1.57035540169952E-002-7.48626885069263E-003i",0,"-1.77220506809999-0.844853565249701i","0.000107525585435877+0.000132672035983531i",null,0,null,-366.5,{"$f":"EXP(-((J148)^2/(Sheet2!B$21^2*0.360673760222241)))","v":6.6986836122641015E-17},{"$f":"IF(1-ABS(J148)/Sheet2!B$22 >0, 1-ABS(J148)/Sheet2!B$22,0)","v":0},0,{"$f":"IF(ABS(J148)<Sheet2!B$24/2, 1, 0)","v":0}]
[-365.5,0,"2.16045370418494E-002+1.03808769298078E-002i",0,"2.07867924614872+0.998795456205166i","0.000172702650313133+0.000215785134308154i",null,0,null,-365.5,{"$f":"EXP(-((J149)^2/(Sheet2!B$21^2*0.360673760222241)))","v":8.2059912340232136E-17},{"$f":"IF(1-ABS(J149)/Sheet2!B$22 >0, 1-ABS(J149)/Sheet2!B$22,0)","v":0},0,{"$f":"IF(ABS(J149)<Sheet2!B$24/2, 1, 0)","v":0}]
[-364.5,0,"-1.3250014652713E-002-6.41667857944357E-003i",0,"-1.62788295971853-0.788346427626602i","0.0000825545371691992+0.000104456017174668i",null,0,null,-364.5,{"$f":"EXP(-((J150)^2/(Sheet2!B$21^2*0.360673760222241)))","v":1.0046893703531651E-16},{"$f":"IF(1-ABS(J150)/Sheet2!B$22 >0, 1-ABS(J150)/Sheet2!B$22,0)","v":0},0,{"$f":"IF(ABS(J150)<Sheet2!B$24/2, 1, 0)","v":0}]
[-363.5,0,"1.76869773815769E-003+8.63248683073742E-004i",0,"0.594760075687173+0.290284677254462i","0.00000400681467629+5.13425852081797E-06i",null,0,null,-363.5,{"$f":"EXP(-((J151)^2/(Sheet2!B$21^2*0.360673760222241)))","v":1.2293958483198168E-16},{"$f":"IF(1-ABS(J151)/Sheet2!B$22 >0, 1-ABS(J151)/Sheet2!B$22,0)","v":0},0,{"$f":"IF(ABS(J151)<Sheet2!B$24/2, 1, 0)","v":0}]
[-362.5,0,"-2.03347807035765E-003-1.00021643801022E-003i",0,"0.63772691182912+0.313681740398885i","-4.91527028515402E-06-6.37864940172867E-06i",null,0,null,-362.5,{"$f":"EXP(-((J152)^2/(Sheet2!B$21^2*0.360673760222241)))","v":1.5035256894357017E-16},{"$f":"IF(1-ABS(J152)/Sheet2!B$22 >0, 1-ABS(J152)/Sheet2!B$22,0)","v":0},0,{"$f":"IF(ABS(J152)<Sheet2!B$24/2, 1, 0)","v":0}]
[-361.5,0,"1.31281639875419E-002+6.50750890003559E-003i",0,"-1.62038044838476-0.803207531480636i","-0.0000802287004445797-0.00010544640189307i",null,0,null,-361.5,{"$f":"EXP(-((J153)^2/(Sheet2!B$21^2*0.360673760222241)))","v":1.8377614601357965E-16},{"$f":"IF(1-ABS(J153)/Sheet2!B$22 >0, 1-ABS(J153)/Sheet2!B$22,0)","v":0},0,{"$f":"IF(ABS(J153)<Sheet2!B$24/2, 1, 0)","v":0}]
[-360.5,0,"-2.00265207561946E-002-1.00036141832693E-002i",0,"2.00132559850662+0.999698818696191i","-0.000150394936783448-0.000200204891425616i",null,0,null,-360.5,{"$f":"EXP(-((J154)^2/(Sheet2!B$21^2*0.360673760222241)))","v":2.2450530225069351E-16},{"$f":"IF(1-ABS(J154)/Sheet2!B$22 >0, 1-ABS(J154)/Sheet2!B$22,0)","v":0},0,{"$f":"IF(ABS(J154)<Sheet2!B$24/2, 1, 0)","v":0}]
[-359.5,0,"1.36429829077368E-002+6.86730049483949E-003i",0,"-1.65184641584719-0.831469612302542i","-0.0000841308036880013-0.000113437257089462i",null,0,null,-359.5,{"$f":"EXP(-((J155)^2/(Sheet2!B$21^2*0.360673760222241)))","v":2.7410896585871392E-16},{"$f":"IF(1-ABS(J155)/Sheet2!B$22 >0, 1-ABS(J155)/Sheet2!B$22,0)","v":0},0,{"$f":"IF(ABS(J155)<Sheet2!B$24/2, 1, 0)","v":0}]
[-358.5,0,"-2.51737495347613E-003-1.27683509972589E-003i",0,"0.709559716088069+0.359895036534988i","-6.63350621205367E-06-0.0000090599075085317i",null,0,null,-358.5,{"$f":"EXP(-((J156)^2/(Sheet2!B$21^2*0.360673760222241)))","v":3.3448685562463447E-16},{"$f":"IF(1-ABS(J156)/Sheet2!B$22 >0, 1-ABS(J156)/Sheet2!B$22,0)","v":0},0,{"$f":"IF(ABS(J156)<Sheet2!B$24/2, 1, 0)","v":0}]
[-357.5,0,"1.13017888353891E-003+5.77603007326165E-004i",0,"0.475432199906109+0.24298017990326i","1.98488675127779E-06+2.74611068445306E-06i",null,0,null,-357.5,{"$f":"EXP(-((J157)^2/(Sheet2!B$21^2*0.360673760222241)))","v":4.0793789134344177E-16},{"$f":"IF(1-ABS(J157)/Sheet2!B$22 >0, 1-ABS(J157)/Sheet2!B$22,0)","v":0},0,{"$f":"IF(ABS(J157)<Sheet2!B$24/2, 1, 0)","v":0}]
[-356.5,0,"-1.08112351019516E-002-5.56721940422555E-003i",0,"-1.47045809882151-0.757208846506478i","0.0000584096021530301+0.0000818636286085942i",null,0,null,-356.5,{"$f":"EXP(-((J158)^2/(Sheet2!B$21^2*0.360673760222241)))","v":4.9724246808741553E-16},{"$f":"IF(1-ABS(J158)/Sheet2!B$22 >0, 1-ABS(J158)/Sheet2!B$22,0)","v":0},0,{"$f":"IF(ABS(J158)<Sheet2!B$24/2, 1, 0)","v":0}]
[-355.5,0,"1.83957917571091E-002+9.54438493747094E-003i",0,"1.91811322695549+0.995184726672191i","0.000128933926871893+0.000183072109917175i",null,0,null,-355.5,{"$f":"EXP(-((J159)^2/(Sheet2!B$21^2*0.360673760222241)))","v":6.0576134447822172E-16},{"$f":"IF(1-ABS(J159)/Sheet2!B$22 >0, 1-ABS(J159)/Sheet2!B$22,0)","v":0},0,{"$f":"IF(ABS(J159)<Sheet2!B$24/2, 1, 0)","v":0}]
[-354.5,0,"-1.38526138744003E-002-7.24125000975141E-003i",0,"-1.66448874279128-0.87008699110871i","0.0000837850120966154+0.000120529791249681i",null,0,null,-354.5,{"$f":"EXP(-((J160)^2/(Sheet2!B$21^2*0.360673760222241)))","v":7.3755442845628728E-16},{"$f":"IF(1-ABS(J160)/Sheet2!B$22 >0, 1-ABS(J160)/Sheet2!B$22,0)","v":0},0,{"$f":"IF(ABS(J160)<Sheet2!B$24/2, 1, 0)","v":0}]
[-353.5,0,"3.29544092474369E-003+1.73553690088534E-003i",0,"0.811842463133304+0.427555093430287i","9.66670617822234E-06+0.0000140898255247314i",null,0,null,-353.5,{"$f":"EXP(-((J161)^2/(Sheet2!B$21^2*0.360673760222241)))","v":8.9752337834821107E-16},{"$f":"IF(1-ABS(J161)/Sheet2!B$22 >0, 1-ABS(J161)/Sheet2!B$22,0)","v":0},0,{"$f":"IF(ABS(J161)<Sheet2!B$24/2, 1, 0)","v":0}]
[-352.5,0,"-5.19132441130542E-004-2.75437706852255E-004i",0,"0.322221179041356+0.170961888760286i","-6.00930583302185E-07-8.87518626533982E-07i",null,0,null,-352.5,{"$f":"EXP(-((J162)^2/(Sheet2!B$21^2*0.360673760222241)))","v":1.091582690939468E-15},{"$f":"IF(1-ABS(J162)/Sheet2!B$22 >0, 1-ABS(J162)/Sheet2!B$22,0)","v":0},0,{"$f":"IF(ABS(J162)<Sheet2!B$24/2, 1, 0)","v":0}]
[-351.5,0,"8.75037153557737E-003+4.67717102947291E-003i",0,"-1.32290374068398-0.707106781186543i","-0.0000413431994254019-0.0000618744705070846i",null,0,null,-351.5,{"$f":"EXP(-((J163)^2/(Sheet2!B$21^2*0.360673760222241)))","v":1.3268648437399808E-15},{"$f":"IF(1-ABS(J163)/Sheet2!B$22 >0, 1-ABS(J163)/Sheet2!B$22,0)","v":0},0,{"$f":"IF(ABS(J163)<Sheet2!B$24/2, 1, 0)","v":0}]
[-350.5,0,"-1.67408289684056E-002-9.01430212632134E-003i",0,"1.82979938618427+0.985277642388934i","-0.000108753841119005-0.000164943644976247i",null,0,null,-350.5,{"$f":"EXP(-((J164)^2/(Sheet2!B$21^2*0.360673760222241)))","v":1.6119661215847083E-15},{"$f":"IF(1-ABS(J164)/Sheet2!B$22 >0, 1-ABS(J164)/Sheet2!B$22,0)","v":0},0,{"$f":"IF(ABS(J164)<Sheet2!B$24/2, 1, 0)","v":0}]
[-349.5,0,"1.38872200946465E-002+7.53279152412822E-003i",0,"-1.66656653600416-0.903989293123438i","-0.0000816720670135974-0.000125538982768085i",null,0,null,-349.5,{"$f":"EXP(-((J165)^2/(Sheet2!B$21^2*0.360673760222241)))","v":1.9572410186462848E-15},{"$f":"IF(1-ABS(J165)/Sheet2!B$22 >0, 1-ABS(J165)/Sheet2!B$22,0)","v":0},0,{"$f":"IF(ABS(J165)<Sheet2!B$24/2, 1, 0)","v":0}]
[-348.5,0,"-4.06871827045533E-003-2.22316162382947E-003i",0,"0.902077410253771+0.49289819222978i","-0.0000128725324752219-0.0000200546388019968i",null,0,null,-348.5,{"$f":"EXP(-((J166)^2/(Sheet2!B$21^2*0.360673760222241)))","v":2.3751546017604132E-15},{"$f":"IF(1-ABS(J166)/Sheet2!B$22 >0, 1-ABS(J166)/Sheet2!B$22,0)","v":0},0,{"$f":"IF(ABS(J166)<Sheet2!B$24/2, 1, 0)","v":0}]
[-347.5,0,"1.58572031614014E-004+8.72771035745472E-005i",0,"0.178085390536934+9.80171403295601E-002i","9.84235503479639E-08+0.0000001554277707503i",null,0,null,-347.5,{"$f":"EXP(-((J167)^2/(Sheet2!B$21^2*0.360673760222241)))","v":2.8807039919147781E-15},{"$f":"IF(1-ABS(J167)/Sheet2!B$22 >0, 1-ABS(J167)/Sheet2!B$22,0)","v":0},0,{"$f":"IF(ABS(J167)<Sheet2!B$24/2, 1, 0)","v":0}]
[-346.5,0,"-6.94037045767322E-003-3.84772874808097E-003i",0,"-1.17816556202185-0.653172842953772i","0.000028318367678027+0.0000453326150299062i",null,0,null,-346.5,{"$f":"EXP(-((J168)^2/(Sheet2!B$21^2*0.360673760222241)))","v":3.4919222174743259E-15},{"$f":"IF(1-ABS(J168)/Sheet2!B$22 >0, 1-ABS(J168)/Sheet2!B$22,0)","v":0},0,{"$f":"IF(ABS(J168)<Sheet2!B$24/2, 1, 0)","v":0}]
[-345.5,0,"1.50877969971499E-002+8.42526646479368E-003i",0,"1.73711237386346+0.970031253194537i","0.0000901821353537366+0.0001463563462909i",null,0,null,-345.5,{"$f":"EXP(-((J169)^2/(Sheet2!B$21^2*0.360673760222241)))","v":4.2304801735288281E-15},{"$f":"IF(1-ABS(J169)/Sheet2!B$22 >0, 1-ABS(J169)/Sheet2!B$22,0)","v":0},0,{"$f":"IF(ABS(J169)<Sheet2!B$24/2, 1, 0)","v":0}]
[-344.5,0,"-1.37582309712228E-002-7.73828270552422E-003i",0,"-1.65880866715951-0.932992798834733i","0.0000780125537012267+0.00012836330420855i",null,0,null,-344.5,{"$f":"EXP(-((J170)^2/(Sheet2!B$21^2*0.360673760222241)))","v":5.1224053551055815E-15},{"$f":"IF(1-ABS(J170)/Sheet2!B$22 >0, 1-ABS(J170)/Sheet2!B$22,0)","v":0},0,{"$f":"IF(ABS(J170)<Sheet2!B$24/2, 1, 0)","v":0}]
[-343.5,0,"4.80904500860117E-003+2.72429034718782E-003i",0,"0.980718614955354+0.555570233019599i","0.0000160139266854656+0.0000267176225603028i",null,0,null,-343.5,{"$f":"EXP(-((J171)^2/(Sheet2!B$21^2*0.360673760222241)))","v":6.1989394981868985E-15},{"$f":"IF(1-ABS(J171)/Sheet2!B$22 >0, 1-ABS(J171)/Sheet2!B$22,0)","v":0},0,{"$f":"IF(ABS(J171)<Sheet2!B$24/2, 1, 0)","v":0}]
[-342.5,0,"-9.25062866996155E-006-5.27797010390458E-006i",0,"4.30130879331938E-002+2.45412285229101E-002i","-1.34185116980685E-09-2.27021792179063E-09i",null,0,null,-342.5,{"$f":"EXP(-((J172)^2/(Sheet2!B$21^2*0.360673760222241)))","v":7.4975613556347483E-15},{"$f":"IF(1-ABS(J172)/Sheet2!B$22 >0, 1-ABS(J172)/Sheet2!B$22,0)","v":0},0,{"$f":"IF(ABS(J172)<Sheet2!B$24/2, 1, 0)","v":0}]
[-341.5,0,"5.37344778673246E-003+3.08772498379369E-003i",0,"-1.03667234811488-0.595699304492427i","-0.0000186557455461743-0.0000320095910928264i",null,0,null,-341.5,{"$f":"EXP(-((J173)^2/(Sheet2!B$21^2*0.360673760222241)))","v":9.0632056655053261E-15},{"$f":"IF(1-ABS(J173)/Sheet2!B$22 >0, 1-ABS(J173)/Sheet2!B$22,0)","v":0},0,{"$f":"IF(ABS(J173)<Sheet2!B$24/2, 1, 0)","v":0}]
[-340.5,0,"-1.3460364567431E-002-7.78970968080187E-003i",0,"1.64075376381878+0.949528180593026i","-0.0000734429748291284-0.000127809954778314i",null,0,null,-340.5,{"$f":"EXP(-((J174)^2/(Sheet2!B$21^2*0.360673760222241)))","v":1.094971506589641E-14},{"$f":"IF(1-ABS(J174)/Sheet2!B$22 >0, 1-ABS(J174)/Sheet2!B$22,0)","v":0},0,{"$f":"IF(ABS(J174)<Sheet2!B$24/2, 1, 0)","v":0}]
[-339.5,0,"1.34795303005971E-002+7.85610433574691E-003i",0,"-1.64192145369966-0.9569403357322i","-0.0000730725343287408-0.000128991062513658i",null,0,null,-339.5,{"$f":"EXP(-((J175)^2/(Sheet2!B$21^2*0.360673760222241)))","v":1.3221568424377171E-14},{"$f":"IF(1-ABS(J175)/Sheet2!B$22 >0, 1-ABS(J175)/Sheet2!B$22,0)","v":0},0,{"$f":"IF(ABS(J175)<Sheet2!B$24/2, 1, 0)","v":0}]
[-338.5,0,"-5.4937325912097E-003-3.22446292344114E-003i",0,"1.04821110385327+0.61523159058062i","-0.0000188740002527484-0.0000337991784031436i",null,0,null,-338.5,{"$f":"EXP(-((J176)^2/(Sheet2!B$21^2*0.360673760222241)))","v":1.595593695767532E-14},{"$f":"IF(1-ABS(J176)/Sheet2!B$22 >0, 1-ABS(J176)/Sheet2!B$22,0)","v":0},0,{"$f":"IF(ABS(J176)<Sheet2!B$24/2, 1, 0)","v":0}]
[-337.5,0,"3.4457784446032E-005+2.03668634303933E-005i",0,"-8.30154015113989E-002-4.90676743274167E-002i","-9.30586094553536E-09-1.69076334522207E-08i",null,0,null,-337.5,{"$f":"EXP(-((J177)^2/(Sheet2!B$21^2*0.360673760222241)))","v":1.924512882477689E-14},{"$f":"IF(1-ABS(J177)/Sheet2!B$22 >0, 1-ABS(J177)/Sheet2!B$22,0)","v":0},0,{"$f":"IF(ABS(J177)<Sheet2!B$24/2, 1, 0)","v":0}]
[-336.5,0,"-4.03949232232293E-003-2.40436415973369E-003i",0,"-0.898831721994398-0.534997619887093i","0.0000117224736862866+0.00002161118777995i",null,0,null,-336.5,{"$f":"EXP(-((J178)^2/(Sheet2!B$21^2*0.360673760222241)))","v":2.3199493824555329E-14},{"$f":"IF(1-ABS(J178)/Sheet2!B$22 >0, 1-ABS(J178)/Sheet2!B$22,0)","v":0},0,{"$f":"IF(ABS(J178)<Sheet2!B$24/2, 1, 0)","v":0}]
[-335.5,0,"1.1879567920982E-002+7.12033899394429E-003i",0,"1.54139987809669+0.923879532511279i","0.0000586641454209796+0.000109752896572728i",null,0,null,-335.5,{"$f":"EXP(-((J179)^2/(Sheet2!B$21^2*0.360673760222241)))","v":2.7950872698166663E-14},{"$f":"IF(1-ABS(J179)/Sheet2!B$22 >0, 1-ABS(J179)/Sheet2!B$22,0)","v":0},0,{"$f":"IF(ABS(J179)<Sheet2!B$24/2, 1, 0)","v":0}]
[-334.5,0,"-1.30668572159913E-002-7.88656392765722E-003i",0,"-1.6165925408704-0.975702130038522i","0.0000671442334254499+0.000127493604185501i",null,0,null,-334.5,{"$f":"EXP(-((J180)^2/(Sheet2!B$21^2*0.360673760222241)))","v":3.3656690653903094E-14},{"$f":"IF(1-ABS(J180)/Sheet2!B$22 >0, 1-ABS(J180)/Sheet2!B$22,0)","v":0},0,{"$f":"IF(ABS(J180)<Sheet2!B$24/2, 1, 0)","v":0}]
[-333.5,0,"6.10507607278839E-003+3.71034835785089E-003i",0,"1.10499557218906+0.671558954847016i","0.0000212718218149593+0.0000409991850670374i",null,0,null,-333.5,{"$f":"EXP(-((J181)^2/(Sheet2!B$21^2*0.360673760222241)))","v":4.0504812479089398E-14},{"$f":"IF(1-ABS(J181)/Sheet2!B$22 >0, 1-ABS(J181)/Sheet2!B$22,0)","v":0},0,{"$f":"IF(ABS(J181)<Sheet2!B$24/2, 1, 0)","v":0}]
[-332.5,0,"-2.00062938891156E-004-1.22429934665101E-004i",0,"-0.200031466969134-0.12241067519922i","1.25160760928014E-07+2.4489839432001E-07i",null,0,null,-332.5,{"$f":"EXP(-((J182)^2/(Sheet2!B$21^2*0.360673760222241)))","v":4.8719297423537634E-14},{"$f":"IF(1-ABS(J182)/Sheet2!B$22 >0, 1-ABS(J182)/Sheet2!B$22,0)","v":0},0,{"$f":"IF(ABS(J182)<Sheet2!B$24/2, 1, 0)","v":0}]
[-331.5,0,"2.92634305610997E-003+1.80315970072809E-003i",0,"-0.765028503535526-0.471396736825991i","-6.94366125074018E-06-0.0000137946856748361i",null,0,null,-331.5,{"$f":"EXP(-((J183)^2/(Sheet2!B$21^2*0.360673760222241)))","v":5.8567216448034933E-14},{"$f":"IF(1-ABS(J183)/Sheet2!B$22 >0, 1-ABS(J183)/Sheet2!B$22,0)","v":0},0,{"$f":"IF(ABS(J183)<Sheet2!B$24/2, 1, 0)","v":0}]
[-330.5,0,"-1.03637187521742E-002-6.42988701393794E-003i",0,"1.43970266042488+0.893224301195504i","-0.0000458867106230483-0.0000925712544019769i",null,0,null,-330.5,{"$f":"EXP(-((J184)^2/(Sheet2!B$21^2*0.360673760222241)))","v":7.0366723029076704E-14},{"$f":"IF(1-ABS(J184)/Sheet2!B$22 >0, 1-ABS(J184)/Sheet2!B$22,0)","v":0},0,{"$f":"IF(ABS(J184)<Sheet2!B$24/2, 1, 0)","v":0}]
[-329.5,0,"1.25372621106228E-002+7.8317740525259E-003i",0,"-1.58349373921215-0.98917650996477i","-0.0000605283456746135-0.000124015651790992i",null,0,null,-329.5,{"$f":"EXP(-((J185)^2/(Sheet2!B$21^2*0.360673760222241)))","v":8.4496602194217605E-14},{"$f":"IF(1-ABS(J185)/Sheet2!B$22 >0, 1-ABS(J185)/Sheet2!B$22,0)","v":0},0,{"$f":"IF(ABS(J185)<Sheet2!B$24/2, 1, 0)","v":0}]
[-328.5,0,"-6.62989948617703E-003-4.16989605235927E-003i",0,"1.15151200481558+0.72424708295146i","-0.0000230718689846074-0.0000480168536312495i",null,0,null,-328.5,{"$f":"EXP(-((J186)^2/(Sheet2!B$21^2*0.360673760222241)))","v":1.0140756163953655E-13},{"$f":"IF(1-ABS(J186)/Sheet2!B$22 >0, 1-ABS(J186)/Sheet2!B$22,0)","v":0},0,{"$f":"IF(ABS(J186)<Sheet2!B$24/2, 1, 0)","v":0}]
[-327.5,0,"4.74570390229448E-004+3.00518385297485E-004i",0,"-0.308081284802403-0.195090322016133i","-4.37890134958057E-07-9.25840902491888E-07i",null,0,null,-327.5,{"$f":"EXP(-((J187)^2/(Sheet2!B$21^2*0.360673760222241)))","v":1.2163557458965121E-13},{"$f":"IF(1-ABS(J187)/Sheet2!B$22 >0, 1-ABS(J187)/Sheet2!B$22,0)","v":0},0,{"$f":"IF(ABS(J187)<Sheet2!B$24/2, 1, 0)","v":0}]
[-326.5,0,"-2.02008422995277E-003-1.28790389372067E-003i",0,"-0.635623194974969-0.40524131400498i","3.81050263078818E-06+8.18621587747117E-06i",null,0,null,-326.5,{"$f":"EXP(-((J188)^2/(Sheet2!B$21^2*0.360673760222241)))","v":1.4581763758841889E-13},{"$f":"IF(1-ABS(J188)/Sheet2!B$22 >0, 1-ABS(J188)/Sheet2!B$22,0)","v":0},0,{"$f":"IF(ABS(J188)<Sheet2!B$24/2, 1, 0)","v":0}]
[-325.5,0,"8.92835590259121E-003+5.73087116856944E-003i",0,"1.33629008097712+0.857728610000261i","0.0000350767063527926+0.0000765810629791714i",null,0,null,-325.5,{"$f":"EXP(-((J189)^2/(Sheet2!B$21^2*0.360673760222241)))","v":1.7471036891379901E-13},{"$f":"IF(1-ABS(J189)/Sheet2!B$22 >0, 1-ABS(J189)/Sheet2!B$22,0)","v":0},0,{"$f":"IF(ABS(J189)<Sheet2!B$24/2, 1, 0)","v":0}]
[-324.5,0,"-1.19086122626826E-002-7.6955070949242E-003i",0,"-1.5432830111603-0.997290456678681i","0.0000535185160321115+0.000118763453618601i",null,0,null,-324.5,{"$f":"EXP(-((J190)^2/(Sheet2!B$21^2*0.360673760222241)))","v":2.0921194625039075E-13},{"$f":"IF(1-ABS(J190)/Sheet2!B$22 >0, 1-ABS(J190)/Sheet2!B$22,0)","v":0},0,{"$f":"IF(ABS(J190)<Sheet2!B$24/2, 1, 0)","v":0}]
[-323.5,0,"7.05912470893851E-003+4.59246437698768E-003i",0,"1.18820239933572+0.773010453362736i","0.0000241882297313167+0.0000545677719160062i",null,0,null,-323.5,{"$f":"EXP(-((J191)^2/(Sheet2!B$21^2*0.360673760222241)))","v":2.5038796731284648E-13},{"$f":"IF(1-ABS(J191)/Sheet2!B$22 >0, 1-ABS(J191)/Sheet2!B$22,0)","v":0},0,{"$f":"IF(ABS(J191)<Sheet2!B$24/2, 1, 0)","v":0}]
[-322.5,0,"-8.29174328565186E-004-5.43064877058831E-004i",0,"-0.407228272239147-0.26671275747491i","9.64104491792608E-07+0.0000022115137159873i",null,0,null,-322.5,{"$f":"EXP(-((J192)^2/(Sheet2!B$21^2*0.360673760222241)))","v":2.9950191624009621E-13},{"$f":"IF(1-ABS(J192)/Sheet2!B$22 >0, 1-ABS(J192)/Sheet2!B$22,0)","v":0},0,{"$f":"IF(ABS(J192)<Sheet2!B$24/2, 1, 0)","v":0}]
[-321.5,0,"1.30535257831866E-003+8.60670363668926E-004i",0,"-0.510950600018184-0.336889853392196i","-1.88509785245885E-06-4.39760038734702E-06i",null,0,null,-321.5,{"$f":"EXP(-((J193)^2/(Sheet2!B$21^2*0.360673760222241)))","v":3.580510340229917E-13},{"$f":"IF(1-ABS(J193)/Sheet2!B$22 >0, 1-ABS(J193)/Sheet2!B$22,0)","v":0},0,{"$f":"IF(ABS(J193)<Sheet2!B$24/2, 1, 0)","v":0}]
[-320.5,0,"-7.58623957809432E-003-5.03536659970946E-003i",0,"1.23176617732879+0.817584813151552i","-0.0000261381703241829-0.0000620239426797617i",null,0,null,-320.5,{"$f":"EXP(-((J194)^2/(Sheet2!B$21^2*0.360673760222241)))","v":4.278085255816584E-13},{"$f":"IF(1-ABS(J194)/Sheet2!B$22 >0, 1-ABS(J194)/Sheet2!B$22,0)","v":0},0,{"$f":"IF(ABS(J194)<Sheet2!B$24/2, 1, 0)","v":0}]
[-319.5,0,"1.11991440442169E-002+7.48302881332684E-003i",0,"-1.49660576266549-0.999999999999994i","-0.0000463883735008456-0.000111991440442168i",null,{"$f":"IMABS(G195)","v":0},null,-319.5,{"$f":"EXP(-((J195)^2/(Sheet2!B$21^2*0.360673760222241)))","v":5.1087319236627451E-13},{"$f":"IF(1-ABS(J195)/Sheet2!B$22 >0, 1-ABS(J195)/Sheet2!B$22,0)","v":0},0,{"$f":"IF(ABS(J195)<Sheet2!B$24/2, 1, 0)","v":0}]
[-318.5,0,"-7.38735606552782E-003-4.96892376863213E-003i",0,"1.21551273670974+0.817584813151577i",{"$f":"IMPRODUCT(C196,E196,D$1027)","v":"-0.0000245845438865874-0.0000603979012851542i"},null,0,null,-318.5,{"$f":"EXP(-((J196)^2/(Sheet2!B$21^2*0.360673760222241)))","v":6.0972776096444076E-13},{"$f":"IF(1-ABS(J196)/Sheet2!B$22 >0, 1-ABS(J196)/Sheet2!B$22,0)","v":0},0,{"$f":"IF(ABS(J196)<Sheet2!B$24/2, 1, 0)","v":0}]
[{"$f":"A196+1","v":-317.5},0,"1.23780491989106E-003+8.3810616510058E-004i",0,"-0.497555005982525-0.336889853392219i","-1.66763285616873E-06-4.17003917990438E-06i",null,0,null,{"$f":"J196+1","v":-317.5},{"$f":"EXP(-((J197)^2/(Sheet2!B$21^2*0.360673760222241)))","v":7.2730738913047625E-13},{"$f":"IF(1-ABS(J197)/Sheet2!B$22 >0, 1-ABS(J197)/Sheet2!B$22,0)","v":0},0,{"$f":"IF(ABS(J197)<Sheet2!B$24/2, 1, 0)","v":0}]
[-316.5,0,"-7.6565116690483E-004-5.218482915826E-004i",0,"-0.391318582973604-0.266712757474898i","8.02149664268623E-07+0.0000020420893398918i",null,0,null,-316.5,{"$f":"EXP(-((J198)^2/(Sheet2!B$21^2*0.360673760222241)))","v":8.6708007547548842E-13},{"$f":"IF(1-ABS(J198)/Sheet2!B$22 >0, 1-ABS(J198)/Sheet2!B$22,0)","v":0},0,{"$f":"IF(ABS(J198)<Sheet2!B$24/2, 1, 0)","v":0}]
[-315.5,0,"6.34738632678022E-003+4.35479619765206E-003i",0,"1.12671081709372+0.773010453362733i","0.0000189268292580336+0.0000490659598213298i",null,0,null,-315.5,{"$f":"EXP(-((J199)^2/(Sheet2!B$21^2*0.360673760222241)))","v":1.0331409830246136E-12},{"$f":"IF(1-ABS(J199)/Sheet2!B$22 >0, 1-ABS(J199)/Sheet2!B$22,0)","v":0},0,{"$f":"IF(ABS(J199)<Sheet2!B$24/2, 1, 0)","v":0}]
[-314.5,0,"-1.04270600277404E-002-7.2009136356399E-003i",0,"-1.44409556662563-0.997290456678683i","0.0000393813435540408+0.000103988074568814i",null,0,null,-314.5,{"$f":"EXP(-((J200)^2/(Sheet2!B$21^2*0.360673760222241)))","v":1.2303230159945165E-12},{"$f":"IF(1-ABS(J200)/Sheet2!B$22 >0, 1-ABS(J200)/Sheet2!B$22,0)","v":0},0,{"$f":"IF(ABS(J200)<Sheet2!B$24/2, 1, 0)","v":0}]
[-313.5,0,"7.61247593299002E-003+5.29173228890401E-003i",0,"1.23389431743466+0.857728610000266i","0.0000242706030733467+0.0000652943840066409i",null,0,null,-313.5,{"$f":"EXP(-((J201)^2/(Sheet2!B$21^2*0.360673760222241)))","v":1.4643263703979613E-12},{"$f":"IF(1-ABS(J201)/Sheet2!B$22 >0, 1-ABS(J201)/Sheet2!B$22,0)","v":0},0,{"$f":"IF(ABS(J201)<Sheet2!B$24/2, 1, 0)","v":0}]
[-312.5,0,"-1.67715858801766E-003-1.17350726407755E-003i",0,"-0.579164672267665-0.405241314004989i","2.47898689140481E-06+6.79653950003114E-06i",null,0,null,-312.5,{"$f":"EXP(-((J202)^2/(Sheet2!B$21^2*0.360673760222241)))","v":1.7418702203914756E-12},{"$f":"IF(1-ABS(J202)/Sheet2!B$22 >0, 1-ABS(J202)/Sheet2!B$22,0)","v":0},0,{"$f":"IF(ABS(J202)<Sheet2!B$24/2, 1, 0)","v":0}]
[-311.5,0,"3.83664317088887E-004+2.70206898392595E-004i",0,"-0.277006973590434-0.195090322016127i","-2.67814702665215E-07-7.48491951669795E-07i",null,0,null,-311.5,{"$f":"EXP(-((J203)^2/(Sheet2!B$21^2*0.360673760222241)))","v":2.0708702127573672E-12},{"$f":"IF(1-ABS(J203)/Sheet2!B$22 >0, 1-ABS(J203)/Sheet2!B$22,0)","v":0},0,{"$f":"IF(ABS(J203)<Sheet2!B$24/2, 1, 0)","v":0}]
[-310.5,0,"-5.21914247544305E-003-3.69974109185378E-003i",0,"1.02167925254885+0.72424708295146i","-0.0000132638144490293-0.0000377994871334856i",null,0,null,-310.5,{"$f":"EXP(-((J204)^2/(Sheet2!B$21^2*0.360673760222241)))","v":2.4606460319890374E-12},{"$f":"IF(1-ABS(J204)/Sheet2!B$22 >0, 1-ABS(J204)/Sheet2!B$22,0)","v":0},0,{"$f":"IF(ABS(J204)<Sheet2!B$24/2, 1, 0)","v":0}]
[-309.5,0,"9.61017019366422E-003+6.85684506264263E-003i",0,"-1.38637442227293-0.989176509964772i","-0.0000327033204087587-0.0000950615461233621i",null,0,null,-309.5,{"$f":"EXP(-((J205)^2/(Sheet2!B$21^2*0.360673760222241)))","v":2.9221639800737579E-12},{"$f":"IF(1-ABS(J205)/Sheet2!B$22 >0, 1-ABS(J205)/Sheet2!B$22,0)","v":0},0,{"$f":"IF(ABS(J205)<Sheet2!B$24/2, 1, 0)","v":0}]
[-308.5,0,"-7.73524892137073E-003-5.5549822960816E-003i",0,"1.24380456032032+0.893224301195505i","-0.0000232964635202143-0.000069093123123648i",null,0,null,-308.5,{"$f":"EXP(-((J206)^2/(Sheet2!B$21^2*0.360673760222241)))","v":3.468320301901942E-12},{"$f":"IF(1-ABS(J206)/Sheet2!B$22 >0, 1-ABS(J206)/Sheet2!B$22,0)","v":0},0,{"$f":"IF(ABS(J206)<Sheet2!B$24/2, 1, 0)","v":0}]
[-307.5,0,"2.1267074771967E-003+1.53718257579104E-003i",0,"-0.652182102973673-0.471396736825992i","-3.31188852377155E-06-0.0000100252296493392i",null,0,null,-307.5,{"$f":"EXP(-((J207)^2/(Sheet2!B$21^2*0.360673760222241)))","v":4.1142718948899479E-12},{"$f":"IF(1-ABS(J207)/Sheet2!B$22 >0, 1-ABS(J207)/Sheet2!B$22,0)","v":0},0,{"$f":"IF(ABS(J207)<Sheet2!B$24/2, 1, 0)","v":0}]
[-306.5,0,"-1.41568281221399E-004-1.02988154363602E-004i",0,"-0.168266622489351-0.122410675199217i","5.60718350978886E-08+1.73294688911397E-07i",null,0,null,-306.5,{"$f":"EXP(-((J208)^2/(Sheet2!B$21^2*0.360673760222241)))","v":4.8778220877155188E-12},{"$f":"IF(1-ABS(J208)/Sheet2!B$22 >0, 1-ABS(J208)/Sheet2!B$22,0)","v":0},0,{"$f":"IF(ABS(J208)<Sheet2!B$24/2, 1, 0)","v":0}]
[-305.5,0,"4.20629319236519E-003+3.07977448941662E-003i",0,"0.917201525550554+0.671558954847014i","0.0000089488419783657+0.0000282477386004474i",null,0,null,-305.5,{"$f":"EXP(-((J209)^2/(Sheet2!B$21^2*0.360673760222241)))","v":5.7798703783777923E-12},{"$f":"IF(1-ABS(J209)/Sheet2!B$22 >0, 1-ABS(J209)/Sheet2!B$22,0)","v":0},0,{"$f":"IF(ABS(J209)<Sheet2!B$24/2, 1, 0)","v":0}]
[-304.5,0,"-8.76557692646164E-003-6.45940489055793E-003i",0,"-1.32405263690381-0.975702130038521i","0.0000265181506648306+0.0000855259207816887i",null,0,null,-304.5,{"$f":"EXP(-((J210)^2/(Sheet2!B$21^2*0.360673760222241)))","v":6.8449364093065368E-12},{"$f":"IF(1-ABS(J210)/Sheet2!B$22 >0, 1-ABS(J210)/Sheet2!B$22,0)","v":0},0,{"$f":"IF(ABS(J210)<Sheet2!B$24/2, 1, 0)","v":0}]
[-303.5,0,"7.75893394016672E-003+5.75441759521329E-003i",0,"1.24570734445655+0.923879532511279i","0.0000217448617833927+0.0000716832026142716i",null,0,null,-303.5,{"$f":"EXP(-((J211)^2/(Sheet2!B$21^2*0.360673760222241)))","v":8.1017700533923878E-12},{"$f":"IF(1-ABS(J211)/Sheet2!B$22 >0, 1-ABS(J211)/Sheet2!B$22,0)","v":0},0,{"$f":"IF(ABS(J211)<Sheet2!B$24/2, 1, 0)","v":0}]
[-302.5,0,"-2.56868465945927E-003-1.91730960586123E-003i",0,"-0.716754443231484-0.534997619887094i","4.07680033602781E-06+0.0000137424017905132i",null,0,null,-302.5,{"$f":"EXP(-((J212)^2/(Sheet2!B$21^2*0.360673760222241)))","v":9.5840613196830658E-12},{"$f":"IF(1-ABS(J212)/Sheet2!B$22 >0, 1-ABS(J212)/Sheet2!B$22,0)","v":0},0,{"$f":"IF(ABS(J212)<Sheet2!B$24/2, 1, 0)","v":0}]
[-301.5,0,"2.13326048852568E-005+1.60251617245664E-005i",0,"-6.53186112599897E-002-4.90676743274159E-002i","-3.03549354558926E-09-1.04674130906532E-08i",null,0,null,-301.5,{"$f":"EXP(-((J213)^2/(Sheet2!B$21^2*0.360673760222241)))","v":1.1331265895323434E-11},{"$f":"IF(1-ABS(J213)/Sheet2!B$22 >0, 1-ABS(J213)/Sheet2!B$22,0)","v":0},0,{"$f":"IF(ABS(J213)<Sheet2!B$24/2, 1, 0)","v":0}]
[-300.5,0,"-3.31120385776067E-003-2.50332126818916E-003i",0,"0.81378177145449+0.615231590580618i","-5.77237507726556E-06-0.0000203715721614673i",null,0,null,-300.5,{"$f":"EXP(-((J214)^2/(Sheet2!B$21^2*0.360673760222241)))","v":1.3389564560025016E-11},{"$f":"IF(1-ABS(J214)/Sheet2!B$22 >0, 1-ABS(J214)/Sheet2!B$22,0)","v":0},0,{"$f":"IF(ABS(J214)<Sheet2!B$24/2, 1, 0)","v":0}]
[-299.5,0,"7.90940366984503E-003+6.01785519781695E-003i",0,"-1.25772840230666-0.956940335732198i","-0.0000209457663374296-0.0000756882740326306i",null,0,null,-299.5,{"$f":"EXP(-((J215)^2/(Sheet2!B$21^2*0.360673760222241)))","v":1.5812977485126451E-11},{"$f":"IF(1-ABS(J215)/Sheet2!B$22 >0, 1-ABS(J215)/Sheet2!B$22,0)","v":0},0,{"$f":"IF(ABS(J215)<Sheet2!B$24/2, 1, 0)","v":0}]
[-298.5,0,"-7.68890475634535E-003-5.88742111740818E-003i",0,"1.24007296207469+0.949528180593024i","-0.0000197226531715691-0.0000730083174404555i",null,0,null,-298.5,{"$f":"EXP(-((J216)^2/(Sheet2!B$21^2*0.360673760222241)))","v":1.8664657611317595E-11},{"$f":"IF(1-ABS(J216)/Sheet2!B$22 >0, 1-ABS(J216)/Sheet2!B$22,0)","v":0},0,{"$f":"IF(ABS(J216)<Sheet2!B$24/2, 1, 0)","v":0}]
[-297.5,0,"2.98804302233806E-003+2.30253117132873E-003i",0,"-0.773051488884854-0.595699304492425i","-4.69147444968891E-06-0.0000177997515019984i",null,0,null,-297.5,{"$f":"EXP(-((J217)^2/(Sheet2!B$21^2*0.360673760222241)))","v":2.2018390944221302E-11},{"$f":"IF(1-ABS(J217)/Sheet2!B$22 >0, 1-ABS(J217)/Sheet2!B$22,0)","v":0},0,{"$f":"IF(ABS(J217)<Sheet2!B$24/2, 1, 0)","v":0}]
[-296.5,0,"-5.00746669189902E-006-3.88320516428764E-006i",0,"3.16463795326627E-002+2.45412285229108E-002i","-3.15847830454365E-10-1.228893844195E-09i",null,0,null,-296.5,{"$f":"EXP(-((J218)^2/(Sheet2!B$21^2*0.360673760222241)))","v":2.5960335779721283E-11},{"$f":"IF(1-ABS(J218)/Sheet2!B$22 >0, 1-ABS(J218)/Sheet2!B$22,0)","v":0},0,{"$f":"IF(ABS(J218)<Sheet2!B$24/2, 1, 0)","v":0}]
[-295.5,0,"2.53398998918579E-003+1.97754519704698E-003i",0,"0.711897463007931+0.555570233019595i","3.52637899329343E-06+0.0000140780940876127i",null,0,null,-295.5,{"$f":"EXP(-((J219)^2/(Sheet2!B$21^2*0.360673760222241)))","v":3.0591037644161673E-11},{"$f":"IF(1-ABS(J219)/Sheet2!B$22 >0, 1-ABS(J219)/Sheet2!B$22,0)","v":0},0,{"$f":"IF(ABS(J219)<Sheet2!B$24/2, 1, 0)","v":0}]
[-294.5,0,"-7.05656707031524E-003-5.54191717328278E-003i",0,"-1.18798712706098-0.932992798834727i","0.0000160627101318279+0.0000658372626109825i",null,0,null,-294.5,{"$f":"EXP(-((J220)^2/(Sheet2!B$21^2*0.360673760222241)))","v":3.602776219088724E-11},{"$f":"IF(1-ABS(J220)/Sheet2!B$22 >0, 1-ABS(J220)/Sheet2!B$22,0)","v":0},0,{"$f":"IF(ABS(J220)<Sheet2!B$24/2, 1, 0)","v":0}]
[-293.5,0,"7.53228058118334E-003+5.95297383556599E-003i",0,"1.2273777398325+0.970031253194533i","0.0000173519142278435+0.0000730654757157856i",null,0,null,-293.5,{"$f":"EXP(-((J221)^2/(Sheet2!B$21^2*0.360673760222241)))","v":4.2407194527360671E-11},{"$f":"IF(1-ABS(J221)/Sheet2!B$22 >0, 1-ABS(J221)/Sheet2!B$22,0)","v":0},0,{"$f":"IF(ABS(J221)<Sheet2!B$24/2, 1, 0)","v":0}]
[-292.5,0,"-3.37238696912787E-003-2.68214234759384E-003i",0,"-0.821265726683564-0.653172842953771i","5.08861646237206E-06+0.0000220275158416546i",null,0,null,-292.5,{"$f":"EXP(-((J222)^2/(Sheet2!B$21^2*0.360673760222241)))","v":4.9888560561702402E-11},{"$f":"IF(1-ABS(J222)/Sheet2!B$22 >0, 1-ABS(J222)/Sheet2!B$22,0)","v":0},0,{"$f":"IF(ABS(J222)<Sheet2!B$24/2, 1, 0)","v":0}]
[-291.5,0,"7.49927189498576E-005+6.00200813569576E-005i",0,"0.122468542041291+9.80171403295626E-002i","1.65062610827234E-08+7.35057185699496E-08i",null,0,null,-291.5,{"$f":"EXP(-((J223)^2/(Sheet2!B$21^2*0.360673760222241)))","v":5.8657234072890277E-11},{"$f":"IF(1-ABS(J223)/Sheet2!B$22 >0, 1-ABS(J223)/Sheet2!B$22,0)","v":0},0,{"$f":"IF(ABS(J223)<Sheet2!B$24/2, 1, 0)","v":0}]
[-290.5,0,"-1.87271160862245E-003-1.50826508905825E-003i",0,"0.611998628857697+0.492898192229771i","-2.01337900461373E-06-9.23056166457647E-06i",null,0,null,-290.5,{"$f":"EXP(-((J224)^2/(Sheet2!B$21^2*0.360673760222241)))","v":6.892890245919324E-11},{"$f":"IF(1-ABS(J224)/Sheet2!B$22 >0, 1-ABS(J224)/Sheet2!B$22,0)","v":0},0,{"$f":"IF(ABS(J224)<Sheet2!B$24/2, 1, 0)","v":0}]
[-289.5,0,"6.22059223467577E-003+5.04155089528554E-003i",0,"-1.11540057689315-0.903989293123422i","-0.0000119047206854974-0.0000562334877703563i",null,0,null,-289.5,{"$f":"EXP(-((J225)^2/(Sheet2!B$21^2*0.360673760222241)))","v":8.0954374655817774E-11},{"$f":"IF(1-ABS(J225)/Sheet2!B$22 >0, 1-ABS(J225)/Sheet2!B$22,0)","v":0},0,{"$f":"IF(ABS(J225)<Sheet2!B$24/2, 1, 0)","v":0}]
[-288.5,0,"-7.29756885929814E-003-5.95158624004091E-003i",0,"1.20810337796773+0.985277642388915i","-0.0000147612636540419-0.0000719013144085986i",null,0,null,-288.5,{"$f":"EXP(-((J226)^2/(Sheet2!B$21^2*0.360673760222241)))","v":9.5025126705378382E-11},{"$f":"IF(1-ABS(J226)/Sheet2!B$22 >0, 1-ABS(J226)/Sheet2!B$22,0)","v":0},0,{"$f":"IF(ABS(J226)<Sheet2!B$24/2, 1, 0)","v":0}]
[-287.5,0,"3.71187710467583E-003+3.04625881397E-003i",0,"-0.861612105842971-0.70710678118654i","-5.22083992091299E-06-0.0000262469347164737i",null,0,null,-287.5,{"$f":"EXP(-((J227)^2/(Sheet2!B$21^2*0.360673760222241)))","v":1.114796941050541E-10},{"$f":"IF(1-ABS(J227)/Sheet2!B$22 >0, 1-ABS(J227)/Sheet2!B$22,0)","v":0},0,{"$f":"IF(ABS(J227)<Sheet2!B$24/2, 1, 0)","v":0}]
[-286.5,0,"-2.14284851415742E-004-1.76962010796824E-004i",0,"0.207019250996553+0.170961888760298i","-7.05366491767464E-08-3.66345429303788E-07i",null,0,null,-286.5,{"$f":"EXP(-((J228)^2/(Sheet2!B$21^2*0.360673760222241)))","v":1.3071103555727568E-10},{"$f":"IF(1-ABS(J228)/Sheet2!B$22 >0, 1-ABS(J228)/Sheet2!B$22,0)","v":0},0,{"$f":"IF(ABS(J228)<Sheet2!B$24/2, 1, 0)","v":0}]
[-285.5,0,"1.32358765673403E-003+1.09990060494125E-003i",0,"0.514507076090144+0.427555093430278i","1.05363554652778E-06+5.65906644238092E-06i",null,0,null,-285.5,{"$f":"EXP(-((J229)^2/(Sheet2!B$21^2*0.360673760222241)))","v":1.5317501035805033E-10},{"$f":"IF(1-ABS(J229)/Sheet2!B$22 >0, 1-ABS(J229)/Sheet2!B$22,0)","v":0},0,{"$f":"IF(ABS(J229)<Sheet2!B$24/2, 1, 0)","v":0}]
[-284.5,0,"-5.41347040973331E-003-4.52674010823266E-003i",0,"-1.04052586798516-0.870086991108701i","0.0000084709915829825+0.0000471019018026143i",null,0,null,-284.5,{"$f":"EXP(-((J230)^2/(Sheet2!B$21^2*0.360673760222241)))","v":1.7940013163964509E-10},{"$f":"IF(1-ABS(J230)/Sheet2!B$22 >0, 1-ABS(J230)/Sheet2!B$22,0)","v":0},0,{"$f":"IF(ABS(J230)<Sheet2!B$24/2, 1, 0)","v":0}]
[-283.5,0,"6.99432282341469E-003+5.88520426472405E-003i",0,"1.18273605030151+0.995184726672186i","0.000012077861765499+0.0000696064324727715i",null,0,null,-283.5,{"$f":"EXP(-((J231)^2/(Sheet2!B$21^2*0.360673760222241)))","v":2.0999878034610909E-10},{"$f":"IF(1-ABS(J231)/Sheet2!B$22 >0, 1-ABS(J231)/Sheet2!B$22,0)","v":0},0,{"$f":"IF(ABS(J231)<Sheet2!B$24/2, 1, 0)","v":0}]
[-282.5,0,"-3.99910897936404E-003-3.38596372444627E-003i",0,"-0.894327566315952-0.757208846506476i","0.0000050631585742309+0.0000302816069731803i",null,0,null,-282.5,{"$f":"EXP(-((J232)^2/(Sheet2!B$21^2*0.360673760222241)))","v":2.4568009050143757E-10},{"$f":"IF(1-ABS(J232)/Sheet2!B$22 >0, 1-ABS(J232)/Sheet2!B$22,0)","v":0},0,{"$f":"IF(ABS(J232)<Sheet2!B$24/2, 1, 0)","v":0}]
[-281.5,0,"4.06698653979947E-004+3.46491207873036E-004i",0,"0.285201211069873+0.242980179903262i","1.59002263158396E-07+9.88197121104575E-07i",null,0,null,-281.5,{"$f":"EXP(-((J233)^2/(Sheet2!B$21^2*0.360673760222241)))","v":2.8726474541190745E-10},{"$f":"IF(1-ABS(J233)/Sheet2!B$22 >0, 1-ABS(J233)/Sheet2!B$22,0)","v":0},0,{"$f":"IF(ABS(J233)<Sheet2!B$24/2, 1, 0)","v":0}]
[-280.5,0,"-8.81225865694853E-004-7.55447828802892E-004i",0,"0.419815641845964+0.35989503653498i","-4.90352392353309E-07-3.17148815129922E-06i",null,0,null,-280.5,{"$f":"EXP(-((J234)^2/(Sheet2!B$21^2*0.360673760222241)))","v":3.3570195735219748E-10},{"$f":"IF(1-ABS(J234)/Sheet2!B$22 >0, 1-ABS(J234)/Sheet2!B$22,0)","v":0},0,{"$f":"IF(ABS(J234)<Sheet2!B$24/2, 1, 0)","v":0}]
[-279.5,0,"4.64555800057745E-003+4.00728588994077E-003i",0,"-0.963904352161435-0.831469612302535i","-5.72968564840253E-06-0.0000386264030966904i",null,0,null,-279.5,{"$f":"EXP(-((J235)^2/(Sheet2!B$21^2*0.360673760222241)))","v":3.9208894049516936E-10},{"$f":"IF(1-ABS(J235)/Sheet2!B$22 >0, 1-ABS(J235)/Sheet2!B$22,0)","v":0},0,{"$f":"IF(ABS(J235)<Sheet2!B$24/2, 1, 0)","v":0}]
[-278.5,0,"-6.63281656442319E-003-5.75709206345129E-003i",0,"1.15176530286541+0.99969881869619i","-9.42044922108059E-06-0.000066308188840837i",null,0,null,-278.5,{"$f":"EXP(-((J236)^2/(Sheet2!B$21^2*0.360673760222241)))","v":4.5769322888879148E-10},{"$f":"IF(1-ABS(J236)/Sheet2!B$22 >0, 1-ABS(J236)/Sheet2!B$22,0)","v":0},0,{"$f":"IF(ABS(J236)<Sheet2!B$24/2, 1, 0)","v":0}]
[-277.5,0,"4.2289677318451E-003+3.69343074424197E-003i",0,"-0.919670346574616-0.803207531480633i","-4.61332414410791E-06-0.0000339673873260645i",null,0,null,-277.5,{"$f":"EXP(-((J237)^2/(Sheet2!B$21^2*0.360673760222241)))","v":5.3397823875293937E-10},{"$f":"IF(1-ABS(J237)/Sheet2!B$22 >0, 1-ABS(J237)/Sheet2!B$22,0)","v":0},0,{"$f":"IF(ABS(J237)<Sheet2!B$24/2, 1, 0)","v":0}]
[-276.5,0,"-6.37060951024679E-004-5.59841042506433E-004i",0,"0.356948441941784+0.313681740398885i","-2.58930006650331E-07-1.99834387857663E-06i",null,0,null,-276.5,{"$f":"EXP(-((J238)^2/(Sheet2!B$21^2*0.360673760222241)))","v":6.2263252792387825E-10},{"$f":"IF(1-ABS(J238)/Sheet2!B$22 >0, 1-ABS(J238)/Sheet2!B$22,0)","v":0},0,{"$f":"IF(ABS(J238)<Sheet2!B$24/2, 1, 0)","v":0}]
[-275.5,0,"5.38863398008607E-004+4.76484148168763E-004i",0,"0.328287495347607+0.29028467725446i","1.92930340493553E-07+1.56423787575166E-06i",null,0,null,-275.5,{"$f":"EXP(-((J239)^2/(Sheet2!B$21^2*0.360673760222241)))","v":7.2560326564970107E-10},{"$f":"IF(1-ABS(J239)/Sheet2!B$22 >0, 1-ABS(J239)/Sheet2!B$22,0)","v":0},0,{"$f":"IF(ABS(J239)<Sheet2!B$24/2, 1, 0)","v":0}]
[-274.5,0,"-3.9255154097937E-003-3.49261286513471E-003i",0,"-0.88606042793831-0.788346427626595i","0.000003624274942843+0.0000309466604990406i",null,0,null,-274.5,{"$f":"EXP(-((J240)^2/(Sheet2!B$21^2*0.360673760222241)))","v":8.4513449395340045E-10},{"$f":"IF(1-ABS(J240)/Sheet2!B$22 >0, 1-ABS(J240)/Sheet2!B$22,0)","v":0},0,{"$f":"IF(ABS(J240)<Sheet2!B$24/2, 1, 0)","v":0}]
[-273.5,0,"6.22374038036242E-003+5.57169447961766E-003i",0,"1.11568278469823+0.998795456205157i","6.89368434598045E-06+0.0000621624361250706i",null,0,null,-273.5,{"$f":"EXP(-((J241)^2/(Sheet2!B$21^2*0.360673760222241)))","v":9.8381083833958129E-10},{"$f":"IF(1-ABS(J241)/Sheet2!B$22 >0, 1-ABS(J241)/Sheet2!B$22,0)","v":0},0,{"$f":"IF(ABS(J241)<Sheet2!B$24/2, 1, 0)","v":0}]
[-272.5,0,"-4.39846111312785E-003-3.9620214428055E-003i",0,"-0.937919091726207-0.844853565249694i","3.89036355333976E-06+0.0000371605555303705i",null,0,null,-272.5,{"$f":"EXP(-((J242)^2/(Sheet2!B$21^2*0.360673760222241)))","v":1.1446074117345377E-9},{"$f":"IF(1-ABS(J242)/Sheet2!B$22 >0, 1-ABS(J242)/Sheet2!B$22,0)","v":0},0,{"$f":"IF(ABS(J242)<Sheet2!B$24/2, 1, 0)","v":0}]
[-271.5,0,"8.91374406662657E-004+8.07894670014847E-004i",0,"0.422226102144975+0.382683432365083i","3.35968179831129E-07+3.41114217464062E-06i",null,0,null,-271.5,{"$f":"EXP(-((J243)^2/(Sheet2!B$21^2*0.360673760222241)))","v":1.3309467523357902E-9},{"$f":"IF(1-ABS(J243)/Sheet2!B$22 >0, 1-ABS(J243)/Sheet2!B$22,0)","v":0},0,{"$f":"IF(ABS(J243)<Sheet2!B$24/2, 1, 0)","v":0}]
[-270.5,0,"-2.88613546815343E-004-2.63201399332907E-004i",0,"0.240255508496239+0.219101240156865i","-5.83662072208057E-08-6.32355860334812E-07i",null,0,null,-270.5,{"$f":"EXP(-((J244)^2/(Sheet2!B$21^2*0.360673760222241)))","v":1.5467637447459488E-9},{"$f":"IF(1-ABS(J244)/Sheet2!B$22 >0, 1-ABS(J244)/Sheet2!B$22,0)","v":0},0,{"$f":"IF(ABS(J244)<Sheet2!B$24/2, 1, 0)","v":0}]
[-269.5,0,"3.26028373132479E-003+2.9915913070354E-003i",0,"-0.80750030728448-0.740951125354943i","-2.08028584664707E-06-0.0000241571089970109i",null,0,null,-269.5,{"$f":"EXP(-((J245)^2/(Sheet2!B$21^2*0.360673760222241)))","v":1.7965795957485471E-9},{"$f":"IF(1-ABS(J245)/Sheet2!B$22 >0, 1-ABS(J245)/Sheet2!B$22,0)","v":0},0,{"$f":"IF(ABS(J245)<Sheet2!B$24/2, 1, 0)","v":0}]
[-268.5,0,"-5.77791904144995E-003-5.33448242336869E-003i",0,"1.07498084089405+0.992479534598686i","-4.58393818462891E-06-0.0000573446640120727i",null,0,null,-268.5,{"$f":"EXP(-((J246)^2/(Sheet2!B$21^2*0.360673760222241)))","v":2.0855860728689086E-9},{"$f":"IF(1-ABS(J246)/Sheet2!B$22 >0, 1-ABS(J246)/Sheet2!B$22,0)","v":0},0,{"$f":"IF(ABS(J246)<Sheet2!B$24/2, 1, 0)","v":0}]
[-267.5,0,"4.50653389525366E-003+4.18635580832391E-003i",0,"-0.94937178125875-0.881921264348334i","-2.93169951975443E-06-0.0000397440807073106i",null,0,null,-267.5,{"$f":"EXP(-((J247)^2/(Sheet2!B$21^2*0.360673760222241)))","v":2.4197413671273492E-9},{"$f":"IF(1-ABS(J247)/Sheet2!B$22 >0, 1-ABS(J247)/Sheet2!B$22,0)","v":0},0,{"$f":"IF(ABS(J247)<Sheet2!B$24/2, 1, 0)","v":0}]
[-266.5,0,"-1.15695004340583E-003-1.08138303484151E-003i",0,"0.481030153608639+0.449611329654594i","-3.51628964680083E-07-5.20177847359612E-06i",null,0,null,-266.5,{"$f":"EXP(-((J248)^2/(Sheet2!B$21^2*0.360673760222241)))","v":2.8058791129876343E-9},{"$f":"IF(1-ABS(J248)/Sheet2!B$22 >0, 1-ABS(J248)/Sheet2!B$22,0)","v":0},0,{"$f":"IF(ABS(J248)<Sheet2!B$24/2, 1, 0)","v":0}]
[-265.5,0,"1.21713870630311E-004+1.14465697985439E-004i",0,"0.156021710431095+0.14673047445536i","1.09720005233137E-08+1.78591339853806E-07i",null,0,null,-265.5,{"$f":"EXP(-((J249)^2/(Sheet2!B$21^2*0.360673760222241)))","v":3.2518322904719814E-9},{"$f":"IF(1-ABS(J249)/Sheet2!B$22 >0, 1-ABS(J249)/Sheet2!B$22,0)","v":0},0,{"$f":"IF(ABS(J249)<Sheet2!B$24/2, 1, 0)","v":0}]
[-264.5,0,"-2.65509689104526E-003-2.51237808733839E-003i",0,"-0.728710764438602-0.689540544737048i","1.01205565101706E-06+0.0000183079695658207i",null,0,null,-264.5,{"$f":"EXP(-((J250)^2/(Sheet2!B$21^2*0.360673760222241)))","v":3.7665739490051389E-9},{"$f":"IF(1-ABS(J250)/Sheet2!B$22 >0, 1-ABS(J250)/Sheet2!B$22,0)","v":0},0,{"$f":"IF(ABS(J250)<Sheet2!B$24/2, 1, 0)","v":0}]
[-263.5,0,"5.30605536369884E-003+5.0517846630206E-003i",0,"1.03015099511607+0.980785280403199i","0.0000025566108789904+0.0000520410099772152i",null,0,null,-263.5,{"$f":"EXP(-((J251)^2/(Sheet2!B$21^2*0.360673760222241)))","v":4.3603769322414737E-9},{"$f":"IF(1-ABS(J251)/Sheet2!B$22 >0, 1-ABS(J251)/Sheet2!B$22,0)","v":0},0,{"$f":"IF(ABS(J251)<Sheet2!B$24/2, 1, 0)","v":0}]
[-262.5,0,"-4.55386707118373E-003-4.36235523600578E-003i",0,"-0.954344494528063-0.914209755703498i","1.78925126798054E-06+0.0000416318970265543i",null,0,null,-262.5,{"$f":"EXP(-((J252)^2/(Sheet2!B$21^2*0.360673760222241)))","v":5.044995050642285E-9},{"$f":"IF(1-ABS(J252)/Sheet2!B$22 >0, 1-ABS(J252)/Sheet2!B$22,0)","v":0},0,{"$f":"IF(ABS(J252)<Sheet2!B$24/2, 1, 0)","v":0}]
[-261.5,0,"1.42250776372127E-003+1.37107826709184E-003i",0,"0.533386869676762+0.514102744193202i","2.69359317833021E-07+7.31315144965598E-06i",null,0,null,-261.5,{"$f":"EXP(-((J253)^2/(Sheet2!B$21^2*0.360673760222241)))","v":5.8338684468995969E-9},{"$f":"IF(1-ABS(J253)/Sheet2!B$22 >0, 1-ABS(J253)/Sheet2!B$22,0)","v":0},0,{"$f":"IF(ABS(J253)<Sheet2!B$24/2, 1, 0)","v":0}]
[-260.5,0,"-2.87713001251402E-005-2.79018762912794E-005i",0,"7.5856839009719E-002+7.35645635996617E-002i","-6.4955264356676E-10-2.11654813789875E-08i",null,0,null,-260.5,{"$f":"EXP(-((J254)^2/(Sheet2!B$21^2*0.360673760222241)))","v":6.7423562317275624E-9},{"$f":"IF(1-ABS(J254)/Sheet2!B$22 >0, 1-ABS(J254)/Sheet2!B$22,0)","v":0},0,{"$f":"IF(ABS(J254)<Sheet2!B$24/2, 1, 0)","v":0}]
[-259.5,0,"2.11352641046388E-003+2.06227899571479E-003i",0,"-0.650157890124706-0.634393284163609i","-3.29149633984524E-07-0.0000134080696070157i",null,0,null,-259.5,{"$f":"EXP(-((J255)^2/(Sheet2!B$21^2*0.360673760222241)))","v":7.787999837664784E-9},{"$f":"IF(1-ABS(J255)/Sheet2!B$22 >0, 1-ABS(J255)/Sheet2!B$22,0)","v":0},0,{"$f":"IF(ABS(J255)<Sheet2!B$24/2, 1, 0)","v":0}]
[-258.5,0,"-4.81850114607756E-003-4.73060974834994E-003i",0,"0.981682346388368+0.963776065795367i","-8.54945295392716E-07-0.0000464395607760248i",null,0,null,-258.5,{"$f":"EXP(-((J256)^2/(Sheet2!B$21^2*0.360673760222241)))","v":8.9908209502891468E-9},{"$f":"IF(1-ABS(J256)/Sheet2!B$22 >0, 1-ABS(J256)/Sheet2!B$22,0)","v":0},0,{"$f":"IF(ABS(J256)<Sheet2!B$24/2, 1, 0)","v":0}]
[-257.5,0,"4.54266554172062E-003+4.48725792990147E-003i",0,"-0.953170031176872-0.941544065182916i","-5.24907915921201E-07-0.0000427711978093042i",null,0,null,-257.5,{"$f":"EXP(-((J257)^2/(Sheet2!B$21^2*0.360673760222241)))","v":1.0373658333953505E-8},{"$f":"IF(1-ABS(J257)/Sheet2!B$22 >0, 1-ABS(J257)/Sheet2!B$22,0)","v":0},0,{"$f":"IF(ABS(J257)<Sheet2!B$24/2, 1, 0)","v":0}]
[-256.5,0,"-1.67824480152845E-003-1.66797868427423E-003i",0,"0.579352190201596+0.575808191417722i","-5.92950597234714E-08-9.66347103934071E-06i",null,0,null,-256.5,{"$f":"EXP(-((J258)^2/(Sheet2!B$21^2*0.360673760222241)))","v":1.1962548377516362E-8},{"$f":"IF(1-ABS(J258)/Sheet2!B$22 >0, 1-ABS(J258)/Sheet2!B$22,0)","v":0},0,{"$f":"IF(ABS(J258)<Sheet2!B$24/2, 1, 0)","v":0}]
[-255.5,0,"0",0,"0","0",null,{"$f":"IMABS(G259)","v":0},null,-255.5,{"$f":"EXP(-((J259)^2/(Sheet2!B$21^2*0.360673760222241)))","v":1.3787154749707737E-8},{"$f":"IF(1-ABS(J259)/Sheet2!B$22 >0, 1-ABS(J259)/Sheet2!B$22,0)","v":0},0,{"$f":"IF(ABS(J259)<Sheet2!B$24/2, 1, 0)","v":0}]
[-254.5,0,"-1.63755559585663E-003-1.64763446434301E-003i",0,"-0.572285871895078-0.575808191417844i",{"$f":"IMPRODUCT(C260,E260,D$1027)","v":"-5.78574453979067E-08+9.42917925993648E-06i"},null,0,null,-254.5,{"$f":"EXP(-((J260)^2/(Sheet2!B$21^2*0.360673760222241)))","v":1.5881253179346584E-8},{"$f":"IF(1-ABS(J260)/Sheet2!B$22 >0, 1-ABS(J260)/Sheet2!B$22,0)","v":0},0,{"$f":"IF(ABS(J260)<Sheet2!B$24/2, 1, 0)","v":0}]
[{"$f":"A260+1","v":-253.5},0,"4.3250571152834E-003+4.37846190938671E-003i",0,"0.930059902939614+0.941544065183018i","-4.99763122820984E-07+0.0000407223185847084i",null,0,null,{"$f":"J260+1","v":-253.5},{"$f":"EXP(-((J261)^2/(Sheet2!B$21^2*0.360673760222241)))","v":1.8283278068713415E-8},{"$f":"IF(1-ABS(J261)/Sheet2!B$22 >0, 1-ABS(J261)/Sheet2!B$22,0)","v":0},0,{"$f":"IF(ABS(J261)<Sheet2!B$24/2, 1, 0)","v":0}]
[-252.5,0,"-4.47643816485386E-003-4.55960723356383E-003i",0,"-0.946196402958057-0.963776065795436i","-7.94253157438358E-07+0.0000431428396329951i",null,0,null,-252.5,{"$f":"EXP(-((J262)^2/(Sheet2!B$21^2*0.360673760222241)))","v":2.1036938415630006E-8},{"$f":"IF(1-ABS(J262)/Sheet2!B$22 >0, 1-ABS(J262)/Sheet2!B$22,0)","v":0},0,{"$f":"IF(ABS(J262)<Sheet2!B$24/2, 1, 0)","v":0}]
[-251.5,0,"1.9158726456732E-003+1.96348187812228E-003i",0,"0.619010928121982+0.634393284163644i","-2.98368062480543E-07+0.0000121541673972754i",null,0,null,-251.5,{"$f":"EXP(-((J263)^2/(Sheet2!B$21^2*0.360673760222241)))","v":2.4191911368420111E-8},{"$f":"IF(1-ABS(J263)/Sheet2!B$22 >0, 1-ABS(J263)/Sheet2!B$22,0)","v":0},0,{"$f":"IF(ABS(J263)<Sheet2!B$24/2, 1, 0)","v":0}]
[-250.5,0,"-2.54480889055038E-005-2.62410526028927E-005i",0,"-7.13415571787273E-002-7.35645635996683E-002i","-5.74526466932032E-10+1.8720775547391E-08i",null,0,null,-250.5,{"$f":"EXP(-((J264)^2/(Sheet2!B$21^2*0.360673760222241)))","v":2.7804622675758897E-8},{"$f":"IF(1-ABS(J264)/Sheet2!B$22 >0, 1-ABS(J264)/Sheet2!B$22,0)","v":0},0,{"$f":"IF(ABS(J264)<Sheet2!B$24/2, 1, 0)","v":0}]
[-249.5,0,"1.22767963454005E-003+1.27373021177098E-003i",0,"-0.495515819028628-0.514102744193218i","2.3246758809695E-07-6.31153469107186E-06i",null,0,null,-249.5,{"$f":"EXP(-((J265)^2/(Sheet2!B$21^2*0.360673760222241)))","v":3.1939124328957559E-8},{"$f":"IF(1-ABS(J265)/Sheet2!B$22 >0, 1-ABS(J265)/Sheet2!B$22,0)","v":0},0,{"$f":"IF(ABS(J265)<Sheet2!B$24/2, 1, 0)","v":0}]
[-248.5,0,"-3.83480305839151E-003-4.00315481599684E-003i",0,"0.875762874114763+0.914209755703523i","0.0000015067251914741-0.0000350581436718349i",null,0,null,-248.5,{"$f":"EXP(-((J266)^2/(Sheet2!B$21^2*0.360673760222241)))","v":3.6668080836665536E-8},{"$f":"IF(1-ABS(J266)/Sheet2!B$22 >0, 1-ABS(J266)/Sheet2!B$22,0)","v":0},0,{"$f":"IF(ABS(J266)<Sheet2!B$24/2, 1, 0)","v":0}]
[-247.5,0,"4.35977411880945E-003+4.57921395917192E-003i",0,"-0.933785212863135-0.98078528040323i","2.10066521702574E-06-0.0000427600228161123i",null,0,null,-247.5,{"$f":"EXP(-((J267)^2/(Sheet2!B$21^2*0.360673760222241)))","v":4.207387683125994E-8},{"$f":"IF(1-ABS(J267)/Sheet2!B$22 >0, 1-ABS(J267)/Sheet2!B$22,0)","v":0},0,{"$f":"IF(ABS(J267)<Sheet2!B$24/2, 1, 0)","v":0}]
[-246.5,0,"-2.12862356139387E-003-2.24954270559526E-003i",0,"0.652475832716136+0.689540544737065i","8.11377359328972E-07-0.0000146777225006373i",null,0,null,-246.5,{"$f":"EXP(-((J268)^2/(Sheet2!B$21^2*0.360673760222241)))","v":4.8249860093055748E-8},{"$f":"IF(1-ABS(J268)/Sheet2!B$22 >0, 1-ABS(J268)/Sheet2!B$22,0)","v":0},0,{"$f":"IF(ABS(J268)<Sheet2!B$24/2, 1, 0)","v":0}]
[-245.5,0,"9.52097056239836E-005+1.01238554405016E-004i",0,"-0.137992540104886-0.14673047445536i","8.58275999665413E-09-1.39701652789286E-07i",null,0,null,-245.5,{"$f":"EXP(-((J269)^2/(Sheet2!B$21^2*0.360673760222241)))","v":5.530173560451404E-8},{"$f":"IF(1-ABS(J269)/Sheet2!B$22 >0, 1-ABS(J269)/Sheet2!B$22,0)","v":0},0,{"$f":"IF(ABS(J269)<Sheet2!B$24/2, 1, 0)","v":0}]
[-244.5,0,"-8.83027822376336E-004-9.44733775648152E-004i",0,"-0.420244648359922-0.449611329654606i","-2.68376461661054E-07+3.97019313340817E-06i",null,0,null,-244.5,{"$f":"EXP(-((J270)^2/(Sheet2!B$21^2*0.360673760222241)))","v":6.3349127924315245E-8},{"$f":"IF(1-ABS(J270)/Sheet2!B$22 >0, 1-ABS(J270)/Sheet2!B$22,0)","v":0},0,{"$f":"IF(ABS(J270)<Sheet2!B$24/2, 1, 0)","v":0}]
[-243.5,0,"3.35595882293052E-003+3.61262703866262E-003i",0,"0.81926293983433+0.881921264348353i","-2.18319957159684E-06+0.0000295969144821981i",null,0,null,-243.5,{"$f":"EXP(-((J271)^2/(Sheet2!B$21^2*0.360673760222241)))","v":7.2527331013934428E-8},{"$f":"IF(1-ABS(J271)/Sheet2!B$22 >0, 1-ABS(J271)/Sheet2!B$22,0)","v":0},0,{"$f":"IF(ABS(J271)<Sheet2!B$24/2, 1, 0)","v":0}]
[-242.5,0,"-4.19811950323915E-003-4.5470942991168E-003i",0,"-0.916309937001335-0.992479534598708i","-3.33059708113369E-06+0.000041665476907637i",null,0,null,-242.5,{"$f":"EXP(-((J272)^2/(Sheet2!B$21^2*0.360673760222241)))","v":8.2989266671627924E-8},{"$f":"IF(1-ABS(J272)/Sheet2!B$22 >0, 1-ABS(J272)/Sheet2!B$22,0)","v":0},0,{"$f":"IF(ABS(J272)<Sheet2!B$24/2, 1, 0)","v":0}]
[-241.5,0,"2.31122836962659E-003+2.51881339377701E-003i",0,"0.679886515475177+0.740951125354959i","-1.47472307992711E-06+0.0000171250726142719i",null,0,null,-241.5,{"$f":"EXP(-((J273)^2/(Sheet2!B$21^2*0.360673760222241)))","v":9.4907674945993461E-8},{"$f":"IF(1-ABS(J273)/Sheet2!B$22 >0, 1-ABS(J273)/Sheet2!B$22,0)","v":0},0,{"$f":"IF(ABS(J273)<Sheet2!B$24/2, 1, 0)","v":0}]
[-240.5,0,"-1.99619351226355E-004-2.18892639310869E-004i",0,"-0.199809584965376-0.219101240156873i","-4.03689450731344E-08+4.37368474128426E-07i",null,0,null,-240.5,{"$f":"EXP(-((J274)^2/(Sheet2!B$21^2*0.360673760222241)))","v":1.0847756233006705E-7},{"$f":"IF(1-ABS(J274)/Sheet2!B$22 >0, 1-ABS(J274)/Sheet2!B$22,0)","v":0},0,{"$f":"IF(ABS(J274)<Sheet2!B$24/2, 1, 0)","v":0}]
[-239.5,0,"6.01503959684789E-004+6.63657349242581E-004i",0,"-0.34684404555463-0.382683432365089i","2.26713027641331E-07-2.30185599873363E-06i",null,0,null,-239.5,{"$f":"EXP(-((J275)^2/(Sheet2!B$21^2*0.360673760222241)))","v":1.2391893619503115E-7},{"$f":"IF(1-ABS(J275)/Sheet2!B$22 >0, 1-ABS(J275)/Sheet2!B$22,0)","v":0},0,{"$f":"IF(ABS(J275)<Sheet2!B$24/2, 1, 0)","v":0}]
[-238.5,0,"-2.89577634706792E-003-3.21476292815624E-003i",0,"0.761022515707042+0.844853565249705i","2.56126460357402E-06-0.0000244650697098665i",null,0,null,-238.5,{"$f":"EXP(-((J276)^2/(Sheet2!B$21^2*0.360673760222241)))","v":1.4147985682892788E-7},{"$f":"IF(1-ABS(J276)/Sheet2!B$22 >0, 1-ABS(J276)/Sheet2!B$22,0)","v":0},0,{"$f":"IF(ABS(J276)<Sheet2!B$24/2, 1, 0)","v":0}]
[-237.5,0,"3.99755798991593E-003+4.46538538243626E-003i",0,"-0.894154124288948-0.99879545620517i","4.42786833207378E-06-0.0000399274275624483i",null,0,null,-237.5,{"$f":"EXP(-((J277)^2/(Sheet2!B$21^2*0.360673760222241)))","v":1.6143984162055291E-7},{"$f":"IF(1-ABS(J277)/Sheet2!B$22 >0, 1-ABS(J277)/Sheet2!B$22,0)","v":0},0,{"$f":"IF(ABS(J277)<Sheet2!B$24/2, 1, 0)","v":0}]
[-236.5,0,"-2.45986763257139E-003-2.76476342228131E-003i",0,"0.701408245256725+0.788346427626603i","0.0000022710996373123-0.0000193922786057214i",null,0,null,-236.5,{"$f":"EXP(-((J278)^2/(Sheet2!B$21^2*0.360673760222241)))","v":1.8411365939341606E-7},{"$f":"IF(1-ABS(J278)/Sheet2!B$22 >0, 1-ABS(J278)/Sheet2!B$22,0)","v":0},0,{"$f":"IF(ABS(J278)<Sheet2!B$24/2, 1, 0)","v":0}]
[-235.5,0,"3.29425923184505E-004+3.72552944398076E-004i",0,"-0.256681095207429-0.29028467725446i","1.17945022360386E-07-9.56272977908586E-07i",null,0,null,-235.5,{"$f":"EXP(-((J279)^2/(Sheet2!B$21^2*0.360673760222241)))","v":2.0985555667218764E-7},{"$f":"IF(1-ABS(J279)/Sheet2!B$22 >0, 1-ABS(J279)/Sheet2!B$22,0)","v":0},0,{"$f":"IF(ABS(J279)<Sheet2!B$24/2, 1, 0)","v":0}]
[-234.5,0,"-3.79940840077887E-004-4.32346781560931E-004i",0,"-0.275659514647007-0.313681740398892i","-1.5442491662723E-07+1.19180503964265E-06i",null,0,null,-234.5,{"$f":"EXP(-((J280)^2/(Sheet2!B$21^2*0.360673760222241)))","v":2.3906396177864964E-7},{"$f":"IF(1-ABS(J280)/Sheet2!B$22 >0, 1-ABS(J280)/Sheet2!B$22,0)","v":0},0,{"$f":"IF(ABS(J280)<Sheet2!B$24/2, 1, 0)","v":0}]
[-233.5,0,"2.46046236032731E-003+2.81722242753994E-003i",0,"0.701493030660514+0.803207531480644i","-2.68408536842068E-06+0.0000197626189873965i",null,0,null,-233.5,{"$f":"EXP(-((J281)^2/(Sheet2!B$21^2*0.360673760222241)))","v":2.7218671713157461E-7},{"$f":"IF(1-ABS(J281)/Sheet2!B$22 >0, 1-ABS(J281)/Sheet2!B$22,0)","v":0},0,{"$f":"IF(ABS(J281)<Sheet2!B$24/2, 1, 0)","v":0}]
[-232.5,0,"-3.76459913083794E-003-4.33724095398158E-003i",0,"-0.867709528682837-0.999698818696203i","-5.34678060298486E-06+0.0000376346530396335i",null,0,null,-232.5,{"$f":"EXP(-((J282)^2/(Sheet2!B$21^2*0.360673760222241)))","v":3.097268949922998E-7},{"$f":"IF(1-ABS(J282)/Sheet2!B$22 >0, 1-ABS(J282)/Sheet2!B$22,0)","v":0},0,{"$f":"IF(ABS(J282)<Sheet2!B$24/2, 1, 0)","v":0}]
[-231.5,0,"2.57209881178553E-003+2.98177732798133E-003i",0,"0.717230620063387+0.831469612302542i","-3.17234606613955E-06+0.0000213862200183907i",null,0,null,-231.5,{"$f":"EXP(-((J283)^2/(Sheet2!B$21^2*0.360673760222241)))","v":3.5224925718378116E-7},{"$f":"IF(1-ABS(J283)/Sheet2!B$22 >0, 1-ABS(J283)/Sheet2!B$22,0)","v":0},0,{"$f":"IF(ABS(J283)<Sheet2!B$24/2, 1, 0)","v":0}]
[-230.5,0,"-4.75944378078741E-004-5.55186580202729E-004i",0,"-0.308526944715518-0.359895036534986i","-2.64836148713169E-07+1.71290019337137E-06i",null,0,null,-230.5,{"$f":"EXP(-((J284)^2/(Sheet2!B$21^2*0.360673760222241)))","v":4.0038742504581535E-7},{"$f":"IF(1-ABS(J284)/Sheet2!B$22 >0, 1-ABS(J284)/Sheet2!B$22,0)","v":0},0,{"$f":"IF(ABS(J284)<Sheet2!B$24/2, 1, 0)","v":0}]
[-229.5,0,"2.14264721507219E-004+2.51496060657818E-004i",0,"-0.207009527078615-0.242980179903263i","8.376859697379E-08-5.20620805788281E-07i",null,0,null,-229.5,{"$f":"EXP(-((J285)^2/(Sheet2!B$21^2*0.360673760222241)))","v":4.5485183210463155E-7},{"$f":"IF(1-ABS(J285)/Sheet2!B$22 >0, 1-ABS(J285)/Sheet2!B$22,0)","v":0},0,{"$f":"IF(ABS(J285)<Sheet2!B$24/2, 1, 0)","v":0}]
[-228.5,0,"-2.05513088639066E-003-2.42728305746371E-003i",0,"0.641113232805261+0.75720884650648i","0.0000026019429883748-0.0000155616328790385i",null,0,null,-228.5,{"$f":"EXP(-((J286)^2/(Sheet2!B$21^2*0.360673760222241)))","v":5.1643853866459314E-7},{"$f":"IF(1-ABS(J286)/Sheet2!B$22 >0, 1-ABS(J286)/Sheet2!B$22,0)","v":0},0,{"$f":"IF(ABS(J286)<Sheet2!B$24/2, 1, 0)","v":0}]
[-227.5,0,"3.50597765691597E-003+4.16671001398087E-003i",0,"-0.837374188390672-0.99518472667219i","6.05415485704994E-06-0.0000348909541621662i",null,0,null,-227.5,{"$f":"EXP(-((J287)^2/(Sheet2!B$21^2*0.360673760222241)))","v":5.8603899480808158E-7},{"$f":"IF(1-ABS(J287)/Sheet2!B$22 >0, 1-ABS(J287)/Sheet2!B$22,0)","v":0},0,{"$f":"IF(ABS(J287)<Sheet2!B$24/2, 1, 0)","v":0}]
[-226.5,0,"-2.64676231980389E-003-3.16522909583565E-003i",0,"0.727566123428089+0.870086991108702i","4.14165029755053E-06-0.000023029134630185i",null,0,null,-226.5,{"$f":"EXP(-((J288)^2/(Sheet2!B$21^2*0.360673760222241)))","v":6.6465084615331176E-7},{"$f":"IF(1-ABS(J288)/Sheet2!B$22 >0, 1-ABS(J288)/Sheet2!B$22,0)","v":0},0,{"$f":"IF(ABS(J288)<Sheet2!B$24/2, 1, 0)","v":0}]
[-225.5,0,"6.31183501458798E-004+7.59547442659146E-004i",0,"-0.355298044309397-0.427555093430272i","5.02450570710935E-07-2.69865720937431E-06i",null,0,null,-225.5,{"$f":"EXP(-((J289)^2/(Sheet2!B$21^2*0.360673760222241)))","v":7.5338988520664513E-7},{"$f":"IF(1-ABS(J289)/Sheet2!B$22 >0, 1-ABS(J289)/Sheet2!B$22,0)","v":0},0,{"$f":"IF(ABS(J289)<Sheet2!B$24/2, 1, 0)","v":0}]
[-224.5,0,"-9.96657105329856E-005-1.20686083277359E-004i",0,"-0.141184780003759-0.170961888760312i","-3.28071966433185E-08+1.70390381171935E-07i",null,0,null,-224.5,{"$f":"EXP(-((J290)^2/(Sheet2!B$21^2*0.360673760222241)))","v":8.5350326029545931E-7},{"$f":"IF(1-ABS(J290)/Sheet2!B$22 >0, 1-ABS(J290)/Sheet2!B$22,0)","v":0},0,{"$f":"IF(ABS(J290)<Sheet2!B$24/2, 1, 0)","v":0}]
[-223.5,0,"1.68378419429057E-003+2.05169697707233E-003i",0,"0.580307538170923+0.707106781186546i","-2.36828092413955E-06+0.0000119061522183758i",null,0,null,-223.5,{"$f":"EXP(-((J291)^2/(Sheet2!B$21^2*0.360673760222241)))","v":9.6638406392060546E-7},{"$f":"IF(1-ABS(J291)/Sheet2!B$22 >0, 1-ABS(J291)/Sheet2!B$22,0)","v":0},0,{"$f":"IF(ABS(J291)<Sheet2!B$24/2, 1, 0)","v":0}]
[-222.5,0,"-3.22846675870262E-003-3.95860154442335E-003i",0,"-0.803550466206408-0.985277642388939i","-6.53042813879635E-06+0.0000318093611654618i",null,0,null,-222.5,{"$f":"EXP(-((J292)^2/(Sheet2!B$21^2*0.360673760222241)))","v":1.093587432966015E-6},{"$f":"IF(1-ABS(J292)/Sheet2!B$22 >0, 1-ABS(J292)/Sheet2!B$22,0)","v":0},0,{"$f":"IF(ABS(J292)<Sheet2!B$24/2, 1, 0)","v":0}]
[-221.5,0,"2.68386966480495E-003+3.31153233252204E-003i",0,"0.732648573984109+0.903989293123442i","-5.13628244876733E-06+0.0000242618944112351i",null,0,null,-221.5,{"$f":"EXP(-((J293)^2/(Sheet2!B$21^2*0.360673760222241)))","v":1.2368483045907367E-6},{"$f":"IF(1-ABS(J293)/Sheet2!B$22 >0, 1-ABS(J293)/Sheet2!B$22,0)","v":0},0,{"$f":"IF(ABS(J293)<Sheet2!B$24/2, 1, 0)","v":0}]
[-220.5,0,"-7.87948816153259E-004-9.78343200881728E-004i",0,"-0.39697577159095-0.492898192229785i","-8.47135029141448E-07+3.88378547051162E-06i",null,0,null,-220.5,{"$f":"EXP(-((J294)^2/(Sheet2!B$21^2*0.360673760222241)))","v":1.3981009838499813E-6},{"$f":"IF(1-ABS(J294)/Sheet2!B$22 >0, 1-ABS(J294)/Sheet2!B$22,0)","v":0},0,{"$f":"IF(ABS(J294)<Sheet2!B$24/2, 1, 0)","v":0}]
[-219.5,0,"3.07701079489287E-005+3.84460334822942E-005i",0,"-7.84475722357002E-002-9.80171403295603E-002i","6.77264996462564E-09-3.01599798878214E-08i",null,0,null,-219.5,{"$f":"EXP(-((J295)^2/(Sheet2!B$21^2*0.360673760222241)))","v":1.579500692192263E-6},{"$f":"IF(1-ABS(J295)/Sheet2!B$22 >0, 1-ABS(J295)/Sheet2!B$22,0)","v":0},0,{"$f":"IF(ABS(J295)<Sheet2!B$24/2, 1, 0)","v":0}]
[-218.5,0,"-1.34932039585273E-003-1.69656562942426E-003i",0,"0.519484435926917+0.653172842953774i","2.03599825352232E-06-8.81339439014548E-06i",null,0,null,-218.5,{"$f":"EXP(-((J296)^2/(Sheet2!B$21^2*0.360673760222241)))","v":1.7834472800060136E-6},{"$f":"IF(1-ABS(J296)/Sheet2!B$22 >0, 1-ABS(J296)/Sheet2!B$22,0)","v":0},0,{"$f":"IF(ABS(J296)<Sheet2!B$24/2, 1, 0)","v":0}]
[-217.5,0,"2.93870794429197E-003+3.71833866467049E-003i",0,"-0.766643064833969-0.97003125319454i","6.76982324814049E-06-0.0000285063854997396i",null,0,null,-217.5,{"$f":"EXP(-((J297)^2/(Sheet2!B$21^2*0.360673760222241)))","v":2.0126113013877681E-6},{"$f":"IF(1-ABS(J297)/Sheet2!B$22 >0, 1-ABS(J297)/Sheet2!B$22,0)","v":0},0,{"$f":"IF(ABS(J297)<Sheet2!B$24/2, 1, 0)","v":0}]
[-216.5,0,"-2.68447708945993E-003-3.41816595921283E-003i",0,"0.732731477344362+0.932992798834733i","0.0000061106168075526-0.0000250459779310258i",null,0,null,-216.5,{"$f":"EXP(-((J298)^2/(Sheet2!B$21^2*0.360673760222241)))","v":2.2699626653233123E-6},{"$f":"IF(1-ABS(J298)/Sheet2!B$22 >0, 1-ABS(J298)/Sheet2!B$22,0)","v":0},0,{"$f":"IF(ABS(J298)<Sheet2!B$24/2, 1, 0)","v":0}]
[-215.5,0,"9.39920210573553E-004+1.20439644453289E-003i",0,"-0.433571265324225-0.555570233019602i","1.30802209167465E-06-5.22191690408153E-06i",null,0,null,-215.5,{"$f":"EXP(-((J299)^2/(Sheet2!B$21^2*0.360673760222241)))","v":2.5588020945599071E-6},{"$f":"IF(1-ABS(J299)/Sheet2!B$22 >0, 1-ABS(J299)/Sheet2!B$22,0)","v":0},0,{"$f":"IF(ABS(J299)<Sheet2!B$24/2, 1, 0)","v":0}]
[-214.5,0,"-1.81095282973053E-006-2.3352580113313E-006i",0,"-1.90313048856715E-002-2.45412285229122E-002i","-1.14226525399358E-10+4.44430072194922E-10i",null,0,null,-214.5,{"$f":"EXP(-((J300)^2/(Sheet2!B$21^2*0.360673760222241)))","v":2.8827956416503069E-6},{"$f":"IF(1-ABS(J300)/Sheet2!B$22 >0, 1-ABS(J300)/Sheet2!B$22,0)","v":0},0,{"$f":"IF(ABS(J300)<Sheet2!B$24/2, 1, 0)","v":0}]
[-213.5,0,"1.05356548494953E-003+1.36723404011969E-003i",0,"0.459034962709482+0.595699304492433i","-1.65418486840937E-06+6.27608226621572E-06i",null,0,null,-213.5,{"$f":"EXP(-((J301)^2/(Sheet2!B$21^2*0.360673760222241)))","v":3.2460125310138991E-6},{"$f":"IF(1-ABS(J301)/Sheet2!B$22 >0, 1-ABS(J301)/Sheet2!B$22,0)","v":0},0,{"$f":"IF(ABS(J301)<Sheet2!B$24/2, 1, 0)","v":0}]
[-212.5,0,"-2.64305962993953E-003-3.45180569805857E-003i",0,"-0.727057030766892-0.949528180593035i","-6.77965848777275E-06+0.0000250965960161504i",null,0,null,-212.5,{"$f":"EXP(-((J302)^2/(Sheet2!B$21^2*0.360673760222241)))","v":3.6529666164343979E-6},{"$f":"IF(1-ABS(J302)/Sheet2!B$22 >0, 1-ABS(J302)/Sheet2!B$22,0)","v":0},0,{"$f":"IF(ABS(J302)<Sheet2!B$24/2, 1, 0)","v":0}]
[-211.5,0,"2.65054822778307E-003+3.4836756935481E-003i",0,"0.728086289911101+0.956940335732207i","-7.01920981184514E-06+0.0000253641651096903i",null,0,null,-211.5,{"$f":"EXP(-((J303)^2/(Sheet2!B$21^2*0.360673760222241)))","v":4.1086617652410015E-6},{"$f":"IF(1-ABS(J303)/Sheet2!B$22 >0, 1-ABS(J303)/Sheet2!B$22,0)","v":0},0,{"$f":"IF(ABS(J303)<Sheet2!B$24/2, 1, 0)","v":0}]
[-210.5,0,"-1.08170440540441E-003-1.43079669622947E-003i",0,"-0.465124586622099-0.615231590580627i","-1.88572006403867E-06+6.65498721874512E-06i",null,0,null,-210.5,{"$f":"EXP(-((J304)^2/(Sheet2!B$21^2*0.360673760222241)))","v":4.6186415035454168E-6},{"$f":"IF(1-ABS(J304)/Sheet2!B$22 >0, 1-ABS(J304)/Sheet2!B$22,0)","v":0},0,{"$f":"IF(ABS(J304)<Sheet2!B$24/2, 1, 0)","v":0}]
[-209.5,0,"6.79325654005329E-006+9.04314478667803E-006i",0,"3.68598875184043E-002+4.90676743274199E-002i","-9.6663705669197E-10+3.33329299589773E-09i",null,0,null,-209.5,{"$f":"EXP(-((J305)^2/(Sheet2!B$21^2*0.360673760222241)))","v":5.1890432813712041E-6},{"$f":"IF(1-ABS(J305)/Sheet2!B$22 >0, 1-ABS(J305)/Sheet2!B$22,0)","v":0},0,{"$f":"IF(ABS(J305)<Sheet2!B$24/2, 1, 0)","v":0}]
[-208.5,0,"-7.97327266927241E-004-1.06820636210751E-003i",0,"0.399331257709999+0.534997619887092i","1.26545080483618E-06-4.26568190075684E-06i",null,0,null,-208.5,{"$f":"EXP(-((J306)^2/(Sheet2!B$21^2*0.360673760222241)))","v":5.8266577423537039E-6},{"$f":"IF(1-ABS(J306)/Sheet2!B$22 >0, 1-ABS(J306)/Sheet2!B$22,0)","v":0},0,{"$f":"IF(ABS(J306)<Sheet2!B$24/2, 1, 0)","v":0}]
[-207.5,0,"2.34746614744977E-003+3.16519169202999E-003i",0,"-0.68519575997655-0.923879532511285i","0.000006578909849101-0.0000216877592689196i",null,0,null,-207.5,{"$f":"EXP(-((J307)^2/(Sheet2!B$21^2*0.360673760222241)))","v":6.5389934099434326E-6},{"$f":"IF(1-ABS(J307)/Sheet2!B$22 >0, 1-ABS(J307)/Sheet2!B$22,0)","v":0},0,{"$f":"IF(ABS(J307)<Sheet2!B$24/2, 1, 0)","v":0}]
[-206.5,0,"-2.58480934764987E-003-3.50765210742683E-003i",0,"0.719000604679805+0.975702130038526i","7.81972074354107E-06-0.0000252200398624588i",null,0,null,-206.5,{"$f":"EXP(-((J308)^2/(Sheet2!B$21^2*0.360673760222241)))","v":7.3343472307453405E-6},{"$f":"IF(1-ABS(J308)/Sheet2!B$22 >0, 1-ABS(J308)/Sheet2!B$22,0)","v":0},0,{"$f":"IF(ABS(J308)<Sheet2!B$24/2, 1, 0)","v":0}]
[-205.5,0,"1.20886288998057E-003+1.65104028301438E-003i",0,"-0.49170375023582-0.671558954847016i","0.0000025718423517355-8.11822698948638E-06i",null,0,null,-205.5,{"$f":"EXP(-((J309)^2/(Sheet2!B$21^2*0.360673760222241)))","v":8.2218814457971888E-6},{"$f":"IF(1-ABS(J309)/Sheet2!B$22 >0, 1-ABS(J309)/Sheet2!B$22,0)","v":0},0,{"$f":"IF(ABS(J309)<Sheet2!B$24/2, 1, 0)","v":0}]
[-204.5,0,"-3.96507332615937E-005-5.45041921732859E-005i",0,"8.90513708604118E-002+0.122410675199214i","1.5704714062771E-08-4.85367303068303E-08i",null,0,null,-204.5,{"$f":"EXP(-((J310)^2/(Sheet2!B$21^2*0.360673760222241)))","v":9.2117072922543894E-6},{"$f":"IF(1-ABS(J310)/Sheet2!B$22 >0, 1-ABS(J310)/Sheet2!B$22,0)","v":0},0,{"$f":"IF(ABS(J310)<Sheet2!B$24/2, 1, 0)","v":0}]
[-203.5,0,"5.80468341016274E-004+8.03083758921544E-004i",0,"0.340725209227599+0.471396736825998i","-9.03954332054025E-07+2.73630881785851E-06i",null,0,null,-203.5,{"$f":"EXP(-((J311)^2/(Sheet2!B$21^2*0.360673760222241)))","v":1.0314976071121868E-5},{"$f":"IF(1-ABS(J311)/Sheet2!B$22 >0, 1-ABS(J311)/Sheet2!B$22,0)","v":0},0,{"$f":"IF(ABS(J311)<Sheet2!B$24/2, 1, 0)","v":0}]
[-202.5,0,"-2.05734836092683E-003-2.86483391692761E-003i",0,"-0.64145901832097-0.893224301195515i","-6.19617306772247E-06+0.0000183767355200481i",null,0,null,-202.5,{"$f":"EXP(-((J312)^2/(Sheet2!B$21^2*0.360673760222241)))","v":1.1543978151363815E-5},{"$f":"IF(1-ABS(J312)/Sheet2!B$22 >0, 1-ABS(J312)/Sheet2!B$22,0)","v":0},0,{"$f":"IF(ABS(J312)<Sheet2!B$24/2, 1, 0)","v":0}]
[-201.5,0,"2.49060071286674E-003+3.49068653534463E-003i",0,"0.705776269488534+0.98917650996478i","-0.0000084754912225034+0.0000246364372086935i",null,0,null,-201.5,{"$f":"EXP(-((J313)^2/(Sheet2!B$21^2*0.360673760222241)))","v":1.2912250516931035E-5},{"$f":"IF(1-ABS(J313)/Sheet2!B$22 >0, 1-ABS(J313)/Sheet2!B$22,0)","v":0},0,{"$f":"IF(ABS(J313)<Sheet2!B$24/2, 1, 0)","v":0}]
[-200.5,0,"-1.3179164375421E-003-1.85915540776492E-003i",0,"-0.513403630205003-0.724247082951466i","-3.34932398743114E-06+9.54497135462713E-06i",null,0,null,-200.5,{"$f":"EXP(-((J314)^2/(Sheet2!B$21^2*0.360673760222241)))","v":1.4434693500964084E-5},{"$f":"IF(1-ABS(J314)/Sheet2!B$22 >0, 1-ABS(J314)/Sheet2!B$22,0)","v":0},0,{"$f":"IF(ABS(J314)<Sheet2!B$24/2, 1, 0)","v":0}]
[-199.5,2.4999999999999467E-3,"9.43911987746928E-005+1.34025204510121E-004i",0,"0.137398106809505+0.195090322016125i","-6.58892414751703E-08+1.84148093644451E-07i",null,0,null,-199.5,{"$f":"EXP(-((J315)^2/(Sheet2!B$21^2*0.360673760222241)))","v":1.6127697390641848E-5},{"$f":"IF(1-ABS(J315)/Sheet2!B$22 >0, 1-ABS(J315)/Sheet2!B$22,0)","v":2.4999999999999467E-3},0,{"$f":"IF(ABS(J315)<Sheet2!B$24/2, 1, 0)","v":0}]
[-198.5,7.4999999999999512E-3,"-4.01995080073926E-004-5.74525204509168E-004i",0,"0.283547202445038+0.405241314004991i","5.94183842263253E-07-1.62905014472719E-06i",null,0,null,-198.5,{"$f":"EXP(-((J316)^2/(Sheet2!B$21^2*0.360673760222241)))","v":1.8009279626819316E-5},{"$f":"IF(1-ABS(J316)/Sheet2!B$22 >0, 1-ABS(J316)/Sheet2!B$22,0)","v":7.4999999999999512E-3},0,{"$f":"IF(ABS(J316)<Sheet2!B$24/2, 1, 0)","v":0}]
[-197.5,1.2499999999999956E-2,"1.77751658609628E-003+2.55706477452055E-003i",0,"-0.596240989214184-0.857728610000271i","5.66719683545751E-06-0.0000152462683064483i",null,0,null,-197.5,{"$f":"EXP(-((J317)^2/(Sheet2!B$21^2*0.360673760222241)))","v":2.0099233364695839E-5},{"$f":"IF(1-ABS(J317)/Sheet2!B$22 >0, 1-ABS(J317)/Sheet2!B$22,0)","v":1.2499999999999956E-2},0,{"$f":"IF(ABS(J317)<Sheet2!B$24/2, 1, 0)","v":0}]
[-196.5,1.749999999999996E-2,"-2.37172749154123E-003-3.43430655817651E-003i",0,"0.688727448493189+0.997290456678685i","8.95763666004056E-06-0.0000236530119315644i",null,0,null,-196.5,{"$f":"EXP(-((J318)^2/(Sheet2!B$21^2*0.360673760222241)))","v":2.2419288205220397E-5},{"$f":"IF(1-ABS(J318)/Sheet2!B$22 >0, 1-ABS(J318)/Sheet2!B$22,0)","v":1.749999999999996E-2},0,{"$f":"IF(ABS(J318)<Sheet2!B$24/2, 1, 0)","v":0}]
[-195.5,2.2499999999999964E-2,"1.40632774287738E-003+2.04981015895194E-003i",0,"-0.530344745024629-0.77301045336273i","4.19343076030801E-06-0.0000108710604609824i",null,0,null,-195.5,{"$f":"EXP(-((J319)^2/(Sheet2!B$21^2*0.360673760222241)))","v":2.4993283951707148E-5},{"$f":"IF(1-ABS(J319)/Sheet2!B$22 >0, 1-ABS(J319)/Sheet2!B$22,0)","v":2.2499999999999964E-2},0,{"$f":"IF(ABS(J319)<Sheet2!B$24/2, 1, 0)","v":0}]
[-194.5,2.7499999999999969E-2,"-1.65228217564016E-004-2.42421369624541E-004i",0,"0.181784607465626+0.266712757474886i","1.73104626456401E-07-4.40684735188179E-07i",null,0,null,-194.5,{"$f":"EXP(-((J320)^2/(Sheet2!B$21^2*0.360673760222241)))","v":2.7847358292116804E-5},{"$f":"IF(1-ABS(J320)/Sheet2!B$22 >0, 1-ABS(J320)/Sheet2!B$22,0)","v":2.7499999999999969E-2},0,{"$f":"IF(ABS(J320)<Sheet2!B$24/2, 1, 0)","v":0}]
[-193.5,3.2499999999999973E-2,"2.60159403232686E-004+3.84231261724897E-004i",0,"0.228104977246724+0.336889853392236i","-3.50499793381506E-07+8.76450632134544E-07i",null,0,null,-193.5,{"$f":"EXP(-((J321)^2/(Sheet2!B$21^2*0.360673760222241)))","v":3.1010149354556862E-5},{"$f":"IF(1-ABS(J321)/Sheet2!B$22 >0, 1-ABS(J321)/Sheet2!B$22,0)","v":3.2499999999999973E-2},0,{"$f":"IF(ABS(J321)<Sheet2!B$24/2, 1, 0)","v":0}]
[-192.5,3.7499999999999978E-2,"-1.51210600947134E-003-2.24806538012733E-003i",0,"-0.549928360689612-0.817584813151603i","-5.03217067393253E-06+0.0000123627490921777i",null,0,null,-192.5,{"$f":"EXP(-((J322)^2/(Sheet2!B$21^2*0.360673760222241)))","v":3.4513014131648678E-5},{"$f":"IF(1-ABS(J322)/Sheet2!B$22 >0, 1-ABS(J322)/Sheet2!B$22,0)","v":3.7499999999999978E-2},0,{"$f":"IF(ABS(J322)<Sheet2!B$24/2, 1, 0)","v":0}]
[-191.5,4.2499999999999982E-2,"2.23231346086095E-003+3.34089318960024E-003i",0,"0.6681786379193+0.999999999999999i","-9.24654510956624E-06+0.0000223231346086095i",null,{"$f":"IMABS(G323)","v":0},null,-191.5,{"$f":"EXP(-((J323)^2/(Sheet2!B$21^2*0.360673760222241)))","v":3.8390263818360472E-5},{"$f":"IF(1-ABS(J323)/Sheet2!B$22 >0, 1-ABS(J323)/Sheet2!B$22,0)","v":4.2499999999999982E-2},0,{"$f":"IF(ABS(J323)<Sheet2!B$24/2, 1, 0)","v":0}]
[-190.5,4.7499999999999987E-2,"-1.47246410895946E-003-2.2184016356106E-003i",0,"-0.542671928324649-0.817584813151583i",{"$f":"IMPRODUCT(C324,E324,D$1027)","v":"-5.07333274673996E-06+0.000012038642933957i"},null,0,null,-190.5,{"$f":"EXP(-((J324)^2/(Sheet2!B$21^2*0.360673760222241)))","v":4.2679417157555992E-5},{"$f":"IF(1-ABS(J324)/Sheet2!B$22 >0, 1-ABS(J324)/Sheet2!B$22,0)","v":4.7499999999999987E-2},0,{"$f":"IF(ABS(J324)<Sheet2!B$24/2, 1, 0)","v":0}]
[{"$f":"A324+1","v":-189.5},5.2499999999999991E-2,"2.46697018581282E-004+3.74157869104596E-004i",0,"0.222124748096169+0.336889853392219i","-3.56262382798746E-07+8.31097224226017E-07i",null,0,null,{"$f":"J324+1","v":-189.5},{"$f":"EXP(-((J325)^2/(Sheet2!B$21^2*0.360673760222241)))","v":4.7421472937672347E-5},{"$f":"IF(1-ABS(J325)/Sheet2!B$22 >0, 1-ABS(J325)/Sheet2!B$22,0)","v":5.2499999999999991E-2},0,{"$f":"IF(ABS(J325)<Sheet2!B$24/2, 1, 0)","v":0}]
[-188.5,5.7499999999999996E-2,"-1.52570060629709E-004-2.3295039492371E-004i",0,"0.17468260395755+0.266712757474896i","1.77397533541049E-07-4.06923815784375E-07i",null,0,null,-188.5,{"$f":"EXP(-((J326)^2/(Sheet2!B$21^2*0.360673760222241)))","v":5.2661202837420257E-5},{"$f":"IF(1-ABS(J326)/Sheet2!B$22 >0, 1-ABS(J326)/Sheet2!B$22,0)","v":5.7499999999999996E-2},0,{"$f":"IF(ABS(J326)<Sheet2!B$24/2, 1, 0)","v":0}]
[-187.5,6.25E-2,"1.26453432318682E-003+1.94372884650764E-003i",0,"-0.502898463546393-0.773010453362736i","4.33295174310384E-06-0.0000097749825045944i",null,0,null,-187.5,{"$f":"EXP(-((J327)^2/(Sheet2!B$21^2*0.360673760222241)))","v":5.8447465862950285E-5},{"$f":"IF(1-ABS(J327)/Sheet2!B$22 >0, 1-ABS(J327)/Sheet2!B$22,0)","v":6.25E-2},0,{"$f":"IF(ABS(J327)<Sheet2!B$24/2, 1, 0)","v":0}]
[-186.5,6.7500000000000004E-2,"-2.0766605191471E-003-3.21358223944065E-003i",0,"0.644462647349835+0.997290456678687i","0.0000093327238166493-0.0000207103371750657i",null,0,null,-186.5,{"$f":"EXP(-((J328)^2/(Sheet2!B$21^2*0.360673760222241)))","v":6.4833545673313346E-5},{"$f":"IF(1-ABS(J328)/Sheet2!B$22 >0, 1-ABS(J328)/Sheet2!B$22,0)","v":6.7500000000000004E-2},0,{"$f":"IF(ABS(J328)<Sheet2!B$24/2, 1, 0)","v":0}]
[-185.5,7.2500000000000009E-2,"1.51554243354346E-003+2.36112483323052E-003i",0,"-0.550552891835462-0.857728610000269i","5.95409025878613E-06-0.0000129992410491962i",null,0,null,-185.5,{"$f":"EXP(-((J329)^2/(Sheet2!B$21^2*0.360673760222241)))","v":7.1877512139954485E-5},{"$f":"IF(1-ABS(J329)/Sheet2!B$22 >0, 1-ABS(J329)/Sheet2!B$22,0)","v":7.2500000000000009E-2},0,{"$f":"IF(ABS(J329)<Sheet2!B$24/2, 1, 0)","v":0}]
[-184.5,7.7500000000000013E-2,"-3.33753162808658E-004-5.23493642790757E-004i",0,"0.258361437837326+0.405241314004987i","6.29561523258918E-07-0.0000013525057025001i",null,0,null,-184.5,{"$f":"EXP(-((J330)^2/(Sheet2!B$21^2*0.360673760222241)))","v":7.9642608535123558E-5},{"$f":"IF(1-ABS(J330)/Sheet2!B$22 >0, 1-ABS(J330)/Sheet2!B$22,0)","v":7.7500000000000013E-2},0,{"$f":"IF(ABS(J330)<Sheet2!B$24/2, 1, 0)","v":0}]
[-183.5,8.2500000000000018E-2,"7.63101440007629E-005+1.20506886063311E-004i",0,"0.123539583940546+0.195090322016127i","-7.04120188347733E-08+1.4887370566219E-07i",null,0,null,-183.5,{"$f":"EXP(-((J331)^2/(Sheet2!B$21^2*0.360673760222241)))","v":8.8197665792105729E-5},{"$f":"IF(1-ABS(J331)/Sheet2!B$22 >0, 1-ABS(J331)/Sheet2!B$22,0)","v":8.2500000000000018E-2},0,{"$f":"IF(ABS(J331)<Sheet2!B$24/2, 1, 0)","v":0}]
[-182.5,8.7500000000000022E-2,"-1.03748083550784E-003-1.64953600087025E-003i",0,"-0.455517471785037-0.724247082951465i","-3.61040494818872E-06+7.51392468734709E-06i",null,0,null,-182.5,{"$f":"EXP(-((J332)^2/(Sheet2!B$21^2*0.360673760222241)))","v":9.7617545326703618E-5},{"$f":"IF(1-ABS(J332)/Sheet2!B$22 >0, 1-ABS(J332)/Sheet2!B$22,0)","v":8.7500000000000022E-2},0,{"$f":"IF(ABS(J332)<Sheet2!B$24/2, 1, 0)","v":0}]
[-181.5,9.2500000000000027E-2,"1.90911672133171E-003+3.05615261300632E-003i",0,"0.617918557955862+0.98917650996478i","-0.0000092169786211931+0.000018884534155221i",null,0,null,-181.5,{"$f":"EXP(-((J333)^2/(Sheet2!B$21^2*0.360673760222241)))","v":1.079836119540257E-4},{"$f":"IF(1-ABS(J333)/Sheet2!B$22 >0, 1-ABS(J333)/Sheet2!B$22,0)","v":9.2500000000000027E-2},0,{"$f":"IF(ABS(J333)<Sheet2!B$24/2, 1, 0)","v":0}]
[-180.5,9.7500000000000031E-2,"-1.53555900833399E-003-2.47502042496954E-003i",0,"-0.554176688130005-0.893224301195515i","-6.79888691935659E-06+0.0000137159862216367i",null,0,null,-180.5,{"$f":"EXP(-((J334)^2/(Sheet2!B$21^2*0.360673760222241)))","v":1.1938423847692304E-4},{"$f":"IF(1-ABS(J334)/Sheet2!B$22 >0, 1-ABS(J334)/Sheet2!B$22,0)","v":9.7500000000000031E-2},0,{"$f":"IF(ABS(J334)<Sheet2!B$24/2, 1, 0)","v":0}]
[-179.5,0.10250000000000004,"4.21852919307555E-004+6.84623974580006E-004i",0,"0.29046614925228+0.471396736825998i","-1.00097757273881E-06+1.98860089582074E-06i",null,0,null,-179.5,{"$f":"EXP(-((J335)^2/(Sheet2!B$21^2*0.360673760222241)))","v":1.3191534356188323E-4},{"$f":"IF(1-ABS(J335)/Sheet2!B$22 >0, 1-ABS(J335)/Sheet2!B$22,0)","v":0.10250000000000004},0,{"$f":"IF(ABS(J335)<Sheet2!B$24/2, 1, 0)","v":0}]
[-178.5,0.10750000000000004,"-2.8057601214216E-005-4.58489680027445E-005i",0,"7.49100810476011E-002+0.122410675199213i","1.75530297472244E-08-3.43454990906845E-08i",null,0,null,-178.5,{"$f":"EXP(-((J336)^2/(Sheet2!B$21^2*0.360673760222241)))","v":1.4568096455433048E-4},{"$f":"IF(1-ABS(J336)/Sheet2!B$22 >0, 1-ABS(J336)/Sheet2!B$22,0)","v":0.10750000000000004},0,{"$f":"IF(ABS(J336)<Sheet2!B$24/2, 1, 0)","v":0}]
[-177.5,0.11250000000000004,"8.32885894296338E-004+1.37044591348704E-003i",0,"-0.408138676014585-0.671558954847014i","2.90201139583193E-06-5.59331980680334E-06i",null,0,null,-177.5,{"$f":"EXP(-((J337)^2/(Sheet2!B$21^2*0.360673760222241)))","v":1.6079386691756646E-4},{"$f":"IF(1-ABS(J337)/Sheet2!B$22 >0, 1-ABS(J337)/Sheet2!B$22,0)","v":0.11250000000000004},0,{"$f":"IF(ABS(J337)<Sheet2!B$24/2, 1, 0)","v":0}]
[-176.5,0.11750000000000005,"-1.73395521222766E-003-2.87290452279511E-003i",0,"0.588889669161257+0.975702130038522i","8.90995375509654E-06-0.0000169182379396131i",null,0,null,-176.5,{"$f":"EXP(-((J338)^2/(Sheet2!B$21^2*0.360673760222241)))","v":1.7737619200740005E-4},{"$f":"IF(1-ABS(J338)/Sheet2!B$22 >0, 1-ABS(J338)/Sheet2!B$22,0)","v":0.11750000000000005},0,{"$f":"IF(ABS(J338)<Sheet2!B$24/2, 1, 0)","v":0}]
[-175.5,0.12250000000000005,"1.53320683765419E-003+2.55800106993741E-003i",0,"-0.553752081288106-0.923879532511287i","7.57134177630492E-06-0.0000141649841641505i",null,0,null,-175.5,{"$f":"EXP(-((J339)^2/(Sheet2!B$21^2*0.360673760222241)))","v":1.9556014491729865E-4},{"$f":"IF(1-ABS(J339)/Sheet2!B$22 >0, 1-ABS(J339)/Sheet2!B$22,0)","v":0.12250000000000005},0,{"$f":"IF(ABS(J339)<Sheet2!B$24/2, 1, 0)","v":0}]
[-174.5,0.12749999999999995,"-5.07014781980715E-004-8.51818685962499E-004i",0,"0.318438308618847+0.534997619887097i","0.000001471340199733-2.71251701607542E-06i",null,0,null,-174.5,{"$f":"EXP(-((J340)^2/(Sheet2!B$21^2*0.360673760222241)))","v":2.1548872414594279E-4},{"$f":"IF(1-ABS(J340)/Sheet2!B$22 >0, 1-ABS(J340)/Sheet2!B$22,0)","v":0.12749999999999995},0,{"$f":"IF(ABS(J340)<Sheet2!B$24/2, 1, 0)","v":0}]
[-173.5,0.13249999999999995,"4.20566382961949E-006+7.11537435266396E-006i",0,"2.90022889737015E-002+4.90676743274175E-002i","-1.13580496870653E-09+2.06362143127197E-09i",null,0,null,-173.5,{"$f":"EXP(-((J341)^2/(Sheet2!B$21^2*0.360673760222241)))","v":2.3731649484973237E-4},{"$f":"IF(1-ABS(J341)/Sheet2!B$22 >0, 1-ABS(J341)/Sheet2!B$22,0)","v":0.13249999999999995},0,{"$f":"IF(ABS(J341)<Sheet2!B$24/2, 1, 0)","v":0}]
[-172.5,0.13749999999999996,"-6.51969083071133E-004-1.1108032206205E-003i",0,"-0.361100839951942-0.615231590580626i","-2.23987324362374E-06+4.01111975987315E-06i",null,0,null,-172.5,{"$f":"EXP(-((J342)^2/(Sheet2!B$21^2*0.360673760222241)))","v":2.6121040744635774E-4},{"$f":"IF(1-ABS(J342)/Sheet2!B$22 >0, 1-ABS(J342)/Sheet2!B$22,0)","v":0.13749999999999996},0,{"$f":"IF(ABS(J342)<Sheet2!B$24/2, 1, 0)","v":0}]
[-171.5,0.14249999999999996,"1.55526605248246E-003+2.6685307353335E-003i",0,"0.557721445254216+0.956940335732208i","-8.43109733618209E-06+0.0000148829681841548i",null,0,null,-171.5,{"$f":"EXP(-((J343)^2/(Sheet2!B$21^2*0.360673760222241)))","v":2.8735066333123745E-4},{"$f":"IF(1-ABS(J343)/Sheet2!B$22 >0, 1-ABS(J343)/Sheet2!B$22,0)","v":0.14249999999999996},0,{"$f":"IF(ABS(J343)<Sheet2!B$24/2, 1, 0)","v":0}]
[-170.5,0.14749999999999996,"-1.50978330922139E-003-2.60885637497251E-003i",0,"-0.549505834222124-0.949528180593037i","-8.23773955163927E-06+0.0000143358179869485i",null,0,null,-170.5,{"$f":"EXP(-((J344)^2/(Sheet2!B$21^2*0.360673760222241)))","v":3.1593162945568916E-4},{"$f":"IF(1-ABS(J344)/Sheet2!B$22 >0, 1-ABS(J344)/Sheet2!B$22,0)","v":0.14749999999999996},0,{"$f":"IF(ABS(J344)<Sheet2!B$24/2, 1, 0)","v":0}]
[-169.5,0.15249999999999997,"5.85862023941756E-004+1.01955291109241E-003i",0,"0.342304549762571+0.595699304492435i","-2.03401861851307E-06+0.0000034899760019062i",null,0,null,-169.5,{"$f":"EXP(-((J345)^2/(Sheet2!B$21^2*0.360673760222241)))","v":3.4716280349332025E-4},{"$f":"IF(1-ABS(J345)/Sheet2!B$22 >0, 1-ABS(J345)/Sheet2!B$22,0)","v":0.15249999999999997},0,{"$f":"IF(ABS(J345)<Sheet2!B$24/2, 1, 0)","v":0}]
[-168.5,0.15749999999999997,"-9.80288616198541E-007-1.7181389437334E-006i",0,"-1.40020613806957E-002-2.45412285229159E-002i","-1.42195895387367E-10+2.40574869496301E-10i",null,0,null,-168.5,{"$f":"EXP(-((J346)^2/(Sheet2!B$21^2*0.360673760222241)))","v":3.8126983128842302E-4},{"$f":"IF(1-ABS(J346)/Sheet2!B$22 >0, 1-ABS(J346)/Sheet2!B$22,0)","v":0.15749999999999997},0,{"$f":"IF(ABS(J346)<Sheet2!B$24/2, 1, 0)","v":0}]
[-167.5,0.16249999999999998,"4.95264319624926E-004+8.74263790087272E-004i",0,"-0.314726649530873-0.555570233019602i","1.64921028815823E-06-2.75154113460322E-06i",null,0,null,-167.5,{"$f":"EXP(-((J347)^2/(Sheet2!B$21^2*0.360673760222241)))","v":4.1849557823637839E-4},{"$f":"IF(1-ABS(J347)/Sheet2!B$22 >0, 1-ABS(J347)/Sheet2!B$22,0)","v":0.16249999999999998},0,{"$f":"IF(ABS(J347)<Sheet2!B$24/2, 1, 0)","v":0}]
[-166.5,0.16749999999999998,"-1.37686252470293E-003-2.44798404909214E-003i",0,"0.524759473416582+0.932992798834738i","7.80714918017568E-06-0.0000128460282053352i",null,0,null,-166.5,{"$f":"EXP(-((J348)^2/(Sheet2!B$21^2*0.360673760222241)))","v":4.5910125619018556E-4},{"$f":"IF(1-ABS(J348)/Sheet2!B$22 >0, 1-ABS(J348)/Sheet2!B$22,0)","v":0.16749999999999998},0,{"$f":"IF(ABS(J348)<Sheet2!B$24/2, 1, 0)","v":0}]
[-165.5,0.17249999999999999,"1.46709110592676E-003+2.62723711766809E-003i",0,"-0.541680921932197-0.970031253194543i","8.76903425436931E-06-0.0000142312422403282i",null,0,null,-165.5,{"$f":"EXP(-((J349)^2/(Sheet2!B$21^2*0.360673760222241)))","v":5.0336760741848292E-4},{"$f":"IF(1-ABS(J349)/Sheet2!B$22 >0, 1-ABS(J349)/Sheet2!B$22,0)","v":0.17249999999999999},0,{"$f":"IF(ABS(J349)<Sheet2!B$24/2, 1, 0)","v":0}]
[-164.5,0.17749999999999999,"-6.55646632683536E-004-1.18262767936119E-003i",0,"0.362117835153978+0.653172842953775i","2.67519472115408E-06-4.28250575043211E-06i",null,0,null,-164.5,{"$f":"EXP(-((J350)^2/(Sheet2!B$21^2*0.360673760222241)))","v":5.5159614705779531E-4},{"$f":"IF(1-ABS(J350)/Sheet2!B$22 >0, 1-ABS(J350)/Sheet2!B$22,0)","v":0.17749999999999999},0,{"$f":"IF(ABS(J350)<Sheet2!B$24/2, 1, 0)","v":0}]
[-163.5,0.1825,"1.45519612376481E-005+2.64391686131962E-005i",0,"-5.39480513781513E-002-9.80171403295581E-002i","9.03220873827497E-09-1.42634162672058E-08i",null,0,null,-163.5,{"$f":"EXP(-((J351)^2/(Sheet2!B$21^2*0.360673760222241)))","v":6.0411046540435746E-4},{"$f":"IF(1-ABS(J351)/Sheet2!B$22 >0, 1-ABS(J351)/Sheet2!B$22,0)","v":0.1825},0,{"$f":"IF(ABS(J351)<Sheet2!B$24/2, 1, 0)","v":0}]
[-162.5,0.1875,"-3.62669714865461E-004-6.63739819542622E-004i",0,"-0.269321263498935-0.492898192229788i","-0.0000011474074566156+1.78759246833726E-06i",null,0,null,-162.5,{"$f":"EXP(-((J352)^2/(Sheet2!B$21^2*0.360673760222241)))","v":6.6125759127778189E-4},{"$f":"IF(1-ABS(J352)/Sheet2!B$22 >0, 1-ABS(J352)/Sheet2!B$22,0)","v":0.1875},0,{"$f":"IF(ABS(J352)<Sheet2!B$24/2, 1, 0)","v":0}]
[-161.5,0.1925,"1.20220308182869E-003+2.21634419886975E-003i",0,"0.490347444537788+0.903989293123449i","-7.07027108332185E-06+0.0000108677871413254i",null,0,null,-161.5,{"$f":"EXP(-((J353)^2/(Sheet2!B$21^2*0.360673760222241)))","v":7.2340941755914801E-4},{"$f":"IF(1-ABS(J353)/Sheet2!B$22 >0, 1-ABS(J353)/Sheet2!B$22,0)","v":0.1925},0,{"$f":"IF(ABS(J353)<Sheet2!B$24/2, 1, 0)","v":0}]
[-160.5,0.19750000000000001,"-1.40733523567364E-003-2.61361979568396E-003i",0,"-0.530534680425215-0.985277642388951i","-9.14250500441662E-06+0.0000138661594305581i",null,0,null,-160.5,{"$f":"EXP(-((J354)^2/(Sheet2!B$21^2*0.360673760222241)))","v":7.9096418985883537E-4},{"$f":"IF(1-ABS(J354)/Sheet2!B$22 >0, 1-ABS(J354)/Sheet2!B$22,0)","v":0.19750000000000001},0,{"$f":"IF(ABS(J354)<Sheet2!B$24/2, 1, 0)","v":0}]
[-159.5,0.20250000000000001,"7.142553861384E-004+1.33627783987674E-003i",0,"0.377956448850531+0.707106781186548i","-0.0000033746684640446+5.05054827037475E-06i",null,0,null,-159.5,{"$f":"EXP(-((J355)^2/(Sheet2!B$21^2*0.360673760222241)))","v":8.643480591037549E-4},{"$f":"IF(1-ABS(J355)/Sheet2!B$22 >0, 1-ABS(J355)/Sheet2!B$22,0)","v":0.20250000000000001},0,{"$f":"IF(ABS(J355)<Sheet2!B$24/2, 1, 0)","v":0}]
[-158.5,0.20750000000000002,"-4.11395056018221E-005-7.75378658787491E-005i",0,"-9.07077787234367E-002-0.170961888760303i","-4.76217341507617E-08+7.03328758058483E-08i",null,0,null,-158.5,{"$f":"EXP(-((J356)^2/(Sheet2!B$21^2*0.360673760222241)))","v":9.4401669864859709E-4},{"$f":"IF(1-ABS(J356)/Sheet2!B$22 >0, 1-ABS(J356)/Sheet2!B$22,0)","v":0.20750000000000002},0,{"$f":"IF(ABS(J356)<Sheet2!B$24/2, 1, 0)","v":0}]
[-157.5,0.21250000000000002,"2.53509836996021E-004+4.81364983500966E-004i",0,"-0.225170973704248-0.427555093430281i","7.4363496827411E-07-1.08389422042185E-06i",null,0,null,-157.5,{"$f":"EXP(-((J357)^2/(Sheet2!B$21^2*0.360673760222241)))","v":1.0304569863105353E-3},{"$f":"IF(1-ABS(J357)/Sheet2!B$22 >0, 1-ABS(J357)/Sheet2!B$22,0)","v":0.21250000000000002},0,{"$f":"IF(ABS(J357)<Sheet2!B$24/2, 1, 0)","v":0}]
[-156.5,0.21750000000000003,"-1.0343296672927E-003-1.9786873095886E-003i",0,"0.454825168013498+0.870086991108708i","6.25595461418591E-06-8.99956788029494E-06i",null,0,null,-156.5,{"$f":"EXP(-((J358)^2/(Sheet2!B$21^2*0.360673760222241)))","v":1.1241887515005872E-3},{"$f":"IF(1-ABS(J358)/Sheet2!B$22 >0, 1-ABS(J358)/Sheet2!B$22,0)","v":0.21750000000000003},0,{"$f":"IF(ABS(J358)<Sheet2!B$24/2, 1, 0)","v":0}]
[-155.5,0.22250000000000003,"1.33301897890145E-003+2.56925299061154E-003i",0,"-0.516336901431839-0.995184726672196i","0.0000093429722304883-0.0000132660012816687i",null,0,null,-155.5,{"$f":"EXP(-((J359)^2/(Sheet2!B$21^2*0.360673760222241)))","v":1.2257665873768692E-3},{"$f":"IF(1-ABS(J359)/Sheet2!B$22 >0, 1-ABS(J359)/Sheet2!B$22,0)","v":0.22250000000000003},0,{"$f":"IF(ABS(J359)<Sheet2!B$24/2, 1, 0)","v":0}]
[-154.5,0.22750000000000004,"-7.60199209806886E-004-1.47626522053422E-003i",0,"0.389922866681619+0.757208846506483i","4.10711014820677E-06-5.75629566773044E-06i",null,0,null,-154.5,{"$f":"EXP(-((J360)^2/(Sheet2!B$21^2*0.360673760222241)))","v":1.3357817276744661E-3},{"$f":"IF(1-ABS(J360)/Sheet2!B$22 >0, 1-ABS(J360)/Sheet2!B$22,0)","v":0.22750000000000004},0,{"$f":"IF(ABS(J360)<Sheet2!B$24/2, 1, 0)","v":0}]
[-153.5,0.23250000000000004,"7.7103877184773E-005+1.50866897727301E-004i",0,"-0.124180414867739-0.242980179903263i","1.35414372472552E-07-1.87347139495901E-07i",null,0,null,-153.5,{"$f":"EXP(-((J361)^2/(Sheet2!B$21^2*0.360673760222241)))","v":1.4548639875729891E-3},{"$f":"IF(1-ABS(J361)/Sheet2!B$22 >0, 1-ABS(J361)/Sheet2!B$22,0)","v":0.23250000000000004},0,{"$f":"IF(ABS(J361)<Sheet2!B$24/2, 1, 0)","v":0}]
[-152.5,0.23750000000000004,"-1.66607876994659E-004-3.2847976742257E-004i",0,"-0.182541982564363-0.359895036534989i","-4.3902652860053E-07+5.99613479778033E-07i",null,0,null,-152.5,{"$f":"EXP(-((J362)^2/(Sheet2!B$21^2*0.360673760222241)))","v":1.5836837676455023E-3},{"$f":"IF(1-ABS(J362)/Sheet2!B$22 >0, 1-ABS(J362)/Sheet2!B$22,0)","v":0.23750000000000004},0,{"$f":"IF(ABS(J362)<Sheet2!B$24/2, 1, 0)","v":0}]
[-151.5,0.24250000000000005,"8.75822706380846E-004+1.73996088016562E-003i",0,"0.418526631501621+0.831469612302544i","-5.40084735679346E-06+0.0000072821996612028i",null,0,null,-151.5,{"$f":"EXP(-((J363)^2/(Sheet2!B$21^2*0.360673760222241)))","v":1.7229541195908664E-3},{"$f":"IF(1-ABS(J363)/Sheet2!B$22 >0, 1-ABS(J363)/Sheet2!B$22,0)","v":0.24250000000000005},0,{"$f":"IF(ABS(J363)<Sheet2!B$24/2, 1, 0)","v":0}]
[-150.5,0.24750000000000005,"-1.24684141481382E-003-2.49608741560428E-003i",0,"-0.499367883391056-0.999698818696204i","-9.36351541251086E-06+0.0000124646588949012i",null,0,null,-150.5,{"$f":"EXP(-((J364)^2/(Sheet2!B$21^2*0.360673760222241)))","v":1.8734328720852508E-3},{"$f":"IF(1-ABS(J364)/Sheet2!B$22 >0, 1-ABS(J364)/Sheet2!B$22,0)","v":0.24750000000000005},0,{"$f":"IF(ABS(J364)<Sheet2!B$24/2, 1, 0)","v":0}]
[-149.5,0.25249999999999995,"7.92587290737682E-004+1.59895531256109E-003i",0,"0.398142509847196+0.803207531480646i","-4.84365128171384E-06+6.36612081276463E-06i",null,0,null,-149.5,{"$f":"EXP(-((J365)^2/(Sheet2!B$21^2*0.360673760222241)))","v":2.0359248146973627E-3},{"$f":"IF(1-ABS(J365)/Sheet2!B$22 >0, 1-ABS(J365)/Sheet2!B$22,0)","v":0.25249999999999995},0,{"$f":"IF(ABS(J365)<Sheet2!B$24/2, 1, 0)","v":0}]
[-148.5,0.25749999999999995,"-1.19030284340273E-004-2.41993096409075E-004i",0,"-0.154292115378132-0.313681740398895i","-2.87716906405975E-07+3.73376267519463E-07i",null,0,null,-148.5,{"$f":"EXP(-((J366)^2/(Sheet2!B$21^2*0.360673760222241)))","v":2.2112839373956109E-3},{"$f":"IF(1-ABS(J366)/Sheet2!B$22 >0, 1-ABS(J366)/Sheet2!B$22,0)","v":0.25749999999999995},0,{"$f":"IF(ABS(J366)<Sheet2!B$24/2, 1, 0)","v":0}]
[-147.5,0.26249999999999996,"1.0036512657284E-004+2.05636655855923E-004i",0,"-0.141679304468057-0.29028467725446i","2.27367544755673E-07-2.91344583748021E-07i",null,0,null,-147.5,{"$f":"EXP(-((J367)^2/(Sheet2!B$21^2*0.360673760222241)))","v":2.40041572273389E-3},{"$f":"IF(1-ABS(J367)/Sheet2!B$22 >0, 1-ABS(J367)/Sheet2!B$22,0)","v":0.26249999999999996},0,{"$f":"IF(ABS(J367)<Sheet2!B$24/2, 1, 0)","v":0}]
[-146.5,0.26749999999999996,"-7.28772650507588E-004-1.50486707073858E-003i",0,"0.381778116320535+0.788346427626603i","0.0000045406356476648-5.74525315579502E-06i",null,0,null,-146.5,{"$f":"EXP(-((J368)^2/(Sheet2!B$21^2*0.360673760222241)))","v":2.604279487336133E-3},{"$f":"IF(1-ABS(J368)/Sheet2!B$22 >0, 1-ABS(J368)/Sheet2!B$22,0)","v":0.26749999999999996},0,{"$f":"IF(ABS(J368)<Sheet2!B$24/2, 1, 0)","v":0}]
[-145.5,0.27249999999999996,"1.15159899221572E-003+2.39669184529718E-003i",0,"-0.479916449439902-0.99879545620517i","9.20566812742035E-06-0.0000115021184079605i",null,0,null,-145.5,{"$f":"EXP(-((J369)^2/(Sheet2!B$21^2*0.360673760222241)))","v":2.8238907688083181E-3},{"$f":"IF(1-ABS(J369)/Sheet2!B$22 >0, 1-ABS(J369)/Sheet2!B$22,0)","v":0.27249999999999996},0,{"$f":"IF(ABS(J369)<Sheet2!B$24/2, 1, 0)","v":0}]
[-144.5,0.27749999999999997,"-8.110877092617E-004-1.70137620074027E-003i",0,"0.402762388824672+0.844853565249704i","0.0000055536906284892-6.85250342899779E-06i",null,0,null,-144.5,{"$f":"EXP(-((J370)^2/(Sheet2!B$21^2*0.360673760222241)))","v":3.0603237536908448E-3},{"$f":"IF(1-ABS(J370)/Sheet2!B$22 >0, 1-ABS(J370)/Sheet2!B$22,0)","v":0.27749999999999997},0,{"$f":"IF(ABS(J370)<Sheet2!B$24/2, 1, 0)","v":0}]
[-143.5,0.28249999999999997,"1.63797368813876E-004+3.46320438990816E-004i",0,"-0.180995783825878-0.382683432365093i","5.14422305670537E-07-6.2682539310065E-07i",null,0,null,-143.5,{"$f":"EXP(-((J371)^2/(Sheet2!B$21^2*0.360673760222241)))","v":3.314713741524459E-3},{"$f":"IF(1-ABS(J371)/Sheet2!B$22 >0, 1-ABS(J371)/Sheet2!B$22,0)","v":0.28249999999999997},0,{"$f":"IF(ABS(J371)<Sheet2!B$24/2, 1, 0)","v":0}]
[-142.5,0.28749999999999998,"-5.2845159576859E-005-1.12624388190657E-004i",0,"-0.102805797091835-0.219101240156868i","-9.62167718586863E-08+1.15784399997491E-07i",null,0,null,-142.5,{"$f":"EXP(-((J372)^2/(Sheet2!B$21^2*0.360673760222241)))","v":3.5882596395402496E-3},{"$f":"IF(1-ABS(J372)/Sheet2!B$22 >0, 1-ABS(J372)/Sheet2!B$22,0)","v":0.28749999999999998},0,{"$f":"IF(ABS(J372)<Sheet2!B$24/2, 1, 0)","v":0}]
[-141.5,0.29249999999999998,"5.94767560646132E-004+1.27775680012289E-003i",0,"0.3448963788291+0.740951125354959i","-3.70811080534569E-06+4.40693693386009E-06i",null,0,null,-141.5,{"$f":"EXP(-((J373)^2/(Sheet2!B$21^2*0.360673760222241)))","v":3.8822264818993415E-3},{"$f":"IF(1-ABS(J373)/Sheet2!B$22 >0, 1-ABS(J373)/Sheet2!B$22,0)","v":0.29249999999999998},0,{"$f":"IF(ABS(J373)<Sheet2!B$24/2, 1, 0)","v":0}]
[-140.5,0.29749999999999999,"-1.05009336679985E-003-2.27415739965839E-003i",0,"-0.458277943348535-0.992479534598713i","-8.87910024578102E-06+0.0000104219617596651i",null,0,null,-140.5,{"$f":"EXP(-((J374)^2/(Sheet2!B$21^2*0.360673760222241)))","v":4.197947966802262E-3},{"$f":"IF(1-ABS(J374)/Sheet2!B$22 >0, 1-ABS(J374)/Sheet2!B$22,0)","v":0.29749999999999999},0,{"$f":"IF(ABS(J374)<Sheet2!B$24/2, 1, 0)","v":0}]
[-139.5,0.30249999999999999,"8.15876579093759E-004+1.78125890893026E-003i",0,"0.403949645152401+0.881921264348359i","-6.20678527241237E-06+7.19538904186757E-06i",null,0,null,-139.5,{"$f":"EXP(-((J375)^2/(Sheet2!B$21^2*0.360673760222241)))","v":4.5368290041626529E-3},{"$f":"IF(1-ABS(J375)/Sheet2!B$22 >0, 1-ABS(J375)/Sheet2!B$22,0)","v":0.30249999999999999},0,{"$f":"IF(ABS(J375)<Sheet2!B$24/2, 1, 0)","v":0}]
[-138.5,0.3075,"-2.08632575283878E-004-4.5921208415407E-004i",0,"-0.204270690645364-0.449611329654612i","-8.19247177528092E-07+9.38035695827496E-07i",null,0,null,-138.5,{"$f":"EXP(-((J376)^2/(Sheet2!B$21^2*0.360673760222241)))","v":4.9003482658969127E-3},{"$f":"IF(1-ABS(J376)/Sheet2!B$22 >0, 1-ABS(J376)/Sheet2!B$22,0)","v":0.3075},0,{"$f":"IF(ABS(J376)<Sheet2!B$24/2, 1, 0)","v":0}]
[-137.5,0.3125,"2.18601499631799E-005+4.85100690135444E-005i",0,"-6.61213278182098E-002-0.146730474455358i","2.83624165017444E-08-3.20755017574561E-08i",null,0,null,-137.5,{"$f":"EXP(-((J377)^2/(Sheet2!B$21^2*0.360673760222241)))","v":5.2900607302222517E-3},{"$f":"IF(1-ABS(J377)/Sheet2!B$22 >0, 1-ABS(J377)/Sheet2!B$22,0)","v":0.3125},0,{"$f":"IF(ABS(J377)<Sheet2!B$24/2, 1, 0)","v":0}]
[-136.5,0.3175,"-4.74895850470191E-004-1.06253684117433E-003i",0,"0.308186907725798+0.689540544737065i","2.93152774309163E-06-3.27459943426421E-06i",null,0,null,-136.5,{"$f":"EXP(-((J378)^2/(Sheet2!B$21^2*0.360673760222241)))","v":5.7076002106825879E-3},{"$f":"IF(1-ABS(J378)/Sheet2!B$22 >0, 1-ABS(J378)/Sheet2!B$22,0)","v":0.3175},0,{"$f":"IF(ABS(J378)<Sheet2!B$24/2, 1, 0)","v":0}]
[-135.5,0.32250000000000001,"9.45047439957389E-004+2.1319928629032E-003i",0,"-0.434752214475659-0.980785280403236i","8.40082875277093E-06-9.26888618393217E-06i",null,0,null,-135.5,{"$f":"EXP(-((J379)^2/(Sheet2!B$21^2*0.360673760222241)))","v":6.1546818599371679E-3},{"$f":"IF(1-ABS(J379)/Sheet2!B$22 >0, 1-ABS(J379)/Sheet2!B$22,0)","v":0.32250000000000001},0,{"$f":"IF(ABS(J379)<Sheet2!B$24/2, 1, 0)","v":0}]
[-134.5,0.32750000000000001,"-8.07577857604009E-004-1.83705879030648E-003i",0,"0.401889999279168+0.914209755703538i","6.77449801644388E-06-7.38295555911904E-06i",null,0,null,-134.5,{"$f":"EXP(-((J380)^2/(Sheet2!B$21^2*0.360673760222241)))","v":6.6331046376533111E-3},{"$f":"IF(1-ABS(J380)/Sheet2!B$22 >0, 1-ABS(J380)/Sheet2!B$22,0)","v":0.32750000000000001},0,{"$f":"IF(ABS(J380)<Sheet2!B$24/2, 1, 0)","v":0}]
[-133.5,0.33250000000000002,"2.51153240776875E-004+5.76108545831782E-004i",0,"-0.224121949294191-0.514102744193228i","1.19945015235411E-06-1.29118570296637E-06i",null,0,null,-133.5,{"$f":"EXP(-((J381)^2/(Sheet2!B$21^2*0.360673760222241)))","v":7.1447537311452557E-3},{"$f":"IF(1-ABS(J381)/Sheet2!B$22 >0, 1-ABS(J381)/Sheet2!B$22,0)","v":0.33250000000000002},0,{"$f":"IF(ABS(J381)<Sheet2!B$24/2, 1, 0)","v":0}]
[-132.5,0.33750000000000002,"-5.05686134332265E-006-1.16975305481096E-005i",0,"-3.18020796273304E-002-7.35645635996663E-002i","-3.49852511430366E-09+3.72005797919832E-09i",null,0,null,-132.5,{"$f":"EXP(-((J382)^2/(Sheet2!B$21^2*0.360673760222241)))","v":7.6916029166985631E-3},{"$f":"IF(1-ABS(J382)/Sheet2!B$22 >0, 1-ABS(J382)/Sheet2!B$22,0)","v":0.33750000000000002},0,{"$f":"IF(ABS(J382)<Sheet2!B$24/2, 1, 0)","v":0}]
[-131.5,0.34250000000000003,"3.69762982222012E-004+8.62591738530575E-004i",0,"0.271942266748639+0.634393284163653i","-2.23334111176828E-06+2.34575152654311E-06i",null,0,null,-131.5,{"$f":"EXP(-((J383)^2/(Sheet2!B$21^2*0.360673760222241)))","v":8.2757168488178847E-3},{"$f":"IF(1-ABS(J383)/Sheet2!B$22 >0, 1-ABS(J383)/Sheet2!B$22,0)","v":0.34250000000000003},0,{"$f":"IF(ABS(J383)<Sheet2!B$24/2, 1, 0)","v":0}]
[-130.5,0.34750000000000003,"-8.39031214088402E-004-1.97401386210219E-003i",0,"-0.409641602888307-0.963776065795459i","-7.79402611215027E-06+8.08638202594493E-06i",null,0,null,-130.5,{"$f":"EXP(-((J384)^2/(Sheet2!B$21^2*0.360673760222241)))","v":8.899253263938034E-3},{"$f":"IF(1-ABS(J384)/Sheet2!B$22 >0, 1-ABS(J384)/Sheet2!B$22,0)","v":0.34750000000000003},0,{"$f":"IF(ABS(J384)<Sheet2!B$24/2, 1, 0)","v":0}]
[-129.5,0.35250000000000004,"7.87196098288551E-004+1.86795805034256E-003i",0,"0.396786113235545+0.941544065183051i","-0.0000072320816805842+7.41179814480655E-06i",null,0,null,-129.5,{"$f":"EXP(-((J385)^2/(Sheet2!B$21^2*0.360673760222241)))","v":9.5644650844490253E-3},{"$f":"IF(1-ABS(J385)/Sheet2!B$22 >0, 1-ABS(J385)/Sheet2!B$22,0)","v":0.35250000000000004},0,{"$f":"IF(ABS(J385)<Sheet2!B$24/2, 1, 0)","v":0}]
[-128.5,0.35750000000000004,"-2.8939332811834E-004-6.92639249990423E-004i",0,"-0.240579852901297-0.575808191417885i","-1.64602574766349E-06+1.66635048874292E-06i",null,0,null,-128.5,{"$f":"EXP(-((J386)^2/(Sheet2!B$21^2*0.360673760222241)))","v":1.0273702408208369E-2},{"$f":"IF(1-ABS(J386)/Sheet2!B$22 >0, 1-ABS(J386)/Sheet2!B$22,0)","v":0.35750000000000004},0,{"$f":"IF(ABS(J386)<Sheet2!B$24/2, 1, 0)","v":0}]
[-127.5,0.36250000000000004,"0",0,"0","0",null,{"$f":"IMABS(G387)","v":0},null,-127.5,{"$f":"EXP(-((J387)^2/(Sheet2!B$21^2*0.360673760222241)))","v":1.1029414368053745E-2},{"$f":"IF(1-ABS(J387)/Sheet2!B$22 >0, 1-ABS(J387)/Sheet2!B$22,0)","v":0.36250000000000004},0,{"$f":"IF(ABS(J387)<Sheet2!B$24/2, 1, 0)","v":0}]
[-126.5,0.36750000000000005,"-2.79520625266958E-004-6.80721974819574E-004i",0,"0.236440531750095+0.575808191417841i",{"$f":"IMPRODUCT(C388,E388,D$1027)","v":"1.62937641953001E-06-1.60950265699633E-06i"},null,0,null,-126.5,{"$f":"EXP(-((J388)^2/(Sheet2!B$21^2*0.360673760222241)))","v":1.183415084519005E-2},{"$f":"IF(1-ABS(J388)/Sheet2!B$22 >0, 1-ABS(J388)/Sheet2!B$22,0)","v":0.36750000000000005},0,{"$f":"IF(ABS(J388)<Sheet2!B$24/2, 1, 0)","v":0}]
[{"$f":"A388+1","v":-125.5},0.37250000000000005,"7.34398733927373E-004+1.80422880491457E-003i",0,"-0.383248935792139-0.941544065183019i","7.08651695137402E-06-6.91468769408136E-06i",null,0,null,{"$f":"J388+1","v":-125.5},{"$f":"EXP(-((J389)^2/(Sheet2!B$21^2*0.360673760222241)))","v":1.2690564019712407E-2},{"$f":"IF(1-ABS(J389)/Sheet2!B$22 >0, 1-ABS(J389)/Sheet2!B$22,0)","v":0.37250000000000005},0,{"$f":"IF(ABS(J389)<Sheet2!B$24/2, 1, 0)","v":0}]
[-124.5,0.37749999999999995,"-7.56044466914449E-004-1.87384993837653E-003i",0,"0.388855877392454+0.963776065795436i","7.55989693484912E-06-7.28657561889208E-06i",null,0,null,-124.5,{"$f":"EXP(-((J390)^2/(Sheet2!B$21^2*0.360673760222241)))","v":1.3601409740945666E-2},{"$f":"IF(1-ABS(J390)/Sheet2!B$22 >0, 1-ABS(J390)/Sheet2!B$22,0)","v":0.37749999999999995},0,{"$f":"IF(ABS(J390)<Sheet2!B$24/2, 1, 0)","v":0}]
[-123.5,0.38249999999999995,"3.21816104343886E-004+8.04724948223918E-004i",0,"-0.253699075419604-0.634393284163643i","2.14433827312503E-06-2.04157975331482E-06i",null,0,null,-123.5,{"$f":"EXP(-((J391)^2/(Sheet2!B$21^2*0.360673760222241)))","v":1.4569548699736749E-2},{"$f":"IF(1-ABS(J391)/Sheet2!B$22 >0, 1-ABS(J391)/Sheet2!B$22,0)","v":0.38249999999999995},0,{"$f":"IF(ABS(J391)<Sheet2!B$24/2, 1, 0)","v":0}]
[-122.5,0.38749999999999996,"-4.25082949522237E-006-1.07248322450541E-005i",0,"2.91576044768202E-002+7.3564563599666E-002i","3.32511799333468E-09-3.12710416717079E-09i",null,0,null,-122.5,{"$f":"EXP(-((J392)^2/(Sheet2!B$21^2*0.360673760222241)))","v":1.5597947384334288E-2},{"$f":"IF(1-ABS(J392)/Sheet2!B$22 >0, 1-ABS(J392)/Sheet2!B$22,0)","v":0.38749999999999996},0,{"$f":"IF(ABS(J392)<Sheet2!B$24/2, 1, 0)","v":0}]
[-121.5,0.39249999999999996,"2.03906553517324E-004+5.19099387334647E-004i",0,"0.20194383056555+0.514102744193222i","-1.12846374521527E-06+1.04828918722414E-06i",null,0,null,-121.5,{"$f":"EXP(-((J393)^2/(Sheet2!B$21^2*0.360673760222241)))","v":1.6689678801036154E-2},{"$f":"IF(1-ABS(J393)/Sheet2!B$22 >0, 1-ABS(J393)/Sheet2!B$22,0)","v":0.39249999999999996},0,{"$f":"IF(ABS(J393)<Sheet2!B$24/2, 1, 0)","v":0}]
[-120.5,0.39749999999999996,"-6.33237022469224E-004-1.62672448147472E-003i",0,"-0.355875546355509-0.91420975570353i","-6.30906909731092E-06+5.78911463614359E-06i",null,0,null,-120.5,{"$f":"EXP(-((J394)^2/(Sheet2!B$21^2*0.360673760222241)))","v":1.7847922940385619E-2},{"$f":"IF(1-ABS(J394)/Sheet2!B$22 >0, 1-ABS(J394)/Sheet2!B$22,0)","v":0.39749999999999996},0,{"$f":"IF(ABS(J394)<Sheet2!B$24/2, 1, 0)","v":0}]
[-119.5,0.40249999999999997,"7.15670331854011E-004+1.85530557016832E-003i",0,"0.378330631023683+0.980785280403227i","-7.74448192807974E-06+7.01918927103621E-06i",null,0,null,-119.5,{"$f":"EXP(-((J395)^2/(Sheet2!B$21^2*0.360673760222241)))","v":1.9075966969356543E-2},{"$f":"IF(1-ABS(J395)/Sheet2!B$22 >0, 1-ABS(J395)/Sheet2!B$22,0)","v":0.40249999999999997},0,{"$f":"IF(ABS(J395)<Sheet2!B$24/2, 1, 0)","v":0}]
[-118.5,0.40749999999999997,"-3.47313417105239E-004-9.08668745286661E-004i",0,"-0.263557742099916-0.689540544737066i","-2.67513400798624E-06+2.39486682824877E-06i",null,0,null,-118.5,{"$f":"EXP(-((J396)^2/(Sheet2!B$21^2*0.360673760222241)))","v":2.0377205129693061E-2},{"$f":"IF(1-ABS(J396)/Sheet2!B$22 >0, 1-ABS(J396)/Sheet2!B$22,0)","v":0.40749999999999997},0,{"$f":"IF(ABS(J396)<Sheet2!B$24/2, 1, 0)","v":0}]
[-117.5,0.41249999999999998,"1.54391942547313E-005+4.07678341704892E-005i",0,"5.55683259675157E-002+0.146730474455362i","-2.56197673566535E-08+2.2654002981903E-08i",null,0,null,-117.5,{"$f":"EXP(-((J397)^2/(Sheet2!B$21^2*0.360673760222241)))","v":2.1755138322367119E-2},{"$f":"IF(1-ABS(J397)/Sheet2!B$22 >0, 1-ABS(J397)/Sheet2!B$22,0)","v":0.41249999999999998},0,{"$f":"IF(ABS(J397)<Sheet2!B$24/2, 1, 0)","v":0}]
[-116.5,0.41749999999999998,"-1.42293378067551E-004-3.79240397765742E-004i",0,"0.168696993492273+0.449611329654603i","7.32531572121703E-07-6.39767149139456E-07i",null,0,null,-116.5,{"$f":"EXP(-((J398)^2/(Sheet2!B$21^2*0.360673760222241)))","v":2.3213373357991538E-2},{"$f":"IF(1-ABS(J398)/Sheet2!B$22 >0, 1-ABS(J398)/Sheet2!B$22,0)","v":0.41749999999999998},0,{"$f":"IF(ABS(J398)<Sheet2!B$24/2, 1, 0)","v":0}]
[-115.5,0.42249999999999999,"5.37327552109291E-004+1.44555417179942E-003i",0,"-0.327819325882093-0.881921264348351i","5.49359303483517E-06-4.73880594125382E-06i",null,0,null,-115.5,{"$f":"EXP(-((J399)^2/(Sheet2!B$21^2*0.360673760222241)))","v":2.4755621852985354E-2},{"$f":"IF(1-ABS(J399)/Sheet2!B$22 >0, 1-ABS(J399)/Sheet2!B$22,0)","v":0.42249999999999999},0,{"$f":"IF(ABS(J399)<Sheet2!B$24/2, 1, 0)","v":0}]
[-114.5,0.42749999999999999,"-6.6778067027197E-004-1.81352473839973E-003i",0,"0.365453326779372+0.992479534598704i","7.77921760420175E-06-6.62758648845204E-06i",null,0,null,-114.5,{"$f":"EXP(-((J400)^2/(Sheet2!B$21^2*0.360673760222241)))","v":2.6385698751336666E-2},{"$f":"IF(1-ABS(J400)/Sheet2!B$22 >0, 1-ABS(J400)/Sheet2!B$22,0)","v":0.42749999999999999},0,{"$f":"IF(ABS(J400)<Sheet2!B$24/2, 1, 0)","v":0}]
[-113.5,0.4325,"3.65192540784863E-004+1.00123382546737E-003i",0,"-0.270256374868241-0.740951125354954i","3.21584858761027E-06-2.70589824066026E-06i",null,0,null,-113.5,{"$f":"EXP(-((J401)^2/(Sheet2!B$21^2*0.360673760222241)))","v":2.8107520451952521E-2},{"$f":"IF(1-ABS(J401)/Sheet2!B$22 >0, 1-ABS(J401)/Sheet2!B$22,0)","v":0.4325},0,{"$f":"IF(ABS(J401)<Sheet2!B$24/2, 1, 0)","v":0}]
[-112.5,0.4375,"-3.132738390287E-005-8.67145355912948E-005i",0,"7.91547647355558E-002+0.219101240156866i","8.25977529253364E-08-6.86386866393549E-08i",null,0,null,-112.5,{"$f":"EXP(-((J402)^2/(Sheet2!B$21^2*0.360673760222241)))","v":2.9925102521830477E-2},{"$f":"IF(1-ABS(J402)/Sheet2!B$22 >0, 1-ABS(J402)/Sheet2!B$22,0)","v":0.4375},0,{"$f":"IF(ABS(J402)<Sheet2!B$24/2, 1, 0)","v":0}]
[-111.5,0.4425,"9.37440876696578E-005+2.61997173564626E-004i",0,"0.136926321552508+0.382683432365087i","-4.37129722788802E-07+3.58743092333583E-07i",null,0,null,-111.5,{"$f":"EXP(-((J403)^2/(Sheet2!B$21^2*0.360673760222241)))","v":3.1842556975639091E-2},{"$f":"IF(1-ABS(J403)/Sheet2!B$22 >0, 1-ABS(J403)/Sheet2!B$22,0)","v":0.4425},0,{"$f":"IF(ABS(J403)<Sheet2!B$24/2, 1, 0)","v":0}]
[-110.5,0.44750000000000001,"-4.48120427061844E-004-1.26463097198535E-003i",0,"-0.299372820096098-0.844853565249704i","-4.67136454707425E-06+3.78596140464271E-06i",null,0,null,-110.5,{"$f":"EXP(-((J404)^2/(Sheet2!B$21^2*0.360673760222241)))","v":3.3864089102758656E-2},{"$f":"IF(1-ABS(J404)/Sheet2!B$22 >0, 1-ABS(J404)/Sheet2!B$22,0)","v":0.44750000000000001},0,{"$f":"IF(ABS(J404)<Sheet2!B$24/2, 1, 0)","v":0}]
[-109.5,0.45250000000000001,"6.14169409250867E-004+1.75027242517231E-003i",0,"0.35047664950755+0.99879545620517i","-7.66456054299516E-06+6.13429615299912E-06i",null,0,null,-109.5,{"$f":"EXP(-((J405)^2/(Sheet2!B$21^2*0.360673760222241)))","v":3.5993993823414797E-2},{"$f":"IF(1-ABS(J405)/Sheet2!B$22 >0, 1-ABS(J405)/Sheet2!B$22,0)","v":0.45250000000000001},0,{"$f":"IF(ABS(J405)<Sheet2!B$24/2, 1, 0)","v":0}]
[-108.5,0.45750000000000002,"-3.75151844516657E-004-1.07970633413673E-003i",0,"-0.273916718918774-0.788346427626606i","-0.0000037421113452809+2.95749616442395E-06i",null,0,null,-108.5,{"$f":"EXP(-((J406)^2/(Sheet2!B$21^2*0.360673760222241)))","v":3.8236651556240467E-2},{"$f":"IF(1-ABS(J406)/Sheet2!B$22 >0, 1-ABS(J406)/Sheet2!B$22,0)","v":0.45750000000000002},0,{"$f":"IF(ABS(J406)<Sheet2!B$24/2, 1, 0)","v":0}]
[-107.5,0.46250000000000002,"4.98645816865465E-005+1.44945656058052E-004i",0,"9.98644898714991E-002+0.290284677254464i","-1.85479009877328E-07+1.44749240013176E-07i",null,0,null,-107.5,{"$f":"EXP(-((J407)^2/(Sheet2!B$21^2*0.360673760222241)))","v":4.0596523580430456E-2},{"$f":"IF(1-ABS(J407)/Sheet2!B$22 >0, 1-ABS(J407)/Sheet2!B$22,0)","v":0.46250000000000002},0,{"$f":"IF(ABS(J407)<Sheet2!B$24/2, 1, 0)","v":0}]
[-106.5,0.46750000000000003,"-5.70723030099717E-005-1.67566400223281E-004i",0,"0.106838479032175+0.313681740398887i","2.32325010029832E-07-1.79025393367463E-07i",null,0,null,-106.5,{"$f":"EXP(-((J408)^2/(Sheet2!B$21^2*0.360673760222241)))","v":4.307814687661092E-2},{"$f":"IF(1-ABS(J408)/Sheet2!B$22 >0, 1-ABS(J408)/Sheet2!B$22,0)","v":0.46750000000000003},0,{"$f":"IF(ABS(J408)<Sheet2!B$24/2, 1, 0)","v":0}]
[-105.5,0.47250000000000003,"3.66721099461672E-004+1.08762886071199E-003i",0,"-0.270821380049858-0.80320753148064i","3.87137889064983E-06-2.94553149040276E-06i",null,0,null,-105.5,{"$f":"EXP(-((J409)^2/(Sheet2!B$21^2*0.360673760222241)))","v":4.5686128431637066E-2},{"$f":"IF(1-ABS(J409)/Sheet2!B$22 >0, 1-ABS(J409)/Sheet2!B$22,0)","v":0.47250000000000003},0,{"$f":"IF(ABS(J409)<Sheet2!B$24/2, 1, 0)","v":0}]
[-104.5,0.47750000000000004,"-5.56648648689224E-004-1.66780303821083E-003i",0,"0.333661100126694+0.999698818696198i","7.40784363305806E-06-0.0000055648099652376i",null,0,null,-104.5,{"$f":"EXP(-((J410)^2/(Sheet2!B$21^2*0.360673760222241)))","v":4.8425138993759408E-2},{"$f":"IF(1-ABS(J410)/Sheet2!B$22 >0, 1-ABS(J410)/Sheet2!B$22,0)","v":0.47750000000000004},0,{"$f":"IF(ABS(J410)<Sheet2!B$24/2, 1, 0)","v":0}]
[-103.5,0.48250000000000004,"3.77246768724342E-004+1.14194226761772E-003i",0,"-0.274680457522556-0.831469612302545i","4.22933989747943E-06-3.13669224533598E-06i",null,0,null,-103.5,{"$f":"EXP(-((J411)^2/(Sheet2!B$21^2*0.360673760222241)))","v":5.129990626596221E-2},{"$f":"IF(1-ABS(J411)/Sheet2!B$22 >0, 1-ABS(J411)/Sheet2!B$22,0)","v":0.48250000000000004},0,{"$f":"IF(ABS(J411)<Sheet2!B$24/2, 1, 0)","v":0}]
[-102.5,0.48750000000000004,"-6.92309705252973E-005-2.11743978694796E-004i",0,"0.11766985215045+0.35989503653499i","3.40296044412419E-07-2.49158826666597E-07i",null,0,null,-102.5,{"$f":"EXP(-((J412)^2/(Sheet2!B$21^2*0.360673760222241)))","v":5.431520752678206E-2},{"$f":"IF(1-ABS(J412)/Sheet2!B$22 >0, 1-ABS(J412)/Sheet2!B$22,0)","v":0.48750000000000004},0,{"$f":"IF(ABS(J412)<Sheet2!B$24/2, 1, 0)","v":0}]
[-101.5,0.49250000000000005,"3.09051415355267E-005+9.5514920793784E-005i",0,"7.86195160698033E-002+0.242980179903261i","-1.03892426831637E-07+7.50933685024546E-08i",null,0,null,-101.5,{"$f":"EXP(-((J413)^2/(Sheet2!B$21^2*0.360673760222241)))","v":5.7475861669556295E-2},{"$f":"IF(1-ABS(J413)/Sheet2!B$22 >0, 1-ABS(J413)/Sheet2!B$22,0)","v":0.49250000000000005},0,{"$f":"IF(ABS(J413)<Sheet2!B$24/2, 1, 0)","v":0}]
[-100.5,0.49750000000000005,"-2.93889108470355E-004-9.17893780338619E-004i",0,"-0.242441377850383-0.757208846506482i","-3.11893205116453E-06+2.22535432825624E-06i",null,0,null,-100.5,{"$f":"EXP(-((J414)^2/(Sheet2!B$21^2*0.360673760222241)))","v":6.0786720652835136E-2},{"$f":"IF(1-ABS(J414)/Sheet2!B$22 >0, 1-ABS(J414)/Sheet2!B$22,0)","v":0.49750000000000005},0,{"$f":"IF(ABS(J414)<Sheet2!B$24/2, 1, 0)","v":0}]
[-99.5,0.50249999999999995,"4.9698549748153E-004+1.56877464760363E-003i",1,"0.315273055455483+0.995184726672196i","-7.02267216288812E-06+4.94592376471148E-06i",null,0,null,-99.5,{"$f":"EXP(-((J415)^2/(Sheet2!B$21^2*0.360673760222241)))","v":6.4252660356611785E-2},{"$f":"IF(1-ABS(J415)/Sheet2!B$22 >0, 1-ABS(J415)/Sheet2!B$22,0)","v":0.50249999999999995},0,{"$f":"IF(ABS(J415)<Sheet2!B$24/2, 1, 0)","v":1}]
[-98.5,0.50750000000000006,"-3.71847782802418E-004-1.18639764451716E-003i",1,"-0.272707822697181-0.870086991108715i","-0.0000046543167877679+3.23539918489171E-06i",null,0,null,-98.5,{"$f":"EXP(-((J416)^2/(Sheet2!B$21^2*0.360673760222241)))","v":6.7878570841084812E-2},{"$f":"IF(1-ABS(J416)/Sheet2!B$22 >0, 1-ABS(J416)/Sheet2!B$22,0)","v":0.50750000000000006},0,{"$f":"IF(ABS(J416)<Sheet2!B$24/2, 1, 0)","v":1}]
[-97.5,0.51249999999999996,"8.78709099568185E-005+2.83399871240862E-004i",1,"0.132567650619717+0.42755509343029i","-5.47601091678634E-07+3.75696551163618E-07i",null,0,null,-97.5,{"$f":"EXP(-((J417)^2/(Sheet2!B$21^2*0.360673760222241)))","v":7.1669346006860354E-2},{"$f":"IF(1-ABS(J417)/Sheet2!B$22 >0, 1-ABS(J417)/Sheet2!B$22,0)","v":0.51249999999999996},0,{"$f":"IF(ABS(J417)<Sheet2!B$24/2, 1, 0)","v":1}]
[-96.5,0.51750000000000007,"-1.37466355867146E-005-4.48211008845567E-005i",1,"5.24340263226412E-002+0.170961888760288i","3.47095430566884E-08-2.35015078379736E-08i",null,0,null,-96.5,{"$f":"EXP(-((J418)^2/(Sheet2!B$21^2*0.360673760222241)))","v":7.562987265782696E-2},{"$f":"IF(1-ABS(J418)/Sheet2!B$22 >0, 1-ABS(J418)/Sheet2!B$22,0)","v":0.51750000000000007},0,{"$f":"IF(ABS(J418)<Sheet2!B$24/2, 1, 0)","v":1}]
[-95.5,0.52249999999999996,"2.30048026138553E-004+7.58366709017045E-004i",1,"-0.214498497029201-0.707106781186544i","2.43450643360411E-06-1.62668519281144E-06i",null,0,null,-95.5,{"$f":"EXP(-((J419)^2/(Sheet2!B$21^2*0.360673760222241)))","v":7.9765018970387846E-2},{"$f":"IF(1-ABS(J419)/Sheet2!B$22 >0, 1-ABS(J419)/Sheet2!B$22,0)","v":0.52249999999999996},0,{"$f":"IF(ABS(J419)<Sheet2!B$24/2, 1, 0)","v":1}]
[-94.5,0.52750000000000008,"-4.36846002748625E-004-1.45615569568712E-003i",1,"0.295582815044529+0.985277642388936i","6.52796739782219E-06-0.0000043041459967476i",null,0,null,-94.5,{"$f":"EXP(-((J420)^2/(Sheet2!B$21^2*0.360673760222241)))","v":8.4079622375308832E-2},{"$f":"IF(1-ABS(J420)/Sheet2!B$22 >0, 1-ABS(J420)/Sheet2!B$22,0)","v":0.52750000000000008},0,{"$f":"IF(ABS(J420)<Sheet2!B$24/2, 1, 0)","v":1}]
[-93.5,0.53249999999999997,"3.59592129821982E-004+1.21214166047046E-003i",1,"-0.268176109980743-0.90398929312344i","4.99664532129407E-06-3.25067435250546E-06i",null,0,null,-93.5,{"$f":"EXP(-((J421)^2/(Sheet2!B$21^2*0.360673760222241)))","v":8.8578476861129005E-2},{"$f":"IF(1-ABS(J421)/Sheet2!B$22 >0, 1-ABS(J421)/Sheet2!B$22,0)","v":0.53249999999999997},0,{"$f":"IF(ABS(J421)<Sheet2!B$24/2, 1, 0)","v":1}]
[-92.5,0.53749999999999998,"-1.04514937924351E-004-3.56312789301267E-004i",1,"0.144578655356374+0.492898192229782i","8.02576502625941E-07-5.15152239636883E-07i",null,0,null,-92.5,{"$f":"EXP(-((J422)^2/(Sheet2!B$21^2*0.360673760222241)))","v":9.3266319710877579E-2},{"$f":"IF(1-ABS(J422)/Sheet2!B$22 >0, 1-ABS(J422)/Sheet2!B$22,0)","v":0.53749999999999998},0,{"$f":"IF(ABS(J422)<Sheet2!B$24/2, 1, 0)","v":1}]
[-91.5,0.54249999999999998,"4.0397450726904E-006+1.39304135624193E-005i",1,"2.84244439624976E-002+9.80171403295602E-002i","-6.25295896777498E-09+3.95964259682474E-09i",null,0,null,-91.5,{"$f":"EXP(-((J423)^2/(Sheet2!B$21^2*0.360673760222241)))","v":9.8147817686735819E-2},{"$f":"IF(1-ABS(J423)/Sheet2!B$22 >0, 1-ABS(J423)/Sheet2!B$22,0)","v":0.54249999999999998},0,{"$f":"IF(ABS(J423)<Sheet2!B$24/2, 1, 0)","v":1}]
[-90.5,0.54749999999999999,"-1.75305522843859E-004-6.11520360049685E-004i",1,"-0.187246106952193-0.653172842953774i","-1.83301607709018E-06+1.14504806741364E-06i",null,0,null,-90.5,{"$f":"EXP(-((J424)^2/(Sheet2!B$21^2*0.360673760222241)))","v":0.10322755268026979},{"$f":"IF(1-ABS(J424)/Sheet2!B$22 >0, 1-ABS(J424)/Sheet2!B$22,0)","v":0.54749999999999999},0,{"$f":"IF(ABS(J424)<Sheet2!B$24/2, 1, 0)","v":1}]
[-89.5,0.55249999999999999,"3.77747371186458E-004+1.33312678540534E-003i",1,"0.27486264612897+0.970031253194541i","-0.0000059467300215069+3.66426755862431E-06i",null,0,null,-89.5,{"$f":"EXP(-((J425)^2/(Sheet2!B$21^2*0.360673760222241)))","v":0.10851000684892369},{"$f":"IF(1-ABS(J425)/Sheet2!B$22 >0, 1-ABS(J425)/Sheet2!B$22,0)","v":0.55249999999999999},0,{"$f":"IF(ABS(J425)<Sheet2!B$24/2, 1, 0)","v":1}]
[-88.5,0.5575,"-3.41331243642756E-004-1.21885295743287E-003i",1,"-0.261278106101858-0.932992798834738i","-0.0000052399932561546+3.18459592335353E-06i",null,0,null,-88.5,{"$f":"EXP(-((J426)^2/(Sheet2!B$21^2*0.360673760222241)))","v":0.11399954726259746},{"$f":"IF(1-ABS(J426)/Sheet2!B$22 >0, 1-ABS(J426)/Sheet2!B$22,0)","v":0.5575},0,{"$f":"IF(ABS(J426)<Sheet2!B$24/2, 1, 0)","v":1}]
[-87.5,0.5625,"1.18190684143349E-004+4.27086254349388E-004i",1,"0.153746989657118+0.5555702330196i","-1.09552473977901E-06+6.56632259302095E-07i",null,0,null,-87.5,{"$f":"EXP(-((J427)^2/(Sheet2!B$21^2*0.360673760222241)))","v":0.11970041008732182},{"$f":"IF(1-ABS(J427)/Sheet2!B$22 >0, 1-ABS(J427)/Sheet2!B$22,0)","v":0.5625},0,{"$f":"IF(ABS(J427)<Sheet2!B$24/2, 1, 0)","v":1}]
[-86.5,0.5675,"-2.25152941470746E-007-8.23417541544876E-007i",1,"6.71048345704752E-003+2.45412285229102E-002i","9.34839648389034E-11-5.52552979000932E-11i",null,0,null,-86.5,{"$f":"EXP(-((J428)^2/(Sheet2!B$21^2*0.360673760222241)))","v":0.12561668433627357},{"$f":"IF(1-ABS(J428)/Sheet2!B$22 >0, 1-ABS(J428)/Sheet2!B$22,0)","v":0.5675},0,{"$f":"IF(ABS(J428)<Sheet2!B$24/2, 1, 0)","v":1}]
[-85.5,0.57250000000000001,"1.29482234683504E-004+4.79310770739338E-004i",1,"-0.160923730184988-0.595699304492429i","1.32344164283598E-06-7.71324771451524E-07i",null,0,null,-85.5,{"$f":"EXP(-((J429)^2/(Sheet2!B$21^2*0.360673760222241)))","v":0.13175229522163456},{"$f":"IF(1-ABS(J429)/Sheet2!B$22 >0, 1-ABS(J429)/Sheet2!B$22,0)","v":0.57250000000000001},0,{"$f":"IF(ABS(J429)<Sheet2!B$24/2, 1, 0)","v":1}]
[-84.5,0.57750000000000001,"-3.21019380212867E-004-1.20298022027683E-003i",1,"0.253384837830361+0.94952818059303i","0.0000053046108812661-3.04816948028301E-06i",null,0,null,-84.5,{"$f":"EXP(-((J430)^2/(Sheet2!B$21^2*0.360673760222241)))","v":0.13811098714406789},{"$f":"IF(1-ABS(J430)/Sheet2!B$22 >0, 1-ABS(J430)/Sheet2!B$22,0)","v":0.57750000000000001},0,{"$f":"IF(ABS(J430)<Sheet2!B$24/2, 1, 0)","v":1}]
[-83.5,0.58250000000000002,"3.18075748826918E-004+1.20679955707951E-003i",1,"-0.252220438833452-0.956940335732203i","5.37304984180868E-06-3.04379513870656E-06i",null,0,null,-83.5,{"$f":"EXP(-((J431)^2/(Sheet2!B$21^2*0.360673760222241)))","v":0.14469630635985367},{"$f":"IF(1-ABS(J431)/Sheet2!B$22 >0, 1-ABS(J431)/Sheet2!B$22,0)","v":0.58250000000000002},0,{"$f":"IF(ABS(J431)<Sheet2!B$24/2, 1, 0)","v":1}]
[-82.5,0.58750000000000002,"-1.28223098286128E-004-4.92614014208785E-004i",1,"0.160139375724159+0.615231590580623i","1.41269068295509E-06-7.88869007080585E-07i",null,0,null,-82.5,{"$f":"EXP(-((J432)^2/(Sheet2!B$21^2*0.360673760222241)))","v":0.15151158336897422},{"$f":"IF(1-ABS(J432)/Sheet2!B$22 >0, 1-ABS(J432)/Sheet2!B$22,0)","v":0.58750000000000002},0,{"$f":"IF(ABS(J432)<Sheet2!B$24/2, 1, 0)","v":1}]
[-81.5,0.59250000000000003,"7.95221314150012E-007+3.09402973022004E-006i",1,"-1.26112752223635E-002-4.90676743274168E-002i","7.08940441531734E-10-3.90196604674566E-10i",null,0,null,-81.5,{"$f":"EXP(-((J433)^2/(Sheet2!B$21^2*0.360673760222241)))","v":0.15855991507064751},{"$f":"IF(1-ABS(J433)/Sheet2!B$22 >0, 1-ABS(J433)/Sheet2!B$22,0)","v":0.59250000000000003},0,{"$f":"IF(ABS(J433)<Sheet2!B$24/2, 1, 0)","v":1}]
[-80.5,0.59749999999999992,"-9.21479298587585E-005-3.6314464439322E-004i",1,"-0.135755611198291-0.534997619887096i","-9.08859609432428E-07+4.92989231524732E-07i",null,0,null,-80.5,{"$f":"EXP(-((J434)^2/(Sheet2!B$21^2*0.360673760222241)))","v":0.16584414673596232},{"$f":"IF(1-ABS(J434)/Sheet2!B$22 >0, 1-ABS(J434)/Sheet2!B$22,0)","v":0.59749999999999992},0,{"$f":"IF(ABS(J434)<Sheet2!B$24/2, 1, 0)","v":1}]
[-79.5,0.60250000000000004,"2.67775562883051E-004+1.0690199708539E-003i",1,"0.231419775681715+0.923879532511281i","-4.62838555111142E-06+2.47392361854311E-06i",null,0,null,-79.5,{"$f":"EXP(-((J435)^2/(Sheet2!B$21^2*0.360673760222241)))","v":0.17336685385034564},{"$f":"IF(1-ABS(J435)/Sheet2!B$22 >0, 1-ABS(J435)/Sheet2!B$22,0)","v":0.60250000000000004},0,{"$f":"IF(ABS(J435)<Sheet2!B$24/2, 1, 0)","v":1}]
[-78.5,0.60749999999999993,"-2.90939925718152E-004-1.17680340701863E-003i",1,"-0.241221858759856-0.975702130038525i","-5.39014260597742E-06+2.83870705236208E-06i",null,0,null,-78.5,{"$f":"EXP(-((J436)^2/(Sheet2!B$21^2*0.360673760222241)))","v":0.18113032388157826},{"$f":"IF(1-ABS(J436)/Sheet2!B$22 >0, 1-ABS(J436)/Sheet2!B$22,0)","v":0.60749999999999993},0,{"$f":"IF(ABS(J436)<Sheet2!B$24/2, 1, 0)","v":1}]
[-77.5,0.61250000000000004,"1.3422468913955E-004+5.50155362031867E-004i",1,"0.163844248687525+0.671558954847018i","-1.73734908291109E-06+9.01397919533733E-07i",null,0,null,-77.5,{"$f":"EXP(-((J437)^2/(Sheet2!B$21^2*0.360673760222241)))","v":0.18913653803194388},{"$f":"IF(1-ABS(J437)/Sheet2!B$22 >0, 1-ABS(J437)/Sheet2!B$22,0)","v":0.61250000000000004},0,{"$f":"IF(ABS(J437)<Sheet2!B$24/2, 1, 0)","v":1}]
[-76.5,0.61749999999999994,"-4.34171320545275E-006-1.80357772097554E-005i",1,"-2.94676541538801E-002-0.122410675199221i","-1.03991578140763E-08+5.31472045107175E-09i",null,0,null,-76.5,{"$f":"EXP(-((J438)^2/(Sheet2!B$21^2*0.360673760222241)))","v":0.19738715303583415},{"$f":"IF(1-ABS(J438)/Sheet2!B$22 >0, 1-ABS(J438)/Sheet2!B$22,0)","v":0.61749999999999994},0,{"$f":"IF(ABS(J438)<Sheet2!B$24/2, 1, 0)","v":1}]
[-75.5,0.62250000000000005,"6.26633343302416E-005+2.63862895622872E-004i",1,"-0.111949394218815-0.471396736825991i","5.86844928240387E-07-2.95392913218575E-07i",null,0,null,-75.5,{"$f":"EXP(-((J439)^2/(Sheet2!B$21^2*0.360673760222241)))","v":0.20588348306671417},{"$f":"IF(1-ABS(J439)/Sheet2!B$22 >0, 1-ABS(J439)/Sheet2!B$22,0)","v":0.62250000000000005},0,{"$f":"IF(ABS(J439)<Sheet2!B$24/2, 1, 0)","v":1}]
[-74.5,0.62749999999999995,"-2.18894433023011E-004-9.34464679016807E-004i",1,"0.209234047431164+0.893224301195507i","3.94443195862558E-06-1.95521826972358E-06i",null,0,null,-74.5,{"$f":"EXP(-((J440)^2/(Sheet2!B$21^2*0.360673760222241)))","v":0.21462648181976229},{"$f":"IF(1-ABS(J440)/Sheet2!B$22 >0, 1-ABS(J440)/Sheet2!B$22,0)","v":0.62749999999999995},0,{"$f":"IF(ABS(J440)<Sheet2!B$24/2, 1, 0)","v":1}]
[-73.5,0.63250000000000006,"2.61087443774878E-004+1.13019085763963E-003i",1,"-0.228511463071077-0.989176509964774i","0.0000052914838719379-2.58261566428823E-06i",null,0,null,-73.5,{"$f":"EXP(-((J441)^2/(Sheet2!B$21^2*0.360673760222241)))","v":0.22361672483871217},{"$f":"IF(1-ABS(J441)/Sheet2!B$22 >0, 1-ABS(J441)/Sheet2!B$22,0)","v":0.63250000000000006},0,{"$f":"IF(ABS(J441)<Sheet2!B$24/2, 1, 0)","v":1}]
[-72.5,0.63749999999999996,"-1.36076732790265E-004-5.97397902569742E-004i",1,"0.164970744551179+0.724247082951464i","2.05107504186478E-06-9.85531767805791E-07i",null,0,null,-72.5,{"$f":"EXP(-((J442)^2/(Sheet2!B$21^2*0.360673760222241)))","v":0.23285439215742595},{"$f":"IF(1-ABS(J442)/Sheet2!B$22 >0, 1-ABS(J442)/Sheet2!B$22,0)","v":0.63749999999999996},0,{"$f":"IF(ABS(J442)<Sheet2!B$24/2, 1, 0)","v":1}]
[-71.5,0.64250000000000007,"9.59614100466189E-006+4.27335564680821E-005i",1,"-4.38089968038196E-002-0.195090322016133i","3.95825299082525E-08-1.87211423871888E-08i",null,0,null,-71.5,{"$f":"EXP(-((J443)^2/(Sheet2!B$21^2*0.360673760222241)))","v":0.24233925132849651},{"$f":"IF(1-ABS(J443)/Sheet2!B$22 >0, 1-ABS(J443)/Sheet2!B$22,0)","v":0.64250000000000007},0,{"$f":"IF(ABS(J443)<Sheet2!B$24/2, 1, 0)","v":1}]
[-70.5,0.64749999999999996,"-4.02258910476034E-005-1.81740430952099E-004i",1,"-8.96949174092886E-002-0.405241314004982i","-3.50203365358152E-07+1.63011929446645E-07i",null,0,null,-70.5,{"$f":"EXP(-((J444)^2/(Sheet2!B$21^2*0.360673760222241)))","v":0.25207064091268938},{"$f":"IF(1-ABS(J444)/Sheet2!B$22 >0, 1-ABS(J444)/Sheet2!B$22,0)","v":0.64749999999999996},0,{"$f":"IF(ABS(J444)<Sheet2!B$24/2, 1, 0)","v":1}]
[-69.5,0.65250000000000008,"1.75010704223377E-004+8.0235618509456E-004i",1,"0.187088590898831+0.857728610000264i","-3.27730674660454E-06+1.50111688068494E-06i",null,0,null,-69.5,{"$f":"EXP(-((J445)^2/(Sheet2!B$21^2*0.360673760222241)))","v":0.26204745450428413},{"$f":"IF(1-ABS(J445)/Sheet2!B$22 >0, 1-ABS(J445)/Sheet2!B$22,0)","v":0.65250000000000008},0,{"$f":"IF(ABS(J445)<Sheet2!B$24/2, 1, 0)","v":1}]
[-68.5,0.65749999999999997,"-2.29680039931027E-004-1.06873071940402E-003i",1,"-0.214326871824453-0.997290456678686i","-5.08304171371022E-06+2.29057711912677E-06i",null,0,null,-68.5,{"$f":"EXP(-((J446)^2/(Sheet2!B$21^2*0.360673760222241)))","v":0.27226812536832717},{"$f":"IF(1-ABS(J446)/Sheet2!B$22 >0, 1-ABS(J446)/Sheet2!B$22,0)","v":0.65749999999999997},0,{"$f":"IF(ABS(J446)<Sheet2!B$24/2, 1, 0)","v":1}]
[-67.5,0.66249999999999998,"1.3390263315851E-004+6.32506405067982E-004i",1,"0.163647568364409+0.77301045336274i","-2.33510611311228E-06+1.03508135164307E-06i",null,0,null,-67.5,{"$f":"EXP(-((J447)^2/(Sheet2!B$21^2*0.360673760222241)))","v":0.28273061176646469},{"$f":"IF(1-ABS(J447)/Sheet2!B$22 >0, 1-ABS(J447)/Sheet2!B$22,0)","v":0.66249999999999998},0,{"$f":"IF(ABS(J447)<Sheet2!B$24/2, 1, 0)","v":1}]
[-66.5,0.66749999999999998,"-1.54618817122375E-005-7.41583340496023E-005i",1,"-5.56091390172175E-002-0.266712757474911i","-9.45957591725571E-08+4.12388110733568E-08i",null,0,null,-66.5,{"$f":"EXP(-((J448)^2/(Sheet2!B$21^2*0.360673760222241)))","v":0.29343238304835173},{"$f":"IF(1-ABS(J448)/Sheet2!B$22 >0, 1-ABS(J448)/Sheet2!B$22,0)","v":0.66749999999999998},0,{"$f":"IF(ABS(J448)<Sheet2!B$24/2, 1, 0)","v":1}]
[-65.5,0.67249999999999999,"2.39176926919195E-005+1.16501783473502E-004i",1,"-6.91631298981925E-002-0.336889853392197i","1.87970231339006E-07-8.05762798410465E-08i",null,0,null,-65.5,{"$f":"EXP(-((J449)^2/(Sheet2!B$21^2*0.360673760222241)))","v":0.30437040658563436},{"$f":"IF(1-ABS(J449)/Sheet2!B$22 >0, 1-ABS(J449)/Sheet2!B$22,0)","v":0.67249999999999999},0,{"$f":"IF(ABS(J449)<Sheet2!B$24/2, 1, 0)","v":1}]
[-64.5,0.67749999999999999,"-1.36516156392812E-004-6.75475877276347E-004i",1,"0.165236894419108+0.817584813151556i","2.64850656595492E-06-1.11613536216376E-06i",null,0,null,-64.5,{"$f":"EXP(-((J450)^2/(Sheet2!B$21^2*0.360673760222241)))","v":0.31554113562514718},{"$f":"IF(1-ABS(J450)/Sheet2!B$22 >0, 1-ABS(J450)/Sheet2!B$22,0)","v":0.67749999999999999},0,{"$f":"IF(ABS(J450)<Sheet2!B$24/2, 1, 0)","v":1}]
[-63.5,0.6825,"1.97830649483227E-004+9.94561836899444E-004i",1,"-0.198912367379656-0.999999999999995i","4.77605437035238E-06-1.97830649483177E-06i",null,{"$f":"IMABS(G451)","v":0},null,-63.5,{"$f":"EXP(-((J451)^2/(Sheet2!B$21^2*0.360673760222241)))","v":0.32694049813725973},{"$f":"IF(1-ABS(J451)/Sheet2!B$22 >0, 1-ABS(J451)/Sheet2!B$22,0)","v":0.6825},0,{"$f":"IF(ABS(J451)<Sheet2!B$24/2, 1, 0)","v":1}]
[-62.5,0.6875,"-1.28034801721542E-004-6.54156761222428E-004i",1,"0.160021749596956+0.817584813151578i",{"$f":"IMPRODUCT(C452,E452,D$1027)","v":"0.0000025717014020755-1.04679309441949E-06i"},null,0,null,-62.5,{"$f":"EXP(-((J452)^2/(Sheet2!B$21^2*0.360673760222241)))","v":0.33856388673422333},{"$f":"IF(1-ABS(J452)/Sheet2!B$22 >0, 1-ABS(J452)/Sheet2!B$22,0)","v":0.6875},0,{"$f":"IF(ABS(J452)<Sheet2!B$24/2, 1, 0)","v":1}]
[{"$f":"A452+1","v":-61.5},0.6925,"2.10374918481783E-005+1.09262193113231E-004i",1,"-6.48652323677119E-002-0.336889853392218i","1.77223612110313E-07-7.08731754488415E-08i",null,0,null,{"$f":"J452+1","v":-61.5},{"$f":"EXP(-((J453)^2/(Sheet2!B$21^2*0.360673760222241)))","v":0.35040614973191136},{"$f":"IF(1-ABS(J453)/Sheet2!B$22 >0, 1-ABS(J453)/Sheet2!B$22,0)","v":0.6925},0,{"$f":"IF(ABS(J453)<Sheet2!B$24/2, 1, 0)","v":1}]
[-60.5,0.69750000000000001,"-1.27538445593078E-005-6.73518224219466E-005i",1,"-5.05051374810559E-002-0.266712757474899i","-8.65972780311862E-08+3.40161305091965E-08i",null,0,null,-60.5,{"$f":"EXP(-((J454)^2/(Sheet2!B$21^2*0.360673760222241)))","v":0.36246158342650286},{"$f":"IF(1-ABS(J454)/Sheet2!B$22 >0, 1-ABS(J454)/Sheet2!B$22,0)","v":0.69750000000000001},0,{"$f":"IF(ABS(J454)<Sheet2!B$24/2, 1, 0)","v":1}]
[-59.5,0.70250000000000001,"1.03569523986498E-004+5.56270922689352E-004i",1,"0.143923260098338+0.773010453362734i","-2.07548587300816E-06+8.00603246913637E-07i",null,0,null,-59.5,{"$f":"EXP(-((J455)^2/(Sheet2!B$21^2*0.360673760222241)))","v":0.37472392565542439},{"$f":"IF(1-ABS(J455)/Sheet2!B$22 >0, 1-ABS(J455)/Sheet2!B$22,0)","v":0.70250000000000001},0,{"$f":"IF(ABS(J455)<Sheet2!B$24/2, 1, 0)","v":1}]
[-58.5,0.70750000000000002,"-1.66562290895775E-004-9.10112350888299E-004i",1,"-0.182517007917598-0.997290456678686i","-4.38622955540053E-06+0.0000016611098315294i",null,0,null,-58.5,{"$f":"EXP(-((J456)^2/(Sheet2!B$21^2*0.360673760222241)))","v":0.38718635070924218},{"$f":"IF(1-ABS(J456)/Sheet2!B$22 >0, 1-ABS(J456)/Sheet2!B$22,0)","v":0.70750000000000002},0,{"$f":"IF(ABS(J456)<Sheet2!B$24/2, 1, 0)","v":1}]
[-57.5,0.71250000000000002,"1.18976561189033E-004+6.61554464676042E-004i",1,"0.154257292332871+0.857728610000268i","-2.74540594622978E-06+1.02049600451465E-06i",null,0,null,-57.5,{"$f":"EXP(-((J457)^2/(Sheet2!B$21^2*0.360673760222241)))","v":0.39984146565817646},{"$f":"IF(1-ABS(J457)/Sheet2!B$22 >0, 1-ABS(J457)/Sheet2!B$22,0)","v":0.71250000000000002},0,{"$f":"IF(ABS(J457)<Sheet2!B$24/2, 1, 0)","v":1}]
[-56.5,0.71750000000000003,"-2.56309537644429E-005-1.45071165661927E-004i",1,"-7.15974214108492E-002-0.40524131400499i","-0.0000002847685979962+1.0386721382582E-07i",null,0,null,-56.5,{"$f":"EXP(-((J458)^2/(Sheet2!B$21^2*0.360673760222241)))","v":0.41268130815350346},{"$f":"IF(1-ABS(J458)/Sheet2!B$22 >0, 1-ABS(J458)/Sheet2!B$22,0)","v":0.71750000000000003},0,{"$f":"IF(ABS(J458)<Sheet2!B$24/2, 1, 0)","v":1}]
[-55.5,0.72249999999999992,"5.72958034484976E-006+3.30203851564477E-005i",1,"-3.38513820833927E-002-0.195090322016128i","3.12400167991847E-08-1.11778567448286E-08i",null,0,null,-55.5,{"$f":"EXP(-((J459)^2/(Sheet2!B$21^2*0.360673760222241)))","v":0.42569734576031265},{"$f":"IF(1-ABS(J459)/Sheet2!B$22 >0, 1-ABS(J459)/Sheet2!B$22,0)","v":0.72249999999999992},0,{"$f":"IF(ABS(J459)<Sheet2!B$24/2, 1, 0)","v":1}]
[-54.5,0.72750000000000004,"-7.61145282407172E-005-4.46792152803506E-004i",1,"0.123381139757593+0.724247082951462i","1.57098408053546E-06-5.51257250481057E-07i",null,0,null,-54.5,{"$f":"EXP(-((J460)^2/(Sheet2!B$21^2*0.360673760222241)))","v":0.43888047687391341},{"$f":"IF(1-ABS(J460)/Sheet2!B$22 >0, 1-ABS(J460)/Sheet2!B$22,0)","v":0.72750000000000004},0,{"$f":"IF(ABS(J460)<Sheet2!B$24/2, 1, 0)","v":1}]
[-53.5,0.73249999999999993,"1.36773769227688E-004+8.18012997865117E-004i",1,"-0.165392726095823-0.989176509964774i","3.93268927891535E-06-0.0000013529339969905i",null,0,null,-53.5,{"$f":"EXP(-((J461)^2/(Sheet2!B$21^2*0.360673760222241)))","v":0.45222103326763446},{"$f":"IF(1-ABS(J461)/Sheet2!B$22 >0, 1-ABS(J461)/Sheet2!B$22,0)","v":0.73249999999999993},0,{"$f":"IF(ABS(J461)<Sheet2!B$24/2, 1, 0)","v":1}]
[-52.5,0.73750000000000004,"-1.07360667926229E-004-6.54437436162567E-004i",1,"0.146533728490489+0.893224301195508i","2.84413731314015E-06-9.58971575844731E-07i",null,0,null,-52.5,{"$f":"EXP(-((J462)^2/(Sheet2!B$21^2*0.360673760222241)))","v":0.4657087843148518},{"$f":"IF(1-ABS(J462)/Sheet2!B$22 >0, 1-ABS(J462)/Sheet2!B$22,0)","v":0.73750000000000004},0,{"$f":"IF(ABS(J462)<Sheet2!B$24/2, 1, 0)","v":1}]
[-51.5,0.74249999999999994,"2.8764881627983E-005+1.78773387554833E-004i",1,"-7.58483772114305E-002-0.471396736825993i","4.10457109662577E-07-1.35596713346207E-07i",null,0,null,-51.5,{"$f":"EXP(-((J463)^2/(Sheet2!B$21^2*0.360673760222241)))","v":0.47933294292282391},{"$f":"IF(1-ABS(J463)/Sheet2!B$22 >0, 1-ABS(J463)/Sheet2!B$22,0)","v":0.74249999999999994},0,{"$f":"IF(ABS(J463)<Sheet2!B$24/2, 1, 0)","v":1}]
[-50.5,0.74750000000000005,"-1.86456574890808E-006-1.18193378444299E-005i",1,"-1.93109593157801E-002-0.122410675199218i","-7.05403286312786E-09+2.2824275226521E-09i",null,0,null,-50.5,{"$f":"EXP(-((J464)^2/(Sheet2!B$21^2*0.360673760222241)))","v":0.49308217321032377},{"$f":"IF(1-ABS(J464)/Sheet2!B$22 >0, 1-ABS(J464)/Sheet2!B$22,0)","v":0.74750000000000005},0,{"$f":"IF(ABS(J464)<Sheet2!B$24/2, 1, 0)","v":1}]
[-49.5,0.75249999999999995,"5.39049570086811E-005+3.48645046114033E-004i",1,"0.103831553014409+0.671558954847017i","-1.14269333689772E-06+3.62003565893118E-07i",null,0,null,-49.5,{"$f":"EXP(-((J465)^2/(Sheet2!B$21^2*0.360673760222241)))","v":0.50694459995515539},{"$f":"IF(1-ABS(J465)/Sheet2!B$22 >0, 1-ABS(J465)/Sheet2!B$22,0)","v":0.75249999999999995},0,{"$f":"IF(ABS(J465)<Sheet2!B$24/2, 1, 0)","v":1}]
[-48.5,0.75750000000000006,"-1.09213002919689E-004-7.2100691437166E-004i",1,"-0.147792423972383-0.975702130038525i","-3.43673563847065E-06+0.0000010655935957624i",null,0,null,-48.5,{"$f":"EXP(-((J466)^2/(Sheet2!B$21^2*0.360673760222241)))","v":0.52090781983144585},{"$f":"IF(1-ABS(J466)/Sheet2!B$22 >0, 1-ABS(J466)/Sheet2!B$22,0)","v":0.75750000000000006},0,{"$f":"IF(ABS(J466)<Sheet2!B$24/2, 1, 0)","v":1}]
[-47.5,0.76249999999999996,"9.3906088403789E-005+6.33063425551824E-004i",1,"0.137044582821526+0.92387953251128i","-2.86002510469555E-06+8.67579130543857E-07i",null,0,null,-47.5,{"$f":"EXP(-((J467)^2/(Sheet2!B$21^2*0.360673760222241)))","v":0.53495891445013921},{"$f":"IF(1-ABS(J467)/Sheet2!B$22 >0, 1-ABS(J467)/Sheet2!B$22,0)","v":0.76249999999999996},0,{"$f":"IF(ABS(J467)<Sheet2!B$24/2, 1, 0)","v":1}]
[-46.5,0.76749999999999996,"-3.01730018853336E-005-2.07800272160378E-004i",1,"-7.76826903286463E-002-0.534997619887095i","-5.44143655279744E-07+1.61424841929727E-07i",null,0,null,-46.5,{"$f":"EXP(-((J468)^2/(Sheet2!B$21^2*0.360673760222241)))","v":0.54908446520940402},{"$f":"IF(1-ABS(J468)/Sheet2!B$22 >0, 1-ABS(J468)/Sheet2!B$22,0)","v":0.76749999999999996},0,{"$f":"IF(ABS(J468)<Sheet2!B$24/2, 1, 0)","v":1}]
[-45.5,0.77249999999999996,"2.42979618763348E-007+1.71027284524281E-006i",1,"-6.97107766746707E-003-4.90676743274161E-002i","4.11126405936933E-10-1.19224448192136E-10i",null,0,null,-45.5,{"$f":"EXP(-((J469)^2/(Sheet2!B$21^2*0.360673760222241)))","v":0.56327056995473768},{"$f":"IF(1-ABS(J469)/Sheet2!B$22 >0, 1-ABS(J469)/Sheet2!B$22,0)","v":0.77249999999999996},0,{"$f":"IF(ABS(J469)<Sheet2!B$24/2, 1, 0)","v":1}]
[-44.5,0.77749999999999997,"-3.65355166909442E-005-2.62954892864671E-004i",1,"8.54815964877562E-002+0.615231590580619i","7.93275213464204E-07-2.24778040463967E-07i",null,0,null,-44.5,{"$f":"EXP(-((J470)^2/(Sheet2!B$21^2*0.360673760222241)))","v":0.57750286144142782},{"$f":"IF(1-ABS(J470)/Sheet2!B$22 >0, 1-ABS(J470)/Sheet2!B$22,0)","v":0.77749999999999997},0,{"$f":"IF(ABS(J470)<Sheet2!B$24/2, 1, 0)","v":1}]
[-43.5,0.78249999999999997,"8.44585030461004E-005+6.21858468281469E-004i",1,"-0.129968075346058-0.9569403357322i","2.92052271163835E-06-8.08217482602823E-07i",null,0,null,-43.5,{"$f":"EXP(-((J471)^2/(Sheet2!B$21^2*0.360673760222241)))","v":0.59176652758475301},{"$f":"IF(1-ABS(J471)/Sheet2!B$22 >0, 1-ABS(J471)/Sheet2!B$22,0)","v":0.78249999999999997},0,{"$f":"IF(ABS(J471)<Sheet2!B$24/2, 1, 0)","v":1}]
[-42.5,0.78749999999999998,"-7.93746563524378E-005-5.98182618733886E-004i",1,"0.125995758937606+0.949528180593027i","2.78995191780611E-06-7.53684730310938E-07i",null,0,null,-42.5,{"$f":"EXP(-((J472)^2/(Sheet2!B$21^2*0.360673760222241)))","v":0.60604633347589643},{"$f":"IF(1-ABS(J472)/Sheet2!B$22 >0, 1-ABS(J472)/Sheet2!B$22,0)","v":0.78749999999999998},0,{"$f":"IF(ABS(J472)<Sheet2!B$24/2, 1, 0)","v":1}]
[-41.5,0.79249999999999998,"2.97884911888632E-005+2.29898611558498E-004i",1,"-7.71861272365717E-002-0.595699304492427i","6.73255923690414E-07-1.7744983483175E-07i",null,0,null,-41.5,{"$f":"EXP(-((J473)^2/(Sheet2!B$21^2*0.360673760222241)))","v":0.62032664513405011},{"$f":"IF(1-ABS(J473)/Sheet2!B$22 >0, 1-ABS(J473)/Sheet2!B$22,0)","v":0.79249999999999998},0,{"$f":"IF(ABS(J473)<Sheet2!B$24/2, 1, 0)","v":1}]
[-40.5,0.79749999999999999,"-4.81535312065845E-008-3.80798628722148E-007i",1,"3.1033379183474E-003+2.45412285229107E-002i","4.59791474469277E-11-1.18174681864702E-11i",null,0,null,-40.5,{"$f":"EXP(-((J474)^2/(Sheet2!B$21^2*0.360673760222241)))","v":0.63459145495762936},{"$f":"IF(1-ABS(J474)/Sheet2!B$22 >0, 1-ABS(J474)/Sheet2!B$22,0)","v":0.79749999999999999},0,{"$f":"IF(ABS(J474)<Sheet2!B$24/2, 1, 0)","v":1}]
[-39.5,0.80249999999999999,"2.34770436818577E-005+1.90346841475298E-004i",1,"6.85230525907126E-002+0.555570233019596i","-5.20711601870445E-07+1.30431466289144E-07i",null,0,null,-39.5,{"$f":"EXP(-((J475)^2/(Sheet2!B$21^2*0.360673760222241)))","v":0.64882440882994163},{"$f":"IF(1-ABS(J475)/Sheet2!B$22 >0, 1-ABS(J475)/Sheet2!B$22,0)","v":0.80249999999999999},0,{"$f":"IF(ABS(J475)<Sheet2!B$24/2, 1, 0)","v":1}]
[-38.5,0.8075,"-6.29092507543061E-005-5.23263630724177E-004i",1,"-0.112168846613818-0.932992798834729i","-2.40572370629661E-06+5.86938779335728E-07i",null,0,null,-38.5,{"$f":"EXP(-((J476)^2/(Sheet2!B$21^2*0.360673760222241)))","v":0.6630088348270976},{"$f":"IF(1-ABS(J476)/Sheet2!B$22 >0, 1-ABS(J476)/Sheet2!B$22,0)","v":0.8075},0,{"$f":"IF(ABS(J476)<Sheet2!B$24/2, 1, 0)","v":1}]
[-37.5,0.8125,"6.45291805535242E-005+5.50996454287488E-004i",1,"0.113603856055373+0.970031253194535i","-2.63576508659632E-06+6.25953218799241E-07i",null,0,null,-37.5,{"$f":"EXP(-((J477)^2/(Sheet2!B$21^2*0.360673760222241)))","v":0.67712777346844644},{"$f":"IF(1-ABS(J477)/Sheet2!B$22 >0, 1-ABS(J477)/Sheet2!B$22,0)","v":0.8125},0,{"$f":"IF(ABS(J477)<Sheet2!B$24/2, 1, 0)","v":1}]
[-36.5,0.8175,"-2.77249986334882E-005-2.43191778386734E-004i",1,"-7.44647549291155E-002-0.653172842953773i","-7.83908650215971E-07+1.81092161783344E-07i",null,0,null,-36.5,{"$f":"EXP(-((J478)^2/(Sheet2!B$21^2*0.360673760222241)))","v":0.69116400944241563},{"$f":"IF(1-ABS(J478)/Sheet2!B$22 >0, 1-ABS(J478)/Sheet2!B$22,0)","v":0.8175},0,{"$f":"IF(ABS(J478)<Sheet2!B$24/2, 1, 0)","v":1}]
[-35.5,0.82250000000000001,"5.90773213228653E-007+5.32718068965235E-006i",1,"1.08698961631516E-002+9.80171403295627E-002i","-2.57866686867412E-09+5.79059009414235E-10i",null,0,null,-35.5,{"$f":"EXP(-((J479)^2/(Sheet2!B$21^2*0.360673760222241)))","v":0.7051001047333576},{"$f":"IF(1-ABS(J479)/Sheet2!B$22 >0, 1-ABS(J479)/Sheet2!B$22,0)","v":0.82250000000000001},0,{"$f":"IF(ABS(J479)<Sheet2!B$24/2, 1, 0)","v":1}]
[-34.5,0.82750000000000001,"-1.41145720220712E-005-1.30941130024176E-004i",1,"5.31311058075987E-002+0.492898192229773i","3.18953617289532E-07-6.95704703382843E-08i",null,0,null,-34.5,{"$f":"EXP(-((J480)^2/(Sheet2!B$21^2*0.360673760222241)))","v":0.71891843306791281},{"$f":"IF(1-ABS(J480)/Sheet2!B$22 >0, 1-ABS(J480)/Sheet2!B$22,0)","v":0.82750000000000001},0,{"$f":"IF(ABS(J480)<Sheet2!B$24/2, 1, 0)","v":1}]
[-33.5,0.83250000000000002,"4.47829354928708E-005+4.27764330612142E-004i",1,"-9.46392471364268E-002-0.903989293123425i","0.0000019122807577694-4.04832942005715E-07i",null,0,null,-33.5,{"$f":"EXP(-((J481)^2/(Sheet2!B$21^2*0.360673760222241)))","v":0.73260121559251357},{"$f":"IF(1-ABS(J481)/Sheet2!B$22 >0, 1-ABS(J481)/Sheet2!B$22,0)","v":0.83250000000000002},0,{"$f":"IF(ABS(J481)<Sheet2!B$24/2, 1, 0)","v":1}]
[-32.5,0.83750000000000002,"-5.00944711212259E-005-4.9310400299301E-004i",1,"0.10009442653924+0.98527764238892i","2.40415086080913E-06-4.93569624034152E-07i",null,0,null,-32.5,{"$f":"EXP(-((J482)^2/(Sheet2!B$21^2*0.360673760222241)))","v":0.74613055768701986},{"$f":"IF(1-ABS(J482)/Sheet2!B$22 >0, 1-ABS(J482)/Sheet2!B$22,0)","v":0.83750000000000002},0,{"$f":"IF(ABS(J482)<Sheet2!B$24/2, 1, 0)","v":1}]
[-31.5,0.84250000000000003,"2.42513913386311E-005+2.46228508396054E-004i",1,"-6.96439392024266E-002-0.70710678118654i","8.62104427921674E-07-1.71483232686968E-07i",null,0,null,-31.5,{"$f":"EXP(-((J483)^2/(Sheet2!B$21^2*0.360673760222241)))","v":0.75948848681314463},{"$f":"IF(1-ABS(J483)/Sheet2!B$22 >0, 1-ABS(J483)/Sheet2!B$22,0)","v":0.84250000000000003},0,{"$f":"IF(ABS(J483)<Sheet2!B$24/2, 1, 0)","v":1}]
[-30.5,0.84750000000000003,"-1.32989166556387E-006-1.39409523041644E-005i",1,"1.63088421702451E-002+0.170961888760299i","1.18084127187999E-08-2.27360790911456E-09i",null,0,null,-30.5,{"$f":"EXP(-((J484)^2/(Sheet2!B$21^2*0.360673760222241)))","v":0.7726569912903124},{"$f":"IF(1-ABS(J484)/Sheet2!B$22 >0, 1-ABS(J484)/Sheet2!B$22,0)","v":0.84750000000000003},0,{"$f":"IF(ABS(J484)<Sheet2!B$24/2, 1, 0)","v":1}]
[-29.5,0.85250000000000004,"7.78671040867207E-006+8.43634046780988E-005i",1,"3.94631737404429E-002+0.427555093430278i","-1.78813575317585E-07+3.32924769622071E-08i",null,0,null,-29.5,{"$f":"EXP(-((J485)^2/(Sheet2!B$21^2*0.360673760222241)))","v":0.78561805988595323},{"$f":"IF(1-ABS(J485)/Sheet2!B$22 >0, 1-ABS(J485)/Sheet2!B$22,0)","v":0.85250000000000004},0,{"$f":"IF(ABS(J485)<Sheet2!B$24/2, 1, 0)","v":1}]
[-28.5,0.85750000000000004,"-3.01222417674607E-005-3.37669101787549E-004i",1,"-7.76173199314165E-002-0.870086991108703i","-1.45731742544195E-06+2.62089707046485E-07i",null,0,null,-28.5,{"$f":"EXP(-((J486)^2/(Sheet2!B$21^2*0.360673760222241)))","v":0.79835372210199351},{"$f":"IF(1-ABS(J486)/Sheet2!B$22 >0, 1-ABS(J486)/Sheet2!B$22,0)","v":0.85750000000000004},0,{"$f":"IF(ABS(J486)<Sheet2!B$24/2, 1, 0)","v":1}]
[-27.5,0.86250000000000004,"3.67226082468863E-005+4.26437574191849E-004i",1,"8.57001846515235E-002+0.995184726672186i","-2.10618513203611E-06+3.65457788507283E-07i",null,0,null,-27.5,{"$f":"EXP(-((J487)^2/(Sheet2!B$21^2*0.360673760222241)))","v":0.81084608903449462},{"$f":"IF(1-ABS(J487)/Sheet2!B$22 >0, 1-ABS(J487)/Sheet2!B$22,0)","v":0.86250000000000004},0,{"$f":"IF(ABS(J487)<Sheet2!B$24/2, 1, 0)","v":1}]
[-26.5,0.86749999999999994,"-1.97614385262224E-005-2.38018086378064E-004i",1,"-6.28672228206755E-002-0.757208846506476i","-8.94935269374638E-07+1.4963536071715E-07i",null,0,null,-26.5,{"$f":"EXP(-((J488)^2/(Sheet2!B$21^2*0.360673760222241)))","v":0.82307739467905427},{"$f":"IF(1-ABS(J488)/Sheet2!B$22 >0, 1-ABS(J488)/Sheet2!B$22,0)","v":0.86749999999999994},0,{"$f":"IF(ABS(J488)<Sheet2!B$24/2, 1, 0)","v":1}]
[-25.5,0.87250000000000005,"1.88626706900882E-006+2.35970353366683E-005i",1,"1.94230124799779E-002+0.242980179903262i","-2.84848745123268E-08+4.58325511803975E-09i",null,0,null,-25.5,{"$f":"EXP(-((J489)^2/(Sheet2!B$21^2*0.360673760222241)))","v":0.83503003755073846},{"$f":"IF(1-ABS(J489)/Sheet2!B$22 >0, 1-ABS(J489)/Sheet2!B$22,0)","v":0.87250000000000005},0,{"$f":"IF(ABS(J489)<Sheet2!B$24/2, 1, 0)","v":1}]
[-24.5,0.87749999999999995,"-3.82478597674152E-006-4.97696318837509E-005i",1,"2.76578595567929E-002+0.359895036534981i","8.90302904587779E-08-1.37652148883597E-08i",null,0,null,-24.5,{"$f":"EXP(-((J490)^2/(Sheet2!B$21^2*0.360673760222241)))","v":0.84668662248399529},{"$f":"IF(1-ABS(J490)/Sheet2!B$22 >0, 1-ABS(J490)/Sheet2!B$22,0)","v":0.87749999999999995},0,{"$f":"IF(ABS(J490)<Sheet2!B$24/2, 1, 0)","v":1}]
[-23.5,0.88250000000000006,"1.88086128576903E-005+2.54982143413286E-004i",1,"-6.13328832796833E-002-0.831469612302535i","0.0000010542815873543-1.56387900405514E-07i",null,0,null,-23.5,{"$f":"EXP(-((J491)^2/(Sheet2!B$21^2*0.360673760222241)))","v":0.8580300024752282},{"$f":"IF(1-ABS(J491)/Sheet2!B$22 >0, 1-ABS(J491)/Sheet2!B$22,0)","v":0.88250000000000006},0,{"$f":"IF(ABS(J491)<Sheet2!B$24/2, 1, 0)","v":1}]
[-22.5,0.88749999999999996,"-2.49635966096395E-005-3.53189479849823E-004i",1,"7.06591771918026E-002+0.99969881869619i","1.75659599292802E-06-2.4956078040027E-07i",null,0,null,-22.5,{"$f":"EXP(-((J492)^2/(Sheet2!B$21^2*0.360673760222241)))","v":0.86904332042851173},{"$f":"IF(1-ABS(J492)/Sheet2!B$22 >0, 1-ABS(J492)/Sheet2!B$22,0)","v":0.88749999999999996},0,{"$f":"IF(ABS(J492)<Sheet2!B$24/2, 1, 0)","v":1}]
[-21.5,0.89249999999999996,"1.47397842351071E-005+2.18051127857399E-004i",1,"-5.42950904486039E-002-0.803207531480632i","8.71700051123355E-07-1.18391057097375E-07i",null,0,null,-21.5,{"$f":"EXP(-((J493)^2/(Sheet2!B$21^2*0.360673760222241)))","v":0.87971005066332053},{"$f":"IF(1-ABS(J493)/Sheet2!B$22 >0, 1-ABS(J493)/Sheet2!B$22,0)","v":0.89249999999999996},0,{"$f":"IF(ABS(J493)<Sheet2!B$24/2, 1, 0)","v":1}]
[-20.5,0.89749999999999996,"-2.04781097896956E-006-3.1740895452736E-005i",1,"2.02376430388558E-002+0.313681740398885i","4.95754822991492E-08-6.42360911898614E-09i",null,0,null,-20.5,{"$f":"EXP(-((J494)^2/(Sheet2!B$21^2*0.360673760222241)))","v":0.89001404004214602},{"$f":"IF(1-ABS(J494)/Sheet2!B$22 >0, 1-ABS(J494)/Sheet2!B$22,0)","v":0.89749999999999996},0,{"$f":"IF(ABS(J494)<Sheet2!B$24/2, 1, 0)","v":1}]
[-19.5,0.90249999999999997,"1.59026344775243E-006+2.58847307977907E-005i",1,"1.78340317808372E-002+0.29028467725446i","-3.74278995829407E-08+4.61629111683297E-09i",null,0,null,-19.5,{"$f":"EXP(-((J495)^2/(Sheet2!B$21^2*0.360673760222241)))","v":0.89993954857549185},{"$f":"IF(1-ABS(J495)/Sheet2!B$22 >0, 1-ABS(J495)/Sheet2!B$22,0)","v":0.90249999999999997},0,{"$f":"IF(ABS(J495)<Sheet2!B$24/2, 1, 0)","v":1}]
[-18.5,0.90749999999999997,"-1.05826835988254E-005-1.81342672606246E-004i",1,"-4.60058335396853E-002-0.788346427626595i","-7.12369914726713E-07+8.34282080970058E-08i",null,0,null,-18.5,{"$f":"EXP(-((J496)^2/(Sheet2!B$21^2*0.360673760222241)))","v":0.90947128936199473},{"$f":"IF(1-ABS(J496)/Sheet2!B$22 >0, 1-ABS(J496)/Sheet2!B$22,0)","v":0.90749999999999997},0,{"$f":"IF(ABS(J496)<Sheet2!B$24/2, 1, 0)","v":1}]
[-17.5,0.91249999999999998,"1.52423364974119E-005+2.75732102652804E-004i",1,"5.52129269189976E-002+0.998795456205157i","-1.37279198624204E-06+1.52239764342779E-07i",null,0,null,-17.5,{"$f":"EXP(-((J497)^2/(Sheet2!B$21^2*0.360673760222241)))","v":0.91859446772230124},{"$f":"IF(1-ABS(J497)/Sheet2!B$22 >0, 1-ABS(J497)/Sheet2!B$22,0)","v":0.91249999999999998},0,{"$f":"IF(ABS(J497)<Sheet2!B$24/2, 1, 0)","v":1}]
[-16.5,0.91749999999999998,"-9.72564995904701E-006-1.86305536248904E-004i",1,"-4.41036278730422E-002-0.844853565249694i","-7.84859800395127E-07+8.21675004184032E-08i",null,0,null,-16.5,{"$f":"EXP(-((J498)^2/(Sheet2!B$21^2*0.360673760222241)))","v":0.92729481938686664},{"$f":"IF(1-ABS(J498)/Sheet2!B$22 >0, 1-ABS(J498)/Sheet2!B$22,0)","v":0.91749999999999998},0,{"$f":"IF(ABS(J498)<Sheet2!B$24/2, 1, 0)","v":1}]
[-15.5,0.92249999999999999,"1.76720592071078E-006+3.59723029001099E-005i",1,"1.88000314910592E-002+0.382683432365082i","-6.86639040846495E-08+6.76280427380741E-09i",null,0,null,-15.5,{"$f":"EXP(-((J499)^2/(Sheet2!B$21^2*0.360673760222241)))","v":0.93555864760000507},{"$f":"IF(1-ABS(J499)/Sheet2!B$22 >0, 1-ABS(J499)/Sheet2!B$22,0)","v":0.92249999999999999},0,{"$f":"IF(ABS(J499)<Sheet2!B$24/2, 1, 0)","v":1}]
[-14.5,0.92749999999999999,"-5.09044197710695E-007-1.10536977095E-005i",1,"1.00900366465857E-002+0.219101240156864i","1.20837130093045E-08-1.11532214991102E-09i",null,0,null,-14.5,{"$f":"EXP(-((J500)^2/(Sheet2!B$21^2*0.360673760222241)))","v":0.94337285900533241},{"$f":"IF(1-ABS(J500)/Sheet2!B$22 >0, 1-ABS(J500)/Sheet2!B$22,0)","v":0.92749999999999999},0,{"$f":"IF(ABS(J500)<Sheet2!B$24/2, 1, 0)","v":1}]
[-13.5,0.9325,"5.07036698904617E-006+1.17976161368077E-004i",1,"-3.18445191129229E-002-0.740951125354941i","4.36265530661203E-07-3.75689412602565E-08i",null,0,null,-13.5,{"$f":"EXP(-((J501)^2/(Sheet2!B$21^2*0.360673760222241)))","v":0.95072499818117528},{"$f":"IF(1-ABS(J501)/Sheet2!B$22 >0, 1-ABS(J501)/Sheet2!B$22,0)","v":0.9325},0,{"$f":"IF(ABS(J501)<Sheet2!B$24/2, 1, 0)","v":1}]
[-12.5,0.9375,"-7.84260578789997E-006-1.96533575397027E-004i",1,"3.96045598002068E-002+0.992479534598683i","9.73724742465701E-07-7.78362574098795E-08i",null,0,null,-12.5,{"$f":"EXP(-((J502)^2/(Sheet2!B$21^2*0.360673760222241)))","v":0.9576032806985737},{"$f":"IF(1-ABS(J502)/Sheet2!B$22 >0, 1-ABS(J502)/Sheet2!B$22,0)","v":0.9375},0,{"$f":"IF(ABS(J502)<Sheet2!B$24/2, 1, 0)","v":1}]
[-11.5,0.9425,"5.27575361330967E-006+1.43237610935362E-004i",1,"-3.24830836316679E-002-0.88192126434833i","6.30764610962537E-07-4.652799296127E-08i",null,0,null,-11.5,{"$f":"EXP(-((J503)^2/(Sheet2!B$21^2*0.360673760222241)))","v":0.96399662457916091},{"$f":"IF(1-ABS(J503)/Sheet2!B$22 >0, 1-ABS(J503)/Sheet2!B$22,0)","v":0.9425},0,{"$f":"IF(ABS(J503)<Sheet2!B$24/2, 1, 0)","v":1}]
[-10.5,0.94750000000000001,"-1.15201870992676E-006-3.41233778159526E-005i",1,"1.51790560255476E-002+0.449611329654591i","7.66238535779798E-08-5.17960663803205E-09i",null,0,null,-10.5,{"$f":"EXP(-((J504)^2/(Sheet2!B$21^2*0.360673760222241)))","v":0.96989468003544621},{"$f":"IF(1-ABS(J504)/Sheet2!B$22 >0, 1-ABS(J504)/Sheet2!B$22,0)","v":0.94750000000000001},0,{"$f":"IF(ABS(J504)<Sheet2!B$24/2, 1, 0)","v":1}]
[-9.5,0.95250000000000001,"1.01387183100432E-007+3.30367146726424E-006i",1,"4.50304747926555E-003+0.146730474455359i","-2.42146365268512E-09+1.48765894765023E-10i",null,0,null,-9.5,{"$f":"EXP(-((J505)^2/(Sheet2!B$21^2*0.360673760222241)))","v":0.97528785738182988},{"$f":"IF(1-ABS(J505)/Sheet2!B$22 >0, 1-ABS(J505)/Sheet2!B$22,0)","v":0.95250000000000001},0,{"$f":"IF(ABS(J505)<Sheet2!B$24/2, 1, 0)","v":1}]
[-8.5,0.95750000000000002,"-1.81340683580444E-006-6.56587233178532E-005i",1,"-1.90441950983615E-002-0.689540544737043i","-2.26199084848788E-07+1.2504175370825E-08i",null,0,null,-8.5,{"$f":"EXP(-((J506)^2/(Sheet2!B$21^2*0.360673760222241)))","v":0.98016735301102487},{"$f":"IF(1-ABS(J506)/Sheet2!B$22 >0, 1-ABS(J506)/Sheet2!B$22,0)","v":0.95750000000000002},0,{"$f":"IF(ABS(J506)<Sheet2!B$24/2, 1, 0)","v":1}]
[-7.5,0.96250000000000002,"2.89849212764537E-006+1.18071479074708E-004i",1,"2.40769272185872E-002+0.980785280403189i","-5.78664909639529E-07+2.84279841121589E-08i",null,0,null,-7.5,{"$f":"EXP(-((J507)^2/(Sheet2!B$21^2*0.360673760222241)))","v":0.98452517333741396},{"$f":"IF(1-ABS(J507)/Sheet2!B$22 >0, 1-ABS(J507)/Sheet2!B$22,0)","v":0.96250000000000002},0,{"$f":"IF(ABS(J507)<Sheet2!B$24/2, 1, 0)","v":1}]
[-6.5,0.96750000000000003,"-1.92792958753074E-006-8.97586758344948E-005i",1,"-1.9636341717888E-002-0.914209755703487i","-4.10101998113666E-07+1.76253203403064E-08i",null,0,null,-6.5,{"$f":"EXP(-((J508)^2/(Sheet2!B$21^2*0.360673760222241)))","v":0.98835415661620407},{"$f":"IF(1-ABS(J508)/Sheet2!B$22 >0, 1-ABS(J508)/Sheet2!B$22,0)","v":0.96750000000000003},0,{"$f":"IF(ABS(J508)<Sheet2!B$24/2, 1, 0)","v":1}]
[-5.5,0.97250000000000003,"4.47888899302029E-007+2.43287654714125E-005i",1,"9.46455382388933E-003+0.514102744193194i","-6.25162301154561E-08+2.30260911248903E-09i",null,0,null,-5.5,{"$f":"EXP(-((J509)^2/(Sheet2!B$21^2*0.360673760222241)))","v":0.99164799255502212},{"$f":"IF(1-ABS(J509)/Sheet2!B$22 >0, 1-ABS(J509)/Sheet2!B$22,0)","v":0.97250000000000003},0,{"$f":"IF(ABS(J509)<Sheet2!B$24/2, 1, 0)","v":1}]
[-4.5,0.97750000000000004,"-6.3681798515014E-009-4.15108206184385E-007i",1,"1.1285547936617E-003+7.35645635996604E-002i","1.52650335973469E-10-4.68472363838774E-12i",null,0,null,-4.5,{"$f":"EXP(-((J510)^2/(Sheet2!B$21^2*0.360673760222241)))","v":0.99440123964278349},{"$f":"IF(1-ABS(J510)/Sheet2!B$22 >0, 1-ABS(J510)/Sheet2!B$22,0)","v":0.97750000000000004},0,{"$f":"IF(ABS(J510)<Sheet2!B$24/2, 1, 0)","v":1}]
[-3.5,0.98250000000000004,"3.0307533283036E-007+2.46955593689174E-005i",1,"-7.78556771370731E-003-0.634393284163591i","7.83216869938917E-08-1.92268952718905E-09i",null,0,null,-3.5,{"$f":"EXP(-((J511)^2/(Sheet2!B$21^2*0.360673760222241)))","v":0.99660934012922642},{"$f":"IF(1-ABS(J511)/Sheet2!B$22 >0, 1-ABS(J511)/Sheet2!B$22,0)","v":0.98250000000000004},0,{"$f":"IF(ABS(J511)<Sheet2!B$24/2, 1, 0)","v":1}]
[-2.5,0.98750000000000004,"-3.93449681723723E-007-4.27470070717417E-005i",1,"8.8707342982417E-003+0.963776065795329i","2.0597526056271E-07-3.79197364059297E-09i",null,0,null,-2.5,{"$f":"EXP(-((J512)^2/(Sheet2!B$21^2*0.360673760222241)))","v":0.99826863259739251},{"$f":"IF(1-ABS(J512)/Sheet2!B$22 >0, 1-ABS(J512)/Sheet2!B$22,0)","v":0.98750000000000004},0,{"$f":"IF(ABS(J512)<Sheet2!B$24/2, 1, 0)","v":1}]
[-1.5,0.99250000000000005,"1.66886913177677E-007+2.7197981177951E-005i",1,"-5.77731453223862E-003-0.941544065182858i","1.28035668024331E-07-1.57131337283029E-09i",null,0,null,-1.5,{"$f":"EXP(-((J513)^2/(Sheet2!B$21^2*0.360673760222241)))","v":0.99937636208051051},{"$f":"IF(1-ABS(J513)/Sheet2!B$22 >0, 1-ABS(J513)/Sheet2!B$22,0)","v":0.99250000000000005},0,{"$f":"IF(ABS(J513)<Sheet2!B$24/2, 1, 0)","v":1}]
[-0.5,0.99750000000000005,"-1.56038453269502E-008-5.08600726856212E-006i",1,"1.76656294866007E-003+0.575808191417646i","1.46426854083637E-08-8.98478697706477E-11i",null,0,null,-0.5,{"$f":"EXP(-((J514)^2/(Sheet2!B$21^2*0.360673760222241)))","v":0.99993068768415361},{"$f":"IF(1-ABS(J514)/Sheet2!B$22 >0, 1-ABS(J514)/Sheet2!B$22,0)","v":0.99750000000000005},0,{"$f":"IF(ABS(J514)<Sheet2!B$24/2, 1, 0)","v":1}]
[0.5,0.99750000000000005,"0",1,"0","0",null,{"$f":"IMABS(G515)","v":0},null,0.5,{"$f":"EXP(-((J515)^2/(Sheet2!B$21^2*0.360673760222241)))","v":0.99993068768415361},{"$f":"IF(1-ABS(J515)/Sheet2!B$22 >0, 1-ABS(J515)/Sheet2!B$22,0)","v":0.99750000000000005},{"$f":"IF(1-J515/(Sheet2!B$23*2)>0,1-J515/(Sheet2!B$23*2),0)","v":0.99843749999999998},{"$f":"IF(ABS(J515)<Sheet2!B$24/2, 1, 0)","v":1}]
[1.5,0.99250000000000005,"-1.56037174292578E-008+5.08600708232221E-006i",1,"1.76656294881639E-003-0.575808191417846i",{"$f":"IMPRODUCT(C516,E516,D$1027)","v":"1.46426848733062E-08+8.98474999069211E-11i"},null,0,null,1.5,{"$f":"EXP(-((J516)^2/(Sheet2!B$21^2*0.360673760222241)))","v":0.99937636208051051},{"$f":"IF(1-ABS(J516)/Sheet2!B$22 >0, 1-ABS(J516)/Sheet2!B$22,0)","v":0.99250000000000005},{"$f":"IF(1-J516/(Sheet2!B$23*2)>0,1-J516/(Sheet2!B$23*2),0)","v":0.99531250000000004},{"$f":"IF(ABS(J516)<Sheet2!B$24/2, 1, 0)","v":1}]
[{"$f":"A516+1","v":2.5},0.98750000000000004,"1.66886813701694E-007-2.71979810519407E-005i",1,"-5.77731453236652E-003+0.941544065183022i","1.28035667434005E-07+1.5713129009027E-09i",null,0,null,{"$f":"J516+1","v":2.5},{"$f":"EXP(-((J517)^2/(Sheet2!B$21^2*0.360673760222241)))","v":0.99826863259739251},{"$f":"IF(1-ABS(J517)/Sheet2!B$22 >0, 1-ABS(J517)/Sheet2!B$22,0)","v":0.98750000000000004},{"$f":"IF(1-J517/(Sheet2!B$23*2)>0,1-J517/(Sheet2!B$23*2),0)","v":0.9921875},{"$f":"IF(ABS(J517)<Sheet2!B$24/2, 1, 0)","v":1}]
[3.5,0.98250000000000004,"-3.93449639091159E-007+4.27470070122338E-005i",1,"8.87073429831986E-003-0.963776065795442i","2.05975260277864E-07+3.79197343252928E-09i",null,0,null,3.5,{"$f":"EXP(-((J518)^2/(Sheet2!B$21^2*0.360673760222241)))","v":0.99660934012922642},{"$f":"IF(1-ABS(J518)/Sheet2!B$22 >0, 1-ABS(J518)/Sheet2!B$22,0)","v":0.98250000000000004},{"$f":"IF(1-J518/(Sheet2!B$23*2)>0,1-J518/(Sheet2!B$23*2),0)","v":0.98906249999999996},{"$f":"IF(ABS(J518)<Sheet2!B$24/2, 1, 0)","v":1}]
[4.5,0.97750000000000004,"3.03075323948576E-007-2.46955593548315E-005i",1,"-7.78556771374639E-003+0.634393284163646i","7.83216869495642E-08+1.92268949847291E-09i",null,0,null,4.5,{"$f":"EXP(-((J519)^2/(Sheet2!B$21^2*0.360673760222241)))","v":0.99440123964278349},{"$f":"IF(1-ABS(J519)/Sheet2!B$22 >0, 1-ABS(J519)/Sheet2!B$22,0)","v":0.97750000000000004},{"$f":"IF(1-J519/(Sheet2!B$23*2)>0,1-J519/(Sheet2!B$23*2),0)","v":0.98593750000000002},{"$f":"IF(ABS(J519)<Sheet2!B$24/2, 1, 0)","v":1}]
[5.5,0.97250000000000003,"-6.36817988619587E-009+4.15108203208467E-007i",1,"1.1285547936648E-003-7.35645635996688E-002i","1.5265033487868E-10+4.68472363436342E-12i",null,0,null,5.5,{"$f":"EXP(-((J520)^2/(Sheet2!B$21^2*0.360673760222241)))","v":0.99164799255502212},{"$f":"IF(1-ABS(J520)/Sheet2!B$22 >0, 1-ABS(J520)/Sheet2!B$22,0)","v":0.97250000000000003},{"$f":"IF(1-J520/(Sheet2!B$23*2)>0,1-J520/(Sheet2!B$23*2),0)","v":0.98281249999999998},{"$f":"IF(ABS(J520)<Sheet2!B$24/2, 1, 0)","v":1}]
[6.5,0.96750000000000003,"4.47888895527271E-007-2.43287654649663E-005i",1,"9.4645538239071E-003-0.51410274419322i","-6.25162300990678E-08-2.30260910248313E-09i",null,0,null,6.5,{"$f":"EXP(-((J521)^2/(Sheet2!B$21^2*0.360673760222241)))","v":0.98835415661620407},{"$f":"IF(1-ABS(J521)/Sheet2!B$22 >0, 1-ABS(J521)/Sheet2!B$22,0)","v":0.96750000000000003},{"$f":"IF(1-J521/(Sheet2!B$23*2)>0,1-J521/(Sheet2!B$23*2),0)","v":0.97968750000000004},{"$f":"IF(ABS(J521)<Sheet2!B$24/2, 1, 0)","v":1}]
[7.5,0.96250000000000002,"-1.92792957864896E-006+8.97586758211444E-005i",1,"-1.96363417179164E-002+0.914209755703528i","-4.10101998053531E-07-1.76253202984097E-08i",null,0,null,7.5,{"$f":"EXP(-((J522)^2/(Sheet2!B$21^2*0.360673760222241)))","v":0.98452517333741396},{"$f":"IF(1-ABS(J522)/Sheet2!B$22 >0, 1-ABS(J522)/Sheet2!B$22,0)","v":0.96250000000000002},{"$f":"IF(1-J522/(Sheet2!B$23*2)>0,1-J522/(Sheet2!B$23*2),0)","v":0.9765625},{"$f":"IF(ABS(J522)<Sheet2!B$24/2, 1, 0)","v":1}]
[8.5,0.95750000000000002,"2.89849212142812E-006-1.18071479066159E-004i",1,"2.40769272186157E-002-0.980785280403231i","-5.78664909598378E-07-2.84279840806583E-08i",null,0,null,8.5,{"$f":"EXP(-((J523)^2/(Sheet2!B$21^2*0.360673760222241)))","v":0.98016735301102487},{"$f":"IF(1-ABS(J523)/Sheet2!B$22 >0, 1-ABS(J523)/Sheet2!B$22,0)","v":0.95750000000000002},{"$f":"IF(1-J523/(Sheet2!B$23*2)>0,1-J523/(Sheet2!B$23*2),0)","v":0.97343749999999996},{"$f":"IF(ABS(J523)<Sheet2!B$24/2, 1, 0)","v":1}]
[9.5,0.95250000000000001,"-1.8134068355824E-006+6.5658723309929E-005i",1,"-1.90441950983757E-002+0.689540544737067i","-2.26199084821496E-07-1.25041753693098E-08i",null,0,null,9.5,{"$f":"EXP(-((J524)^2/(Sheet2!B$21^2*0.360673760222241)))","v":0.97528785738182988},{"$f":"IF(1-ABS(J524)/Sheet2!B$22 >0, 1-ABS(J524)/Sheet2!B$22,0)","v":0.95250000000000001},{"$f":"IF(1-J524/(Sheet2!B$23*2)>0,1-J524/(Sheet2!B$23*2),0)","v":0.97031250000000002},{"$f":"IF(ABS(J524)<Sheet2!B$24/2, 1, 0)","v":1}]
[10.5,0.94750000000000001,"1.01387183461255E-007-3.30367146561062E-006i",1,"4.50304747926777E-003-0.146730474455361i","-2.42146365146384E-09-1.48765894992547E-10i",null,0,null,10.5,{"$f":"EXP(-((J525)^2/(Sheet2!B$21^2*0.360673760222241)))","v":0.96989468003544621},{"$f":"IF(1-ABS(J525)/Sheet2!B$22 >0, 1-ABS(J525)/Sheet2!B$22,0)","v":0.94750000000000001},{"$f":"IF(1-J525/(Sheet2!B$23*2)>0,1-J525/(Sheet2!B$23*2),0)","v":0.96718749999999998},{"$f":"IF(ABS(J525)<Sheet2!B$24/2, 1, 0)","v":1}]
[11.5,0.9425,"-1.1520187091496E-006+3.4123377811909E-005i",1,"1.51790560255547E-002-0.449611329654608i","7.66238535689514E-08+5.17960663597937E-09i",null,0,null,11.5,{"$f":"EXP(-((J526)^2/(Sheet2!B$21^2*0.360673760222241)))","v":0.96399662457916091},{"$f":"IF(1-ABS(J526)/Sheet2!B$22 >0, 1-ABS(J526)/Sheet2!B$22,0)","v":0.9425},{"$f":"IF(1-J526/(Sheet2!B$23*2)>0,1-J526/(Sheet2!B$23*2),0)","v":0.96406250000000004},{"$f":"IF(ABS(J526)<Sheet2!B$24/2, 1, 0)","v":1}]
[12.5,0.9375,"5.27575361131127E-006-1.43237610931907E-004i",1,"-3.24830836316803E-002+0.881921264348357i","6.30764610947646E-07+4.65279929519063E-08i",null,0,null,12.5,{"$f":"EXP(-((J527)^2/(Sheet2!B$21^2*0.360673760222241)))","v":0.9576032806985737},{"$f":"IF(1-ABS(J527)/Sheet2!B$22 >0, 1-ABS(J527)/Sheet2!B$22,0)","v":0.9375},{"$f":"IF(1-J527/(Sheet2!B$23*2)>0,1-J527/(Sheet2!B$23*2),0)","v":0.9609375},{"$f":"IF(ABS(J527)<Sheet2!B$24/2, 1, 0)","v":1}]
[13.5,0.9325,"-7.84260578479135E-006+1.96533575390581E-004i",1,"3.96045598002193E-002-0.992479534598713i","9.73724742434358E-07+7.78362573931903E-08i",null,0,null,13.5,{"$f":"EXP(-((J528)^2/(Sheet2!B$21^2*0.360673760222241)))","v":0.95072499818117528},{"$f":"IF(1-ABS(J528)/Sheet2!B$22 >0, 1-ABS(J528)/Sheet2!B$22,0)","v":0.9325},{"$f":"IF(1-J528/(Sheet2!B$23*2)>0,1-J528/(Sheet2!B$23*2),0)","v":0.95781249999999996},{"$f":"IF(ABS(J528)<Sheet2!B$24/2, 1, 0)","v":1}]
[14.5,0.92749999999999999,"5.07036698804697E-006-1.17976161360417E-004i",1,"-3.184451911293E-002+0.740951125354962i","4.36265530632996E-07+3.75689412553398E-08i",null,0,null,14.5,{"$f":"EXP(-((J529)^2/(Sheet2!B$21^2*0.360673760222241)))","v":0.94337285900533241},{"$f":"IF(1-ABS(J529)/Sheet2!B$22 >0, 1-ABS(J529)/Sheet2!B$22,0)","v":0.92749999999999999},{"$f":"IF(1-J529/(Sheet2!B$23*2)>0,1-J529/(Sheet2!B$23*2),0)","v":0.95468750000000002},{"$f":"IF(ABS(J529)<Sheet2!B$24/2, 1, 0)","v":1}]
[15.5,0.92249999999999999,"-5.09044197724573E-007+1.10536977059768E-005i",1,"1.00900366465875E-002-0.219101240156874i","1.20837130054447E-08+1.11532214974861E-09i",null,0,null,15.5,{"$f":"EXP(-((J530)^2/(Sheet2!B$21^2*0.360673760222241)))","v":0.93555864760000507},{"$f":"IF(1-ABS(J530)/Sheet2!B$22 >0, 1-ABS(J530)/Sheet2!B$22,0)","v":0.92249999999999999},{"$f":"IF(1-J530/(Sheet2!B$23*2)>0,1-J530/(Sheet2!B$23*2),0)","v":0.95156249999999998},{"$f":"IF(ABS(J530)<Sheet2!B$24/2, 1, 0)","v":1}]
[16.5,0.91749999999999998,"1.76720592040547E-006-3.59723028997118E-005i",1,"1.88000314910641E-002-0.38268343236509i","-6.86639040839179E-08-6.76280427318676E-09i",null,0,null,16.5,{"$f":"EXP(-((J531)^2/(Sheet2!B$21^2*0.360673760222241)))","v":0.92729481938686664},{"$f":"IF(1-ABS(J531)/Sheet2!B$22 >0, 1-ABS(J531)/Sheet2!B$22,0)","v":0.91749999999999998},{"$f":"IF(1-J531/(Sheet2!B$23*2)>0,1-J531/(Sheet2!B$23*2),0)","v":0.94843750000000004},{"$f":"IF(ABS(J531)<Sheet2!B$24/2, 1, 0)","v":1}]
[17.5,0.91249999999999998,"-9.72564995938008E-006+1.86305536239634E-004i",1,"-4.41036278730476E-002+0.844853565249707i","-7.84859800355906E-07-8.21675004177717E-08i",null,0,null,17.5,{"$f":"EXP(-((J532)^2/(Sheet2!B$21^2*0.360673760222241)))","v":0.91859446772230124},{"$f":"IF(1-ABS(J532)/Sheet2!B$22 >0, 1-ABS(J532)/Sheet2!B$22,0)","v":0.91249999999999998},{"$f":"IF(1-J532/(Sheet2!B$23*2)>0,1-J532/(Sheet2!B$23*2),0)","v":0.9453125},{"$f":"IF(ABS(J532)<Sheet2!B$24/2, 1, 0)","v":1}]
[18.5,0.90749999999999997,"1.52423364948584E-005-2.75732102649077E-004i",1,"5.52129269190029E-002-0.998795456205173i","-1.37279198622415E-06-1.52239764329007E-07i",null,0,null,18.5,{"$f":"EXP(-((J533)^2/(Sheet2!B$21^2*0.360673760222241)))","v":0.90947128936199473},{"$f":"IF(1-ABS(J533)/Sheet2!B$22 >0, 1-ABS(J533)/Sheet2!B$22,0)","v":0.90749999999999997},{"$f":"IF(1-J533/(Sheet2!B$23*2)>0,1-J533/(Sheet2!B$23*2),0)","v":0.94218749999999996},{"$f":"IF(ABS(J533)<Sheet2!B$24/2, 1, 0)","v":1}]
[19.5,0.90249999999999997,"-1.0582683599103E-005+1.81342672601968E-004i",1,"-4.60058335396889E-002+0.788346427626606i","-7.12369914709796E-07-8.34282080971198E-08i",null,0,null,19.5,{"$f":"EXP(-((J534)^2/(Sheet2!B$21^2*0.360673760222241)))","v":0.89993954857549185},{"$f":"IF(1-ABS(J534)/Sheet2!B$22 >0, 1-ABS(J534)/Sheet2!B$22,0)","v":0.90249999999999997},{"$f":"IF(1-J534/(Sheet2!B$23*2)>0,1-J534/(Sheet2!B$23*2),0)","v":0.93906250000000002},{"$f":"IF(ABS(J534)<Sheet2!B$24/2, 1, 0)","v":1}]
[20.5,0.89749999999999996,"1.59026344771773E-006-2.58847307971844E-005i",1,"1.78340317808385E-002-0.290284677254461i","-3.74278995820639E-08-4.61629111672872E-09i",null,0,null,20.5,{"$f":"EXP(-((J535)^2/(Sheet2!B$21^2*0.360673760222241)))","v":0.89001404004214602},{"$f":"IF(1-ABS(J535)/Sheet2!B$22 >0, 1-ABS(J535)/Sheet2!B$22,0)","v":0.89749999999999996},{"$f":"IF(1-J535/(Sheet2!B$23*2)>0,1-J535/(Sheet2!B$23*2),0)","v":0.93593749999999998},{"$f":"IF(ABS(J535)<Sheet2!B$24/2, 1, 0)","v":1}]
[21.5,0.89249999999999996,"-2.04781097927487E-006+3.17408954492041E-005i",1,"2.02376430388571E-002-0.313681740398893i","4.95754822935801E-08+6.42360911910789E-09i",null,0,null,21.5,{"$f":"EXP(-((J536)^2/(Sheet2!B$21^2*0.360673760222241)))","v":0.87971005066332053},{"$f":"IF(1-ABS(J536)/Sheet2!B$22 >0, 1-ABS(J536)/Sheet2!B$22,0)","v":0.89249999999999996},{"$f":"IF(1-J536/(Sheet2!B$23*2)>0,1-J536/(Sheet2!B$23*2),0)","v":0.93281250000000004},{"$f":"IF(ABS(J536)<Sheet2!B$24/2, 1, 0)","v":1}]
[22.5,0.88749999999999996,"1.473978423433E-005-2.18051127854568E-004i",1,"-5.42950904486066E-002+0.803207531480647i","8.71700051112213E-07+1.1839105709349E-07i",null,0,null,22.5,{"$f":"EXP(-((J537)^2/(Sheet2!B$21^2*0.360673760222241)))","v":0.86904332042851173},{"$f":"IF(1-ABS(J537)/Sheet2!B$22 >0, 1-ABS(J537)/Sheet2!B$22,0)","v":0.88749999999999996},{"$f":"IF(1-J537/(Sheet2!B$23*2)>0,1-J537/(Sheet2!B$23*2),0)","v":0.9296875},{"$f":"IF(ABS(J537)<Sheet2!B$24/2, 1, 0)","v":1}]
[23.5,0.88250000000000006,"-2.49635966066419E-005+3.5318947984201E-004i",1,"7.06591771918061E-002-0.999698818696207i","1.75659599289006E-06+2.49560780382535E-07i",null,0,null,23.5,{"$f":"EXP(-((J538)^2/(Sheet2!B$21^2*0.360673760222241)))","v":0.8580300024752282},{"$f":"IF(1-ABS(J538)/Sheet2!B$22 >0, 1-ABS(J538)/Sheet2!B$22,0)","v":0.88250000000000006},{"$f":"IF(1-J538/(Sheet2!B$23*2)>0,1-J538/(Sheet2!B$23*2),0)","v":0.92656249999999996},{"$f":"IF(ABS(J538)<Sheet2!B$24/2, 1, 0)","v":1}]
[24.5,0.87749999999999995,"1.88086128571907E-005-2.54982143412082E-004i",1,"-6.13328832796869E-002+0.831469612302544i","1.05428158734946E-06+1.56387900403073E-07i",null,0,null,24.5,{"$f":"EXP(-((J539)^2/(Sheet2!B$21^2*0.360673760222241)))","v":0.84668662248399529},{"$f":"IF(1-ABS(J539)/Sheet2!B$22 >0, 1-ABS(J539)/Sheet2!B$22,0)","v":0.87749999999999995},{"$f":"IF(1-J539/(Sheet2!B$23*2)>0,1-J539/(Sheet2!B$23*2),0)","v":0.92343750000000002},{"$f":"IF(ABS(J539)<Sheet2!B$24/2, 1, 0)","v":1}]
[25.5,0.87250000000000005,"-3.82478597728275E-006+4.97696318791903E-005i",1,"2.76578595567938E-002-0.359895036534987i","8.90302904504978E-08+1.37652148887033E-08i",null,0,null,25.5,{"$f":"EXP(-((J540)^2/(Sheet2!B$21^2*0.360673760222241)))","v":0.83503003755073846},{"$f":"IF(1-ABS(J540)/Sheet2!B$22 >0, 1-ABS(J540)/Sheet2!B$22,0)","v":0.87250000000000005},{"$f":"IF(1-J540/(Sheet2!B$23*2)>0,1-J540/(Sheet2!B$23*2),0)","v":0.92031249999999998},{"$f":"IF(ABS(J540)<Sheet2!B$24/2, 1, 0)","v":1}]
[26.5,0.86749999999999994,"1.88626706936618E-006-2.35970353340111E-005i",1,"1.94230124799786E-002-0.242980179903264i","-2.84848745090641E-08-4.58325511821595E-09i",null,0,null,26.5,{"$f":"EXP(-((J541)^2/(Sheet2!B$21^2*0.360673760222241)))","v":0.82307739467905427},{"$f":"IF(1-ABS(J541)/Sheet2!B$22 >0, 1-ABS(J541)/Sheet2!B$22,0)","v":0.86749999999999994},{"$f":"IF(1-J541/(Sheet2!B$23*2)>0,1-J541/(Sheet2!B$23*2),0)","v":0.91718750000000004},{"$f":"IF(ABS(J541)<Sheet2!B$24/2, 1, 0)","v":1}]
[27.5,0.86250000000000004,"-1.9761438525473E-005+2.38018086375115E-004i",1,"-6.28672228206772E-002+0.757208846506483i","-8.94935269363716E-07-1.49635360713389E-07i",null,0,null,27.5,{"$f":"EXP(-((J542)^2/(Sheet2!B$21^2*0.360673760222241)))","v":0.81084608903449462},{"$f":"IF(1-ABS(J542)/Sheet2!B$22 >0, 1-ABS(J542)/Sheet2!B$22,0)","v":0.86250000000000004},{"$f":"IF(1-J542/(Sheet2!B$23*2)>0,1-J542/(Sheet2!B$23*2),0)","v":0.9140625},{"$f":"IF(ABS(J542)<Sheet2!B$24/2, 1, 0)","v":1}]
[28.5,0.85750000000000004,"3.67226082463867E-005-4.264375741901E-004i",1,"8.57001846515253E-002-0.995184726672194i","-2.10618513202764E-06-3.65457788504052E-07i",null,0,null,28.5,{"$f":"EXP(-((J543)^2/(Sheet2!B$21^2*0.360673760222241)))","v":0.79835372210199351},{"$f":"IF(1-ABS(J543)/Sheet2!B$22 >0, 1-ABS(J543)/Sheet2!B$22,0)","v":0.85750000000000004},{"$f":"IF(1-J543/(Sheet2!B$23*2)>0,1-J543/(Sheet2!B$23*2),0)","v":0.91093749999999996},{"$f":"IF(ABS(J543)<Sheet2!B$24/2, 1, 0)","v":1}]
[29.5,0.85250000000000004,"-3.01222417648517E-005+3.37669101780666E-004i",1,"-7.76173199314165E-002+0.870086991108706i","-1.45731742541303E-06-2.62089707032464E-07i",null,0,null,29.5,{"$f":"EXP(-((J544)^2/(Sheet2!B$21^2*0.360673760222241)))","v":0.78561805988595323},{"$f":"IF(1-ABS(J544)/Sheet2!B$22 >0, 1-ABS(J544)/Sheet2!B$22,0)","v":0.85250000000000004},{"$f":"IF(1-J544/(Sheet2!B$23*2)>0,1-J544/(Sheet2!B$23*2),0)","v":0.90781250000000002},{"$f":"IF(ABS(J544)<Sheet2!B$24/2, 1, 0)","v":1}]
[30.5,0.84750000000000003,"7.78671040686796E-006-8.43634046717645E-005i",1,"3.94631737404429E-002-0.427555093430274i","-1.78813575304398E-07-3.32924769571003E-08i",null,0,null,30.5,{"$f":"EXP(-((J545)^2/(Sheet2!B$21^2*0.360673760222241)))","v":0.7726569912903124},{"$f":"IF(1-ABS(J545)/Sheet2!B$22 >0, 1-ABS(J545)/Sheet2!B$22,0)","v":0.84750000000000003},{"$f":"IF(1-J545/(Sheet2!B$23*2)>0,1-J545/(Sheet2!B$23*2),0)","v":0.90468749999999998},{"$f":"IF(ABS(J545)<Sheet2!B$24/2, 1, 0)","v":1}]
[31.5,0.84250000000000003,"-1.32989166038398E-006+1.39409522910035E-005i",1,"1.63088421702468E-002-0.170961888760312i","1.18084127079731E-08+2.27360790361375E-09i",null,0,null,31.5,{"$f":"EXP(-((J546)^2/(Sheet2!B$21^2*0.360673760222241)))","v":0.75948848681314463},{"$f":"IF(1-ABS(J546)/Sheet2!B$22 >0, 1-ABS(J546)/Sheet2!B$22,0)","v":0.84250000000000003},{"$f":"IF(1-J546/(Sheet2!B$23*2)>0,1-J546/(Sheet2!B$23*2),0)","v":0.90156250000000004},{"$f":"IF(ABS(J546)<Sheet2!B$24/2, 1, 0)","v":1}]
[32.5,0.83750000000000002,"2.42513913384368E-005-2.46228508395748E-004i",1,"-6.96439392024297E-002+0.707106781186548i","8.62104427920669E-07+1.71483232686179E-07i",null,0,null,32.5,{"$f":"EXP(-((J547)^2/(Sheet2!B$21^2*0.360673760222241)))","v":0.74613055768701986},{"$f":"IF(1-ABS(J547)/Sheet2!B$22 >0, 1-ABS(J547)/Sheet2!B$22,0)","v":0.83750000000000002},{"$f":"IF(1-J547/(Sheet2!B$23*2)>0,1-J547/(Sheet2!B$23*2),0)","v":0.8984375},{"$f":"IF(ABS(J547)<Sheet2!B$24/2, 1, 0)","v":1}]
[33.5,0.83250000000000002,"-5.00944711213647E-005+4.93104002981616E-004i",1,"0.100094426539241-0.985277642388942i","2.40415086075298E-06+4.93569624029141E-07i",null,0,null,33.5,{"$f":"EXP(-((J548)^2/(Sheet2!B$21^2*0.360673760222241)))","v":0.73260121559251357},{"$f":"IF(1-ABS(J548)/Sheet2!B$22 >0, 1-ABS(J548)/Sheet2!B$22,0)","v":0.83250000000000002},{"$f":"IF(1-J548/(Sheet2!B$23*2)>0,1-J548/(Sheet2!B$23*2),0)","v":0.89531249999999996},{"$f":"IF(ABS(J548)<Sheet2!B$24/2, 1, 0)","v":1}]
[34.5,0.82750000000000001,"4.47829354916496E-005-4.2776433060198E-004i",1,"-9.46392471364295E-002+0.903989293123444i","1.91228075772409E-06+4.04832941995396E-07i",null,0,null,34.5,{"$f":"EXP(-((J549)^2/(Sheet2!B$21^2*0.360673760222241)))","v":0.71891843306791281},{"$f":"IF(1-ABS(J549)/Sheet2!B$22 >0, 1-ABS(J549)/Sheet2!B$22,0)","v":0.82750000000000001},{"$f":"IF(1-J549/(Sheet2!B$23*2)>0,1-J549/(Sheet2!B$23*2),0)","v":0.89218750000000002},{"$f":"IF(ABS(J549)<Sheet2!B$24/2, 1, 0)","v":1}]
[35.5,0.82250000000000001,"-1.41145720212246E-005+1.30941130018191E-004i",1,"5.31311058075996E-002-0.492898192229786i","3.18953617275015E-07+6.95704703346094E-08i",null,0,null,35.5,{"$f":"EXP(-((J550)^2/(Sheet2!B$21^2*0.360673760222241)))","v":0.7051001047333576},{"$f":"IF(1-ABS(J550)/Sheet2!B$22 >0, 1-ABS(J550)/Sheet2!B$22,0)","v":0.82250000000000001},{"$f":"IF(1-J550/(Sheet2!B$23*2)>0,1-J550/(Sheet2!B$23*2),0)","v":0.88906249999999998},{"$f":"IF(ABS(J550)<Sheet2!B$24/2, 1, 0)","v":1}]
[36.5,0.8175,"5.9077321304629E-007-5.32718068826875E-006i",1,"1.08698961631517E-002-9.80171403295606E-002i","-2.57866686800589E-09-5.7905900924966E-10i",null,0,null,36.5,{"$f":"EXP(-((J551)^2/(Sheet2!B$21^2*0.360673760222241)))","v":0.69116400944241563},{"$f":"IF(1-ABS(J551)/Sheet2!B$22 >0, 1-ABS(J551)/Sheet2!B$22,0)","v":0.8175},{"$f":"IF(1-J551/(Sheet2!B$23*2)>0,1-J551/(Sheet2!B$23*2),0)","v":0.88593750000000004},{"$f":"IF(ABS(J551)<Sheet2!B$24/2, 1, 0)","v":1}]
[37.5,0.8125,"-2.77249986329609E-005+2.43191778383691E-004i",1,"-7.44647549291151E-002+0.653172842953776i","-7.83908650206233E-07-1.81092161780489E-07i",null,0,null,37.5,{"$f":"EXP(-((J552)^2/(Sheet2!B$21^2*0.360673760222241)))","v":0.67712777346844644},{"$f":"IF(1-ABS(J552)/Sheet2!B$22 >0, 1-ABS(J552)/Sheet2!B$22,0)","v":0.8125},{"$f":"IF(1-J552/(Sheet2!B$23*2)>0,1-J552/(Sheet2!B$23*2),0)","v":0.8828125},{"$f":"IF(ABS(J552)<Sheet2!B$24/2, 1, 0)","v":1}]
[38.5,0.8075,"6.45291805527748E-005-5.50996454284587E-004i",1,"0.113603856055374-0.970031253194543i","-2.63576508658269E-06-6.25953218793964E-07i",null,0,null,38.5,{"$f":"EXP(-((J553)^2/(Sheet2!B$21^2*0.360673760222241)))","v":0.6630088348270976},{"$f":"IF(1-ABS(J553)/Sheet2!B$22 >0, 1-ABS(J553)/Sheet2!B$22,0)","v":0.8075},{"$f":"IF(1-J553/(Sheet2!B$23*2)>0,1-J553/(Sheet2!B$23*2),0)","v":0.87968749999999996},{"$f":"IF(ABS(J553)<Sheet2!B$24/2, 1, 0)","v":1}]
[39.5,0.80249999999999999,"-6.29092507515583E-005+5.23263630718404E-004i",1,"-0.112168846613818+0.932992798834737i","-2.40572370627124E-06-5.86938779319674E-07i",null,0,null,39.5,{"$f":"EXP(-((J554)^2/(Sheet2!B$21^2*0.360673760222241)))","v":0.64882440882994163},{"$f":"IF(1-ABS(J554)/Sheet2!B$22 >0, 1-ABS(J554)/Sheet2!B$22,0)","v":0.80249999999999999},{"$f":"IF(1-J554/(Sheet2!B$23*2)>0,1-J554/(Sheet2!B$23*2),0)","v":0.87656250000000002},{"$f":"IF(ABS(J554)<Sheet2!B$24/2, 1, 0)","v":1}]
[40.5,0.79749999999999999,"2.34770436817328E-005-1.9034684147428E-004i",1,"6.85230525907139E-002-0.555570233019603i","-5.20711601867666E-07-1.3043146628845E-07i",null,0,null,40.5,{"$f":"EXP(-((J555)^2/(Sheet2!B$21^2*0.360673760222241)))","v":0.63459145495762936},{"$f":"IF(1-ABS(J555)/Sheet2!B$22 >0, 1-ABS(J555)/Sheet2!B$22,0)","v":0.79749999999999999},{"$f":"IF(1-J555/(Sheet2!B$23*2)>0,1-J555/(Sheet2!B$23*2),0)","v":0.87343749999999998},{"$f":"IF(ABS(J555)<Sheet2!B$24/2, 1, 0)","v":1}]
[41.5,0.79249999999999998,"-4.8153528909648E-008+3.80798623709224E-007i",1,"3.10333791834749E-003-2.45412285229125E-002i","4.59791468674554E-11+1.18174678268386E-11i",null,0,null,41.5,{"$f":"EXP(-((J556)^2/(Sheet2!B$21^2*0.360673760222241)))","v":0.62032664513405011},{"$f":"IF(1-ABS(J556)/Sheet2!B$22 >0, 1-ABS(J556)/Sheet2!B$22,0)","v":0.79249999999999998},{"$f":"IF(1-J556/(Sheet2!B$23*2)>0,1-J556/(Sheet2!B$23*2),0)","v":0.87031250000000004},{"$f":"IF(ABS(J556)<Sheet2!B$24/2, 1, 0)","v":1}]
[42.5,0.78749999999999998,"2.97884911888494E-005-2.2989861155573E-004i",1,"-7.71861272365726E-002+0.595699304492435i","6.73255923682184E-07+1.77449834830643E-07i",null,0,null,42.5,{"$f":"EXP(-((J557)^2/(Sheet2!B$21^2*0.360673760222241)))","v":0.60604633347589643},{"$f":"IF(1-ABS(J557)/Sheet2!B$22 >0, 1-ABS(J557)/Sheet2!B$22,0)","v":0.78749999999999998},{"$f":"IF(1-J557/(Sheet2!B$23*2)>0,1-J557/(Sheet2!B$23*2),0)","v":0.8671875},{"$f":"IF(ABS(J557)<Sheet2!B$24/2, 1, 0)","v":1}]
[43.5,0.78249999999999997,"-7.93746563507447E-005+5.98182618730951E-004i",1,"0.125995758937606-0.949528180593039i","2.78995191779328E-06+7.53684730301056E-07i",null,0,null,43.5,{"$f":"EXP(-((J558)^2/(Sheet2!B$21^2*0.360673760222241)))","v":0.59176652758475301},{"$f":"IF(1-ABS(J558)/Sheet2!B$22 >0, 1-ABS(J558)/Sheet2!B$22,0)","v":0.78249999999999997},{"$f":"IF(1-J558/(Sheet2!B$23*2)>0,1-J558/(Sheet2!B$23*2),0)","v":0.86406249999999996},{"$f":"IF(ABS(J558)<Sheet2!B$24/2, 1, 0)","v":1}]
[44.5,0.77749999999999997,"8.44585030458506E-005-6.21858468280501E-004i",1,"-0.129968075346058+0.956940335732211i","2.92052271163391E-06+8.08217482601003E-07i",null,0,null,44.5,{"$f":"EXP(-((J559)^2/(Sheet2!B$21^2*0.360673760222241)))","v":0.57750286144142782},{"$f":"IF(1-ABS(J559)/Sheet2!B$22 >0, 1-ABS(J559)/Sheet2!B$22,0)","v":0.77749999999999997},{"$f":"IF(1-J559/(Sheet2!B$23*2)>0,1-J559/(Sheet2!B$23*2),0)","v":0.86093750000000002},{"$f":"IF(ABS(J559)<Sheet2!B$24/2, 1, 0)","v":1}]
[45.5,0.77249999999999996,"-3.65355166910691E-005+2.62954892861866E-004i",1,"8.54815964877558E-002-0.61523159058063i","7.93275213455537E-07+2.24778040463153E-07i",null,0,null,45.5,{"$f":"EXP(-((J560)^2/(Sheet2!B$21^2*0.360673760222241)))","v":0.56327056995473768},{"$f":"IF(1-ABS(J560)/Sheet2!B$22 >0, 1-ABS(J560)/Sheet2!B$22,0)","v":0.77249999999999996},{"$f":"IF(1-J560/(Sheet2!B$23*2)>0,1-J560/(Sheet2!B$23*2),0)","v":0.85781249999999998},{"$f":"IF(ABS(J560)<Sheet2!B$24/2, 1, 0)","v":1}]
[46.5,0.76749999999999996,"2.42979619005613E-007-1.71027284087311E-006i",1,"-6.97107766746746E-003+4.90676743274202E-002i","4.11126404856469E-10+1.19224448099274E-10i",null,0,null,46.5,{"$f":"EXP(-((J561)^2/(Sheet2!B$21^2*0.360673760222241)))","v":0.54908446520940402},{"$f":"IF(1-ABS(J561)/Sheet2!B$22 >0, 1-ABS(J561)/Sheet2!B$22,0)","v":0.76749999999999996},{"$f":"IF(1-J561/(Sheet2!B$23*2)>0,1-J561/(Sheet2!B$23*2),0)","v":0.85468750000000004},{"$f":"IF(ABS(J561)<Sheet2!B$24/2, 1, 0)","v":1}]
[47.5,0.76249999999999996,"-3.0173001883127E-005+2.07800272159185E-004i",1,"-7.76826903286447E-002+0.534997619887094i","-5.44143655277409E-07-1.61424841923359E-07i",null,0,null,47.5,{"$f":"EXP(-((J562)^2/(Sheet2!B$21^2*0.360673760222241)))","v":0.53495891445013921},{"$f":"IF(1-ABS(J562)/Sheet2!B$22 >0, 1-ABS(J562)/Sheet2!B$22,0)","v":0.76249999999999996},{"$f":"IF(1-J562/(Sheet2!B$23*2)>0,1-J562/(Sheet2!B$23*2),0)","v":0.8515625},{"$f":"IF(ABS(J562)<Sheet2!B$24/2, 1, 0)","v":1}]
[48.5,0.75750000000000006,"9.39060884036086E-005-6.33063425551521E-004i",1,"0.137044582821527-0.923879532511289i","-0.0000028600251046943-8.67579130542824E-07i",null,0,null,48.5,{"$f":"EXP(-((J563)^2/(Sheet2!B$21^2*0.360673760222241)))","v":0.52090781983144585},{"$f":"IF(1-ABS(J563)/Sheet2!B$22 >0, 1-ABS(J563)/Sheet2!B$22,0)","v":0.75750000000000006},{"$f":"IF(1-J563/(Sheet2!B$23*2)>0,1-J563/(Sheet2!B$23*2),0)","v":0.84843749999999996},{"$f":"IF(ABS(J563)<Sheet2!B$24/2, 1, 0)","v":1}]
[49.5,0.75249999999999995,"-1.09213002918426E-004+7.21006914364358E-004i",1,"-0.14779242397238+0.975702130038529i","-3.43673563843597E-06-1.06559359575083E-06i",null,0,null,49.5,{"$f":"EXP(-((J564)^2/(Sheet2!B$21^2*0.360673760222241)))","v":0.50694459995515539},{"$f":"IF(1-ABS(J564)/Sheet2!B$22 >0, 1-ABS(J564)/Sheet2!B$22,0)","v":0.75249999999999995},{"$f":"IF(1-J564/(Sheet2!B$23*2)>0,1-J564/(Sheet2!B$23*2),0)","v":0.84531250000000002},{"$f":"IF(ABS(J564)<Sheet2!B$24/2, 1, 0)","v":1}]
[50.5,0.74750000000000005,"5.39049570058223E-005-3.48645046110306E-004i",1,"0.103831553014407-0.671558954847019i","-1.14269333688669E-06-3.62003565881581E-07i",null,0,null,50.5,{"$f":"EXP(-((J565)^2/(Sheet2!B$21^2*0.360673760222241)))","v":0.49308217321032377},{"$f":"IF(1-ABS(J565)/Sheet2!B$22 >0, 1-ABS(J565)/Sheet2!B$22,0)","v":0.74750000000000005},{"$f":"IF(1-J565/(Sheet2!B$23*2)>0,1-J565/(Sheet2!B$23*2),0)","v":0.84218749999999998},{"$f":"IF(ABS(J565)<Sheet2!B$24/2, 1, 0)","v":1}]
[51.5,0.74249999999999994,"-1.8645657478692E-006+1.18193378406437E-005i",1,"-1.93109593157794E-002+0.122410675199214i","-7.05403286091059E-09-2.28242752165059E-09i",null,0,null,51.5,{"$f":"EXP(-((J566)^2/(Sheet2!B$21^2*0.360673760222241)))","v":0.47933294292282391},{"$f":"IF(1-ABS(J566)/Sheet2!B$22 >0, 1-ABS(J566)/Sheet2!B$22,0)","v":0.74249999999999994},{"$f":"IF(1-J566/(Sheet2!B$23*2)>0,1-J566/(Sheet2!B$23*2),0)","v":0.83906250000000004},{"$f":"IF(ABS(J566)<Sheet2!B$24/2, 1, 0)","v":1}]
[52.5,0.73750000000000004,"2.8764881627983E-005-1.78773387553835E-004i",1,"-7.58483772114307E-002+0.471396736826001i","4.10457109660232E-07+1.3559671334583E-07i",null,0,null,52.5,{"$f":"EXP(-((J567)^2/(Sheet2!B$21^2*0.360673760222241)))","v":0.4657087843148518},{"$f":"IF(1-ABS(J567)/Sheet2!B$22 >0, 1-ABS(J567)/Sheet2!B$22,0)","v":0.73750000000000004},{"$f":"IF(1-J567/(Sheet2!B$23*2)>0,1-J567/(Sheet2!B$23*2),0)","v":0.8359375},{"$f":"IF(ABS(J567)<Sheet2!B$24/2, 1, 0)","v":1}]
[53.5,0.73249999999999993,"-1.07360667926007E-004+6.54437436161006E-004i",1,"0.146533728490486-0.893224301195519i","2.84413731313337E-06+9.58971575842592E-07i",null,0,null,53.5,{"$f":"EXP(-((J568)^2/(Sheet2!B$21^2*0.360673760222241)))","v":0.45222103326763446},{"$f":"IF(1-ABS(J568)/Sheet2!B$22 >0, 1-ABS(J568)/Sheet2!B$22,0)","v":0.73249999999999993},{"$f":"IF(1-J568/(Sheet2!B$23*2)>0,1-J568/(Sheet2!B$23*2),0)","v":0.83281249999999996},{"$f":"IF(ABS(J568)<Sheet2!B$24/2, 1, 0)","v":1}]
[54.5,0.72750000000000004,"1.36773769226439E-004-8.18012997863053E-004i",1,"-0.165392726095821+0.989176509964784i","3.93268927890622E-06+1.35293399698262E-06i",null,0,null,54.5,{"$f":"EXP(-((J569)^2/(Sheet2!B$21^2*0.360673760222241)))","v":0.43888047687391341},{"$f":"IF(1-ABS(J569)/Sheet2!B$22 >0, 1-ABS(J569)/Sheet2!B$22,0)","v":0.72750000000000004},{"$f":"IF(1-J569/(Sheet2!B$23*2)>0,1-J569/(Sheet2!B$23*2),0)","v":0.82968750000000002},{"$f":"IF(ABS(J569)<Sheet2!B$24/2, 1, 0)","v":1}]
[55.5,0.72249999999999992,"-7.61145282390727E-005+4.4679215279983E-004i",1,"0.123381139757592-0.724247082951469i","1.57098408052318E-06+5.51257250472834E-07i",null,0,null,55.5,{"$f":"EXP(-((J570)^2/(Sheet2!B$21^2*0.360673760222241)))","v":0.42569734576031265},{"$f":"IF(1-ABS(J570)/Sheet2!B$22 >0, 1-ABS(J570)/Sheet2!B$22,0)","v":0.72249999999999992},{"$f":"IF(1-J570/(Sheet2!B$23*2)>0,1-J570/(Sheet2!B$23*2),0)","v":0.82656249999999998},{"$f":"IF(ABS(J570)<Sheet2!B$24/2, 1, 0)","v":1}]
[56.5,0.71750000000000003,"5.72958034463986E-006-3.30203851552814E-005i",1,"-3.38513820833921E-002+0.195090322016126i","3.12400167980823E-08+1.11778567444263E-08i",null,0,null,56.5,{"$f":"EXP(-((J571)^2/(Sheet2!B$21^2*0.360673760222241)))","v":0.41268130815350346},{"$f":"IF(1-ABS(J571)/Sheet2!B$22 >0, 1-ABS(J571)/Sheet2!B$22,0)","v":0.71750000000000003},{"$f":"IF(1-J571/(Sheet2!B$23*2)>0,1-J571/(Sheet2!B$23*2),0)","v":0.82343750000000004},{"$f":"IF(ABS(J571)<Sheet2!B$24/2, 1, 0)","v":1}]
[57.5,0.71250000000000002,"-2.5630953762729E-005+1.45071165656236E-004i",1,"-7.15974214108481E-002+0.405241314004993i","-2.84768597985285E-07-1.0386721382031E-07i",null,0,null,57.5,{"$f":"EXP(-((J572)^2/(Sheet2!B$21^2*0.360673760222241)))","v":0.39984146565817646},{"$f":"IF(1-ABS(J572)/Sheet2!B$22 >0, 1-ABS(J572)/Sheet2!B$22,0)","v":0.71250000000000002},{"$f":"IF(1-J572/(Sheet2!B$23*2)>0,1-J572/(Sheet2!B$23*2),0)","v":0.8203125},{"$f":"IF(ABS(J572)<Sheet2!B$24/2, 1, 0)","v":1}]
[58.5,0.70750000000000002,"1.18976561189428E-004-6.61554464673246E-004i",1,"0.15425729233287-0.857728610000276i","-2.74540594621751E-06-1.02049600451419E-06i",null,0,null,58.5,{"$f":"EXP(-((J573)^2/(Sheet2!B$21^2*0.360673760222241)))","v":0.38718635070924218},{"$f":"IF(1-ABS(J573)/Sheet2!B$22 >0, 1-ABS(J573)/Sheet2!B$22,0)","v":0.70750000000000002},{"$f":"IF(1-J573/(Sheet2!B$23*2)>0,1-J573/(Sheet2!B$23*2),0)","v":0.81718749999999996},{"$f":"IF(ABS(J573)<Sheet2!B$24/2, 1, 0)","v":1}]
[59.5,0.70250000000000001,"-1.6656229089565E-004+9.10112350886507E-004i",1,"-0.182517007917596+0.997290456678691i","-4.38622955539174E-06-1.66110983152713E-06i",null,0,null,59.5,{"$f":"EXP(-((J574)^2/(Sheet2!B$21^2*0.360673760222241)))","v":0.37472392565542439},{"$f":"IF(1-ABS(J574)/Sheet2!B$22 >0, 1-ABS(J574)/Sheet2!B$22,0)","v":0.70250000000000001},{"$f":"IF(1-J574/(Sheet2!B$23*2)>0,1-J574/(Sheet2!B$23*2),0)","v":0.81406250000000002},{"$f":"IF(ABS(J574)<Sheet2!B$24/2, 1, 0)","v":1}]
[60.5,0.69750000000000001,"1.03569523986165E-004-5.56270922687415E-004i",1,"0.143923260098337-0.773010453362733i","-2.07548587300091E-06-8.00603246910953E-07i",null,0,null,60.5,{"$f":"EXP(-((J575)^2/(Sheet2!B$21^2*0.360673760222241)))","v":0.36246158342650286},{"$f":"IF(1-ABS(J575)/Sheet2!B$22 >0, 1-ABS(J575)/Sheet2!B$22,0)","v":0.69750000000000001},{"$f":"IF(1-J575/(Sheet2!B$23*2)>0,1-J575/(Sheet2!B$23*2),0)","v":0.81093749999999998},{"$f":"IF(ABS(J575)<Sheet2!B$24/2, 1, 0)","v":1}]
[61.5,0.6925,"-1.27538445573745E-005+6.73518224148063E-005i",1,"-5.05051374810532E-002+0.266712757474887i","-8.65972780221485E-08-3.40161305048135E-08i",null,0,null,61.5,{"$f":"EXP(-((J576)^2/(Sheet2!B$21^2*0.360673760222241)))","v":0.35040614973191136},{"$f":"IF(1-ABS(J576)/Sheet2!B$22 >0, 1-ABS(J576)/Sheet2!B$22,0)","v":0.6925},{"$f":"IF(1-J576/(Sheet2!B$23*2)>0,1-J576/(Sheet2!B$23*2),0)","v":0.80781250000000004},{"$f":"IF(ABS(J576)<Sheet2!B$24/2, 1, 0)","v":1}]
[62.5,0.6875,"2.10374918497977E-005-1.09262193099438E-004i",1,"-6.48652323677156E-002+0.336889853392238i","1.77223612086565E-07+0.0000000708731754471i",null,0,null,62.5,{"$f":"EXP(-((J577)^2/(Sheet2!B$21^2*0.360673760222241)))","v":0.33856388673422333},{"$f":"IF(1-ABS(J577)/Sheet2!B$22 >0, 1-ABS(J577)/Sheet2!B$22,0)","v":0.6875},{"$f":"IF(1-J577/(Sheet2!B$23*2)>0,1-J577/(Sheet2!B$23*2),0)","v":0.8046875},{"$f":"IF(ABS(J577)<Sheet2!B$24/2, 1, 0)","v":1}]
[63.5,0.6825,"-1.28034801718462E-004+6.54156761204411E-004i",1,"0.160021749596957-0.817584813151609i","2.57170140200441E-06+0.0000010467930943925i",null,0,null,63.5,{"$f":"EXP(-((J578)^2/(Sheet2!B$21^2*0.360673760222241)))","v":0.32694049813725973},{"$f":"IF(1-ABS(J578)/Sheet2!B$22 >0, 1-ABS(J578)/Sheet2!B$22,0)","v":0.6825},{"$f":"IF(1-J578/(Sheet2!B$23*2)>0,1-J578/(Sheet2!B$23*2),0)","v":0.80156249999999996},{"$f":"IF(ABS(J578)<Sheet2!B$24/2, 1, 0)","v":1}]
[64.5,0.67749999999999999,"1.97830649483102E-004-9.94561836899274E-004i",1,"-0.198912367379657+1i","4.77605437035168E-06+1.97830649483098E-06i",null,{"$f":"IMABS(G579)","v":0},null,64.5,{"$f":"EXP(-((J579)^2/(Sheet2!B$21^2*0.360673760222241)))","v":0.31554113562514718},{"$f":"IF(1-ABS(J579)/Sheet2!B$22 >0, 1-ABS(J579)/Sheet2!B$22,0)","v":0.67749999999999999},{"$f":"IF(1-J579/(Sheet2!B$23*2)>0,1-J579/(Sheet2!B$23*2),0)","v":0.79843750000000002},{"$f":"IF(ABS(J579)<Sheet2!B$24/2, 1, 0)","v":1}]
[65.5,0.67249999999999999,"-1.36516156385581E-004+6.75475877246916E-004i",1,"0.165236894419111-0.817584813151585i",{"$f":"IMPRODUCT(C580,E580,D$1027)","v":"2.64850656584068E-06+1.11613536210991E-06i"},null,0,null,65.5,{"$f":"EXP(-((J580)^2/(Sheet2!B$21^2*0.360673760222241)))","v":0.30437040658563436},{"$f":"IF(1-ABS(J580)/Sheet2!B$22 >0, 1-ABS(J580)/Sheet2!B$22,0)","v":0.67249999999999999},{"$f":"IF(1-J580/(Sheet2!B$23*2)>0,1-J580/(Sheet2!B$23*2),0)","v":0.79531249999999998},{"$f":"IF(ABS(J580)<Sheet2!B$24/2, 1, 0)","v":1}]
[{"$f":"A580+1","v":66.5},0.66749999999999998,"2.39176926843708E-005-1.16501783457453E-004i",1,"-6.9163129898195E-002+0.336889853392221i","1.87970231314597E-07+8.05762798227854E-08i",null,0,null,{"$f":"J580+1","v":66.5},{"$f":"EXP(-((J581)^2/(Sheet2!B$21^2*0.360673760222241)))","v":0.29343238304835173},{"$f":"IF(1-ABS(J581)/Sheet2!B$22 >0, 1-ABS(J581)/Sheet2!B$22,0)","v":0.66749999999999998},{"$f":"IF(1-J581/(Sheet2!B$23*2)>0,1-J581/(Sheet2!B$23*2),0)","v":0.79218750000000004},{"$f":"IF(ABS(J581)<Sheet2!B$24/2, 1, 0)","v":1}]
[67.5,0.66249999999999998,"-1.54618817113095E-005+7.41583340399212E-005i",1,"-5.56091390172125E-002+0.266712757474898i","-9.45957591599003E-08-4.12388110694246E-08i",null,0,null,67.5,{"$f":"EXP(-((J582)^2/(Sheet2!B$21^2*0.360673760222241)))","v":0.28273061176646469},{"$f":"IF(1-ABS(J582)/Sheet2!B$22 >0, 1-ABS(J582)/Sheet2!B$22,0)","v":0.66249999999999998},{"$f":"IF(1-J582/(Sheet2!B$23*2)>0,1-J582/(Sheet2!B$23*2),0)","v":0.7890625},{"$f":"IF(ABS(J582)<Sheet2!B$24/2, 1, 0)","v":1}]
[68.5,0.65749999999999997,"1.33902633157955E-004-6.32506405065553E-004i",1,"0.163647568364405-0.773010453362738i","-2.33510611310334E-06-1.03508135163892E-06i",null,0,null,68.5,{"$f":"EXP(-((J583)^2/(Sheet2!B$21^2*0.360673760222241)))","v":0.27226812536832717},{"$f":"IF(1-ABS(J583)/Sheet2!B$22 >0, 1-ABS(J583)/Sheet2!B$22,0)","v":0.65749999999999997},{"$f":"IF(1-J583/(Sheet2!B$23*2)>0,1-J583/(Sheet2!B$23*2),0)","v":0.78593749999999996},{"$f":"IF(ABS(J583)<Sheet2!B$24/2, 1, 0)","v":1}]
[69.5,0.65250000000000008,"-2.29680039930229E-004+1.0687307194004E-003i",1,"-0.214326871824449+0.99729045667869i","-5.08304171369305E-06-2.29057711911889E-06i",null,0,null,69.5,{"$f":"EXP(-((J584)^2/(Sheet2!B$21^2*0.360673760222241)))","v":0.26204745450428413},{"$f":"IF(1-ABS(J584)/Sheet2!B$22 >0, 1-ABS(J584)/Sheet2!B$22,0)","v":0.65250000000000008},{"$f":"IF(1-J584/(Sheet2!B$23*2)>0,1-J584/(Sheet2!B$23*2),0)","v":0.78281250000000002},{"$f":"IF(ABS(J584)<Sheet2!B$24/2, 1, 0)","v":1}]
[70.5,0.64749999999999996,"1.75010704222475E-004-8.02356185090634E-004i",1,"0.18708859089883-0.857728610000272i","-3.27730674658858E-06-0.0000015011168806774i",null,0,null,70.5,{"$f":"EXP(-((J585)^2/(Sheet2!B$21^2*0.360673760222241)))","v":0.25207064091268938},{"$f":"IF(1-ABS(J585)/Sheet2!B$22 >0, 1-ABS(J585)/Sheet2!B$22,0)","v":0.64749999999999996},{"$f":"IF(1-J585/(Sheet2!B$23*2)>0,1-J585/(Sheet2!B$23*2),0)","v":0.77968749999999998},{"$f":"IF(ABS(J585)<Sheet2!B$24/2, 1, 0)","v":1}]
[71.5,0.64250000000000007,"-4.02258910440038E-005+1.81740430950166E-004i",1,"-8.96949174092884E-002+0.405241314004989i","-3.50203365355856E-07-1.63011929438486E-07i",null,0,null,71.5,{"$f":"EXP(-((J586)^2/(Sheet2!B$21^2*0.360673760222241)))","v":0.24233925132849651},{"$f":"IF(1-ABS(J586)/Sheet2!B$22 >0, 1-ABS(J586)/Sheet2!B$22,0)","v":0.64250000000000007},{"$f":"IF(1-J586/(Sheet2!B$23*2)>0,1-J586/(Sheet2!B$23*2),0)","v":0.77656250000000004},{"$f":"IF(ABS(J586)<Sheet2!B$24/2, 1, 0)","v":1}]
[72.5,0.63749999999999996,"9.59614100434205E-006-4.27335564666991E-005i",1,"-4.3808996803818E-002+0.195090322016127i","3.95825299069723E-08+1.87211423865732E-08i",null,0,null,72.5,{"$f":"EXP(-((J587)^2/(Sheet2!B$21^2*0.360673760222241)))","v":0.23285439215742595},{"$f":"IF(1-ABS(J587)/Sheet2!B$22 >0, 1-ABS(J587)/Sheet2!B$22,0)","v":0.63749999999999996},{"$f":"IF(1-J587/(Sheet2!B$23*2)>0,1-J587/(Sheet2!B$23*2),0)","v":0.7734375},{"$f":"IF(ABS(J587)<Sheet2!B$24/2, 1, 0)","v":1}]
[73.5,0.63250000000000006,"-1.36076732790091E-004+5.97397902565997E-004i",1,"0.164970744551176-0.724247082951468i","2.05107504185138E-06+9.85531767802066E-07i",null,0,null,73.5,{"$f":"EXP(-((J588)^2/(Sheet2!B$21^2*0.360673760222241)))","v":0.22361672483871217},{"$f":"IF(1-ABS(J588)/Sheet2!B$22 >0, 1-ABS(J588)/Sheet2!B$22,0)","v":0.63250000000000006},{"$f":"IF(1-J588/(Sheet2!B$23*2)>0,1-J588/(Sheet2!B$23*2),0)","v":0.77031249999999996},{"$f":"IF(ABS(J588)<Sheet2!B$24/2, 1, 0)","v":1}]
[74.5,0.62749999999999995,"2.61087443774385E-004-1.13019085763746E-003i",1,"-0.228511463071075+0.989176509964783i","5.29148387192778E-06+2.58261566428331E-06i",null,0,null,74.5,{"$f":"EXP(-((J589)^2/(Sheet2!B$21^2*0.360673760222241)))","v":0.21462648181976229},{"$f":"IF(1-ABS(J589)/Sheet2!B$22 >0, 1-ABS(J589)/Sheet2!B$22,0)","v":0.62749999999999995},{"$f":"IF(1-J589/(Sheet2!B$23*2)>0,1-J589/(Sheet2!B$23*2),0)","v":0.76718750000000002},{"$f":"IF(ABS(J589)<Sheet2!B$24/2, 1, 0)","v":1}]
[75.5,0.62250000000000005,"-2.18894433022192E-004+9.34464679013942E-004i",1,"0.209234047431164-0.893224301195519i","0.0000039444319586137+1.95521826971694E-06i",null,0,null,75.5,{"$f":"EXP(-((J590)^2/(Sheet2!B$21^2*0.360673760222241)))","v":0.20588348306671417},{"$f":"IF(1-ABS(J590)/Sheet2!B$22 >0, 1-ABS(J590)/Sheet2!B$22,0)","v":0.62250000000000005},{"$f":"IF(1-J590/(Sheet2!B$23*2)>0,1-J590/(Sheet2!B$23*2),0)","v":0.76406249999999998},{"$f":"IF(ABS(J590)<Sheet2!B$24/2, 1, 0)","v":1}]
[76.5,0.61749999999999994,"6.26633343298547E-005-2.63862895622019E-004i",1,"-0.111949394218815+0.471396736825999i","5.86844928238603E-07+2.95392913217188E-07i",null,0,null,76.5,{"$f":"EXP(-((J591)^2/(Sheet2!B$21^2*0.360673760222241)))","v":0.19738715303583415},{"$f":"IF(1-ABS(J591)/Sheet2!B$22 >0, 1-ABS(J591)/Sheet2!B$22,0)","v":0.61749999999999994},{"$f":"IF(1-J591/(Sheet2!B$23*2)>0,1-J591/(Sheet2!B$23*2),0)","v":0.76093750000000004},{"$f":"IF(ABS(J591)<Sheet2!B$24/2, 1, 0)","v":1}]
[77.5,0.61250000000000004,"-4.34171320668928E-006+1.80357772065488E-005i",1,"-2.94676541538772E-002+0.122410675199214i","-1.0399157811931E-08-5.3147204513557E-09i",null,0,null,77.5,{"$f":"EXP(-((J592)^2/(Sheet2!B$21^2*0.360673760222241)))","v":0.18913653803194388},{"$f":"IF(1-ABS(J592)/Sheet2!B$22 >0, 1-ABS(J592)/Sheet2!B$22,0)","v":0.61250000000000004},{"$f":"IF(1-J592/(Sheet2!B$23*2)>0,1-J592/(Sheet2!B$23*2),0)","v":0.7578125},{"$f":"IF(ABS(J592)<Sheet2!B$24/2, 1, 0)","v":1}]
[78.5,0.60749999999999993,"1.34224689140709E-004-5.50155362030022E-004i",1,"0.163844248687521-0.671558954847017i","-1.73734908290394E-06-9.01397919536102E-07i",null,0,null,78.5,{"$f":"EXP(-((J593)^2/(Sheet2!B$21^2*0.360673760222241)))","v":0.18113032388157826},{"$f":"IF(1-ABS(J593)/Sheet2!B$22 >0, 1-ABS(J593)/Sheet2!B$22,0)","v":0.60749999999999993},{"$f":"IF(1-J593/(Sheet2!B$23*2)>0,1-J593/(Sheet2!B$23*2),0)","v":0.75468749999999996},{"$f":"IF(ABS(J593)<Sheet2!B$24/2, 1, 0)","v":1}]
[79.5,0.60250000000000004,"-2.90939925715217E-004+1.17680340701698E-003i",1,"-0.241221858759851+0.975702130038527i","-5.39014260597293E-06-2.83870705234575E-06i",null,0,null,79.5,{"$f":"EXP(-((J594)^2/(Sheet2!B$21^2*0.360673760222241)))","v":0.17336685385034564},{"$f":"IF(1-ABS(J594)/Sheet2!B$22 >0, 1-ABS(J594)/Sheet2!B$22,0)","v":0.60250000000000004},{"$f":"IF(1-J594/(Sheet2!B$23*2)>0,1-J594/(Sheet2!B$23*2),0)","v":0.75156250000000002},{"$f":"IF(ABS(J594)<Sheet2!B$24/2, 1, 0)","v":1}]
[80.5,0.59749999999999992,"2.67775562882946E-004-1.0690199708537E-003i",1,"0.231419775681715-0.92387953251129i","-4.62838555111067E-06-0.0000024739236185424i",null,0,null,80.5,{"$f":"EXP(-((J595)^2/(Sheet2!B$21^2*0.360673760222241)))","v":0.16584414673596232},{"$f":"IF(1-ABS(J595)/Sheet2!B$22 >0, 1-ABS(J595)/Sheet2!B$22,0)","v":0.59749999999999992},{"$f":"IF(1-J595/(Sheet2!B$23*2)>0,1-J595/(Sheet2!B$23*2),0)","v":0.74843749999999998},{"$f":"IF(ABS(J595)<Sheet2!B$24/2, 1, 0)","v":1}]
[81.5,0.59250000000000003,"-9.2147929858526E-005+3.63144644384983E-004i",1,"-0.135755611198288+0.5349976198871i","-9.0885960941056E-07-4.92989231518516E-07i",null,0,null,81.5,{"$f":"EXP(-((J596)^2/(Sheet2!B$21^2*0.360673760222241)))","v":0.15855991507064751},{"$f":"IF(1-ABS(J596)/Sheet2!B$22 >0, 1-ABS(J596)/Sheet2!B$22,0)","v":0.59250000000000003},{"$f":"IF(1-J596/(Sheet2!B$23*2)>0,1-J596/(Sheet2!B$23*2),0)","v":0.74531250000000004},{"$f":"IF(ABS(J596)<Sheet2!B$24/2, 1, 0)","v":1}]
[82.5,0.58750000000000002,"7.95221312754196E-007-3.09402972361664E-006i",1,"-1.2611275222364E-002+4.90676743274174E-002i","7.08940439999689E-10+3.90196603915742E-10i",null,0,null,82.5,{"$f":"EXP(-((J597)^2/(Sheet2!B$21^2*0.360673760222241)))","v":0.15151158336897422},{"$f":"IF(1-ABS(J597)/Sheet2!B$22 >0, 1-ABS(J597)/Sheet2!B$22,0)","v":0.58750000000000002},{"$f":"IF(1-J597/(Sheet2!B$23*2)>0,1-J597/(Sheet2!B$23*2),0)","v":0.7421875},{"$f":"IF(ABS(J597)<Sheet2!B$24/2, 1, 0)","v":1}]
[83.5,0.58250000000000002,"-1.28223098286315E-004+4.9261401420457E-004i",1,"0.160139375724157-0.615231590580629i","1.41269068294199E-06+7.88869007077784E-07i",null,0,null,83.5,{"$f":"EXP(-((J598)^2/(Sheet2!B$21^2*0.360673760222241)))","v":0.14469630635985367},{"$f":"IF(1-ABS(J598)/Sheet2!B$22 >0, 1-ABS(J598)/Sheet2!B$22,0)","v":0.58250000000000002},{"$f":"IF(1-J598/(Sheet2!B$23*2)>0,1-J598/(Sheet2!B$23*2),0)","v":0.73906249999999996},{"$f":"IF(ABS(J598)<Sheet2!B$24/2, 1, 0)","v":1}]
[84.5,0.57750000000000001,"3.18075748826536E-004-1.20679955707889E-003i",1,"-0.25222043883345+0.956940335732212i","5.37304984180625E-06+3.04379513870395E-06i",null,0,null,84.5,{"$f":"EXP(-((J599)^2/(Sheet2!B$21^2*0.360673760222241)))","v":0.13811098714406789},{"$f":"IF(1-ABS(J599)/Sheet2!B$22 >0, 1-ABS(J599)/Sheet2!B$22,0)","v":0.57750000000000001},{"$f":"IF(1-J599/(Sheet2!B$23*2)>0,1-J599/(Sheet2!B$23*2),0)","v":0.73593750000000002},{"$f":"IF(ABS(J599)<Sheet2!B$24/2, 1, 0)","v":1}]
[85.5,0.57250000000000001,"-3.21019380210764E-004+1.20298022027314E-003i",1,"0.253384837830359-0.949528180593042i","5.30461088125132E-06+3.04816948026836E-06i",null,0,null,85.5,{"$f":"EXP(-((J600)^2/(Sheet2!B$21^2*0.360673760222241)))","v":0.13175229522163456},{"$f":"IF(1-ABS(J600)/Sheet2!B$22 >0, 1-ABS(J600)/Sheet2!B$22,0)","v":0.57250000000000001},{"$f":"IF(1-J600/(Sheet2!B$23*2)>0,1-J600/(Sheet2!B$23*2),0)","v":0.73281249999999998},{"$f":"IF(ABS(J600)<Sheet2!B$24/2, 1, 0)","v":1}]
[86.5,0.5675,"1.29482234682714E-004-4.7931077073647E-004i",1,"-0.160923730184988+0.595699304492438i","0.0000013234416428281+7.71324771446869E-07i",null,0,null,86.5,{"$f":"EXP(-((J601)^2/(Sheet2!B$21^2*0.360673760222241)))","v":0.12561668433627357},{"$f":"IF(1-ABS(J601)/Sheet2!B$22 >0, 1-ABS(J601)/Sheet2!B$22,0)","v":0.5675},{"$f":"IF(1-J601/(Sheet2!B$23*2)>0,1-J601/(Sheet2!B$23*2),0)","v":0.72968750000000004},{"$f":"IF(ABS(J601)<Sheet2!B$24/2, 1, 0)","v":1}]
[87.5,0.5625,"-2.25152940777568E-007+8.23417537212305E-007i",1,"6.71048345704905E-003-2.45412285229159E-002i","9.34839643305498E-11+5.52552976696805E-11i",null,0,null,87.5,{"$f":"EXP(-((J602)^2/(Sheet2!B$21^2*0.360673760222241)))","v":0.11970041008732182},{"$f":"IF(1-ABS(J602)/Sheet2!B$22 >0, 1-ABS(J602)/Sheet2!B$22,0)","v":0.5625},{"$f":"IF(1-J602/(Sheet2!B$23*2)>0,1-J602/(Sheet2!B$23*2),0)","v":0.7265625},{"$f":"IF(ABS(J602)<Sheet2!B$24/2, 1, 0)","v":1}]
[88.5,0.5575,"1.18190684142944E-004-4.27086254348702E-004i",1,"0.153746989657118-0.555570233019604i","-1.09552473977743E-06-6.56632259300445E-07i",null,0,null,88.5,{"$f":"EXP(-((J603)^2/(Sheet2!B$21^2*0.360673760222241)))","v":0.11399954726259746},{"$f":"IF(1-ABS(J603)/Sheet2!B$22 >0, 1-ABS(J603)/Sheet2!B$22,0)","v":0.5575},{"$f":"IF(1-J603/(Sheet2!B$23*2)>0,1-J603/(Sheet2!B$23*2),0)","v":0.72343749999999996},{"$f":"IF(ABS(J603)<Sheet2!B$24/2, 1, 0)","v":1}]
[89.5,0.55249999999999999,"-3.41331243639099E-004+1.21885295742958E-003i",1,"-0.261278106101854+0.932992798834742i","-5.23999325614406E-06-3.18459592333215E-06i",null,0,null,89.5,{"$f":"EXP(-((J604)^2/(Sheet2!B$21^2*0.360673760222241)))","v":0.10851000684892369},{"$f":"IF(1-ABS(J604)/Sheet2!B$22 >0, 1-ABS(J604)/Sheet2!B$22,0)","v":0.55249999999999999},{"$f":"IF(1-J604/(Sheet2!B$23*2)>0,1-J604/(Sheet2!B$23*2),0)","v":0.72031250000000002},{"$f":"IF(ABS(J604)<Sheet2!B$24/2, 1, 0)","v":1}]
[90.5,0.54749999999999999,"3.777473711837E-004-1.33312678540319E-003i",1,"0.274862646128967-0.970031253194548i","-5.94673002150031E-06-3.66426755860797E-06i",null,0,null,90.5,{"$f":"EXP(-((J605)^2/(Sheet2!B$21^2*0.360673760222241)))","v":0.10322755268026979},{"$f":"IF(1-ABS(J605)/Sheet2!B$22 >0, 1-ABS(J605)/Sheet2!B$22,0)","v":0.54749999999999999},{"$f":"IF(1-J605/(Sheet2!B$23*2)>0,1-J605/(Sheet2!B$23*2),0)","v":0.71718749999999998},{"$f":"IF(ABS(J605)<Sheet2!B$24/2, 1, 0)","v":1}]
[91.5,0.54249999999999998,"-1.75305522843131E-004+6.11520360047722E-004i",1,"-0.187246106952191+0.653172842953779i","-1.83301607708447E-06-1.14504806740942E-06i",null,0,null,91.5,{"$f":"EXP(-((J606)^2/(Sheet2!B$21^2*0.360673760222241)))","v":9.8147817686735819E-2},{"$f":"IF(1-ABS(J606)/Sheet2!B$22 >0, 1-ABS(J606)/Sheet2!B$22,0)","v":0.54249999999999998},{"$f":"IF(1-J606/(Sheet2!B$23*2)>0,1-J606/(Sheet2!B$23*2),0)","v":0.71406250000000004},{"$f":"IF(ABS(J606)<Sheet2!B$24/2, 1, 0)","v":1}]
[92.5,0.53749999999999998,"4.03974507223081E-006-1.39304135609842E-005i",1,"2.84244439624966E-002-9.80171403295587E-002i","-6.2529589671369E-09-3.95964259639544E-09i",null,0,null,92.5,{"$f":"EXP(-((J607)^2/(Sheet2!B$21^2*0.360673760222241)))","v":9.3266319710877579E-2},{"$f":"IF(1-ABS(J607)/Sheet2!B$22 >0, 1-ABS(J607)/Sheet2!B$22,0)","v":0.53749999999999998},{"$f":"IF(1-J607/(Sheet2!B$23*2)>0,1-J607/(Sheet2!B$23*2),0)","v":0.7109375},{"$f":"IF(ABS(J607)<Sheet2!B$24/2, 1, 0)","v":1}]
[93.5,0.53249999999999997,"-1.04514937921454E-004+3.56312789296457E-004i",1,"0.144578655356374-0.49289819222979i","8.02576502616195E-07+5.15152239626271E-07i",null,0,null,93.5,{"$f":"EXP(-((J608)^2/(Sheet2!B$21^2*0.360673760222241)))","v":8.8578476861129005E-2},{"$f":"IF(1-ABS(J608)/Sheet2!B$22 >0, 1-ABS(J608)/Sheet2!B$22,0)","v":0.53249999999999997},{"$f":"IF(1-J608/(Sheet2!B$23*2)>0,1-J608/(Sheet2!B$23*2),0)","v":0.70781249999999996},{"$f":"IF(ABS(J608)<Sheet2!B$24/2, 1, 0)","v":1}]
[94.5,0.52750000000000008,"3.59592129821194E-004-1.21214166046212E-003i",1,"-0.268176109980743+0.903989293123455i","4.99664532125752E-06+3.25067435249074E-06i",null,0,null,94.5,{"$f":"EXP(-((J609)^2/(Sheet2!B$21^2*0.360673760222241)))","v":8.4079622375308832E-2},{"$f":"IF(1-ABS(J609)/Sheet2!B$22 >0, 1-ABS(J609)/Sheet2!B$22,0)","v":0.52750000000000008},{"$f":"IF(1-J609/(Sheet2!B$23*2)>0,1-J609/(Sheet2!B$23*2),0)","v":0.70468750000000002},{"$f":"IF(ABS(J609)<Sheet2!B$24/2, 1, 0)","v":1}]
[95.5,0.52249999999999996,"-4.36846002744743E-004+1.45615569567414E-003i",1,"0.29558281504453-0.985277642388955i","6.52796739776412E-06+4.30414599670934E-06i",null,0,null,95.5,{"$f":"EXP(-((J610)^2/(Sheet2!B$21^2*0.360673760222241)))","v":7.9765018970387846E-2},{"$f":"IF(1-ABS(J610)/Sheet2!B$22 >0, 1-ABS(J610)/Sheet2!B$22,0)","v":0.52249999999999996},{"$f":"IF(1-J610/(Sheet2!B$23*2)>0,1-J610/(Sheet2!B$23*2),0)","v":0.70156249999999998},{"$f":"IF(ABS(J610)<Sheet2!B$24/2, 1, 0)","v":1}]
[96.5,0.51750000000000007,"2.30048026138489E-004-7.58366709016924E-004i",1,"-0.214498497029201+0.70710678118655i","2.43450643360377E-06+1.62668519281109E-06i",null,0,null,96.5,{"$f":"EXP(-((J611)^2/(Sheet2!B$21^2*0.360673760222241)))","v":7.562987265782696E-2},{"$f":"IF(1-ABS(J611)/Sheet2!B$22 >0, 1-ABS(J611)/Sheet2!B$22,0)","v":0.51750000000000007},{"$f":"IF(1-J611/(Sheet2!B$23*2)>0,1-J611/(Sheet2!B$23*2),0)","v":0.69843750000000004},{"$f":"IF(ABS(J611)<Sheet2!B$24/2, 1, 0)","v":1}]
[97.5,0.51249999999999996,"-1.37466355817236E-005+4.48211008760968E-005i",1,"5.24340263226438E-002-0.170961888760304i","3.47095430507687E-08+2.3501507831491E-08i",null,0,null,97.5,{"$f":"EXP(-((J612)^2/(Sheet2!B$21^2*0.360673760222241)))","v":7.1669346006860354E-2},{"$f":"IF(1-ABS(J612)/Sheet2!B$22 >0, 1-ABS(J612)/Sheet2!B$22,0)","v":0.51249999999999996},{"$f":"IF(1-J612/(Sheet2!B$23*2)>0,1-J612/(Sheet2!B$23*2),0)","v":0.6953125},{"$f":"IF(ABS(J612)<Sheet2!B$24/2, 1, 0)","v":1}]
[98.5,0.50750000000000006,"8.78709099530282E-005-2.83399871233291E-004i",1,"0.132567650619712-0.427555093430282i","-5.47601091664952E-07-3.75696551150486E-07i",null,0,null,98.5,{"$f":"EXP(-((J613)^2/(Sheet2!B$21^2*0.360673760222241)))","v":6.7878570841084812E-2},{"$f":"IF(1-ABS(J613)/Sheet2!B$22 >0, 1-ABS(J613)/Sheet2!B$22,0)","v":0.50750000000000006},{"$f":"IF(1-J613/(Sheet2!B$23*2)>0,1-J613/(Sheet2!B$23*2),0)","v":0.69218749999999996},{"$f":"IF(ABS(J613)<Sheet2!B$24/2, 1, 0)","v":1}]
[99.5,0.50249999999999995,"-3.71847782801461E-004+1.18639764451072E-003i",1,"-0.272707822697174+0.870086991108711i","-4.65431678774118E-06-3.23539918487871E-06i",null,0,null,99.5,{"$f":"EXP(-((J614)^2/(Sheet2!B$21^2*0.360673760222241)))","v":6.4252660356611785E-2},{"$f":"IF(1-ABS(J614)/Sheet2!B$22 >0, 1-ABS(J614)/Sheet2!B$22,0)","v":0.50249999999999995},{"$f":"IF(1-J614/(Sheet2!B$23*2)>0,1-J614/(Sheet2!B$23*2),0)","v":0.68906250000000002},{"$f":"IF(ABS(J614)<Sheet2!B$24/2, 1, 0)","v":1}]
[100.5,0.49750000000000005,"4.96985497481079E-004-1.56877464760267E-003i",0,"0.31527305545548-0.995184726672199i","-7.02267216288408E-06-4.94592376470771E-06i",null,0,null,100.5,{"$f":"EXP(-((J615)^2/(Sheet2!B$21^2*0.360673760222241)))","v":6.0786720652835136E-2},{"$f":"IF(1-ABS(J615)/Sheet2!B$22 >0, 1-ABS(J615)/Sheet2!B$22,0)","v":0.49750000000000005},{"$f":"IF(1-J615/(Sheet2!B$23*2)>0,1-J615/(Sheet2!B$23*2),0)","v":0.68593749999999998},{"$f":"IF(ABS(J615)<Sheet2!B$24/2, 1, 0)","v":0}]
[101.5,0.49250000000000005,"-2.93889108469786E-004+9.17893780336722E-004i",0,"-0.24244137785038+0.757208846506486i","-3.11893205115806E-06-2.22535432825178E-06i",null,0,null,101.5,{"$f":"EXP(-((J616)^2/(Sheet2!B$21^2*0.360673760222241)))","v":5.7475861669556295E-2},{"$f":"IF(1-ABS(J616)/Sheet2!B$22 >0, 1-ABS(J616)/Sheet2!B$22,0)","v":0.49250000000000005},{"$f":"IF(1-J616/(Sheet2!B$23*2)>0,1-J616/(Sheet2!B$23*2),0)","v":0.68281250000000004},{"$f":"IF(ABS(J616)<Sheet2!B$24/2, 1, 0)","v":0}]
[102.5,0.48750000000000004,"3.09051415346778E-005-9.55149207915799E-005i",0,"7.8619516069803E-002-0.242980179903265i","-1.03892426829295E-07-7.50933685005573E-08i",null,0,null,102.5,{"$f":"EXP(-((J617)^2/(Sheet2!B$21^2*0.360673760222241)))","v":5.431520752678206E-2},{"$f":"IF(1-ABS(J617)/Sheet2!B$22 >0, 1-ABS(J617)/Sheet2!B$22,0)","v":0.48750000000000004},{"$f":"IF(1-J617/(Sheet2!B$23*2)>0,1-J617/(Sheet2!B$23*2),0)","v":0.6796875},{"$f":"IF(ABS(J617)<Sheet2!B$24/2, 1, 0)","v":0}]
[103.5,0.48250000000000004,"-6.9230970524658E-005+2.11743978691643E-004i",0,"0.117669852150448-0.35989503653499i","3.40296044407122E-07+2.49158826663589E-07i",null,0,null,103.5,{"$f":"EXP(-((J618)^2/(Sheet2!B$21^2*0.360673760222241)))","v":5.129990626596221E-2},{"$f":"IF(1-ABS(J618)/Sheet2!B$22 >0, 1-ABS(J618)/Sheet2!B$22,0)","v":0.48250000000000004},{"$f":"IF(1-J618/(Sheet2!B$23*2)>0,1-J618/(Sheet2!B$23*2),0)","v":0.67656249999999996},{"$f":"IF(ABS(J618)<Sheet2!B$24/2, 1, 0)","v":0}]
[104.5,0.47750000000000004,"3.77246768723985E-004-1.14194226761689E-003i",0,"-0.274680457522553+0.831469612302546i","4.22933989747648E-06+3.13669224533335E-06i",null,0,null,104.5,{"$f":"EXP(-((J619)^2/(Sheet2!B$21^2*0.360673760222241)))","v":4.8425138993759408E-2},{"$f":"IF(1-ABS(J619)/Sheet2!B$22 >0, 1-ABS(J619)/Sheet2!B$22,0)","v":0.47750000000000004},{"$f":"IF(1-J619/(Sheet2!B$23*2)>0,1-J619/(Sheet2!B$23*2),0)","v":0.67343750000000002},{"$f":"IF(ABS(J619)<Sheet2!B$24/2, 1, 0)","v":0}]
[105.5,0.47250000000000003,"-5.56648648688256E-004+1.66780303820549E-003i",0,"0.33366110012669-0.999698818696208i","7.40784363303308E-06+5.56480996522385E-06i",null,0,null,105.5,{"$f":"EXP(-((J620)^2/(Sheet2!B$21^2*0.360673760222241)))","v":4.5686128431637066E-2},{"$f":"IF(1-ABS(J620)/Sheet2!B$22 >0, 1-ABS(J620)/Sheet2!B$22,0)","v":0.47250000000000003},{"$f":"IF(1-J620/(Sheet2!B$23*2)>0,1-J620/(Sheet2!B$23*2),0)","v":0.67031249999999998},{"$f":"IF(ABS(J620)<Sheet2!B$24/2, 1, 0)","v":0}]
[106.5,0.46750000000000003,"3.66721099459922E-004-1.08762886070898E-003i",0,"-0.270821380049857+0.80320753148065i","3.87137889064017E-06+2.94553149039167E-06i",null,0,null,106.5,{"$f":"EXP(-((J621)^2/(Sheet2!B$21^2*0.360673760222241)))","v":4.307814687661092E-2},{"$f":"IF(1-ABS(J621)/Sheet2!B$22 >0, 1-ABS(J621)/Sheet2!B$22,0)","v":0.46750000000000003},{"$f":"IF(1-J621/(Sheet2!B$23*2)>0,1-J621/(Sheet2!B$23*2),0)","v":0.66718750000000004},{"$f":"IF(ABS(J621)<Sheet2!B$24/2, 1, 0)","v":0}]
[107.5,0.46250000000000002,"-5.7072303009548E-005+1.67566400219987E-004i",0,"0.106838479032176-0.313681740398896i","2.32325010024899E-07+1.79025393365042E-07i",null,0,null,107.5,{"$f":"EXP(-((J622)^2/(Sheet2!B$21^2*0.360673760222241)))","v":4.0596523580430456E-2},{"$f":"IF(1-ABS(J622)/Sheet2!B$22 >0, 1-ABS(J622)/Sheet2!B$22,0)","v":0.46250000000000002},{"$f":"IF(1-J622/(Sheet2!B$23*2)>0,1-J622/(Sheet2!B$23*2),0)","v":0.6640625},{"$f":"IF(ABS(J622)<Sheet2!B$24/2, 1, 0)","v":0}]
[108.5,0.45750000000000002,"4.98645816863772E-005-1.44945656057388E-004i",0,"9.98644898714968E-002-0.290284677254461i","-1.85479009876447E-07-1.44749240012596E-07i",null,0,null,108.5,{"$f":"EXP(-((J623)^2/(Sheet2!B$21^2*0.360673760222241)))","v":3.8236651556240467E-2},{"$f":"IF(1-ABS(J623)/Sheet2!B$22 >0, 1-ABS(J623)/Sheet2!B$22,0)","v":0.45750000000000002},{"$f":"IF(1-J623/(Sheet2!B$23*2)>0,1-J623/(Sheet2!B$23*2),0)","v":0.66093749999999996},{"$f":"IF(ABS(J623)<Sheet2!B$24/2, 1, 0)","v":0}]
[109.5,0.45250000000000001,"-3.75151844515455E-004+1.07970633413328E-003i",0,"-0.273916718918769+0.788346427626606i","-3.74211134526896E-06-2.95749616441446E-06i",null,0,null,109.5,{"$f":"EXP(-((J624)^2/(Sheet2!B$21^2*0.360673760222241)))","v":3.5993993823414797E-2},{"$f":"IF(1-ABS(J624)/Sheet2!B$22 >0, 1-ABS(J624)/Sheet2!B$22,0)","v":0.45250000000000001},{"$f":"IF(1-J624/(Sheet2!B$23*2)>0,1-J624/(Sheet2!B$23*2),0)","v":0.65781250000000002},{"$f":"IF(ABS(J624)<Sheet2!B$24/2, 1, 0)","v":0}]
[110.5,0.44750000000000001,"6.14169409250361E-004-1.75027242516752E-003i",0,"0.350476649507545-0.998795456205174i","-7.66456054297217E-06-6.13429615298817E-06i",null,0,null,110.5,{"$f":"EXP(-((J625)^2/(Sheet2!B$21^2*0.360673760222241)))","v":3.3864089102758656E-2},{"$f":"IF(1-ABS(J625)/Sheet2!B$22 >0, 1-ABS(J625)/Sheet2!B$22,0)","v":0.44750000000000001},{"$f":"IF(1-J625/(Sheet2!B$23*2)>0,1-J625/(Sheet2!B$23*2),0)","v":0.65468749999999998},{"$f":"IF(ABS(J625)<Sheet2!B$24/2, 1, 0)","v":0}]
[111.5,0.4425,"-4.4812042705997E-004+1.26463097197925E-003i",0,"-0.299372820096094+0.844853565249708i","-4.67136454705132E-06-3.78596140462565E-06i",null,0,null,111.5,{"$f":"EXP(-((J626)^2/(Sheet2!B$21^2*0.360673760222241)))","v":3.1842556975639091E-2},{"$f":"IF(1-ABS(J626)/Sheet2!B$22 >0, 1-ABS(J626)/Sheet2!B$22,0)","v":0.4425},{"$f":"IF(1-J626/(Sheet2!B$23*2)>0,1-J626/(Sheet2!B$23*2),0)","v":0.65156250000000004},{"$f":"IF(ABS(J626)<Sheet2!B$24/2, 1, 0)","v":0}]
[112.5,0.4375,"9.37440876695992E-005-2.61997173564473E-004i",0,"0.136926321552509-0.382683432365094i","-4.37129722788558E-07-3.5874309233337E-07i",null,0,null,112.5,{"$f":"EXP(-((J627)^2/(Sheet2!B$21^2*0.360673760222241)))","v":2.9925102521830477E-2},{"$f":"IF(1-ABS(J627)/Sheet2!B$22 >0, 1-ABS(J627)/Sheet2!B$22,0)","v":0.4375},{"$f":"IF(1-J627/(Sheet2!B$23*2)>0,1-J627/(Sheet2!B$23*2),0)","v":0.6484375},{"$f":"IF(ABS(J627)<Sheet2!B$24/2, 1, 0)","v":0}]
[113.5,0.4325,"-3.13273839002723E-005+8.67145355879192E-005i",0,"7.91547647355563E-002-0.219101240156868i","8.25977529226673E-08+6.86386866351737E-08i",null,0,null,113.5,{"$f":"EXP(-((J628)^2/(Sheet2!B$21^2*0.360673760222241)))","v":2.8107520451952521E-2},{"$f":"IF(1-ABS(J628)/Sheet2!B$22 >0, 1-ABS(J628)/Sheet2!B$22,0)","v":0.4325},{"$f":"IF(1-J628/(Sheet2!B$23*2)>0,1-J628/(Sheet2!B$23*2),0)","v":0.64531249999999996},{"$f":"IF(ABS(J628)<Sheet2!B$24/2, 1, 0)","v":0}]
[114.5,0.42749999999999999,"3.6519254078325E-004-1.00123382546512E-003i",0,"-0.27025637486824+0.740951125354962i","3.21584858760416E-06+2.70589824065125E-06i",null,0,null,114.5,{"$f":"EXP(-((J629)^2/(Sheet2!B$21^2*0.360673760222241)))","v":2.6385698751336666E-2},{"$f":"IF(1-ABS(J629)/Sheet2!B$22 >0, 1-ABS(J629)/Sheet2!B$22,0)","v":0.42749999999999999},{"$f":"IF(1-J629/(Sheet2!B$23*2)>0,1-J629/(Sheet2!B$23*2),0)","v":0.64218750000000002},{"$f":"IF(ABS(J629)<Sheet2!B$24/2, 1, 0)","v":0}]
[115.5,0.42249999999999999,"-6.67780670268663E-004+1.81352473839632E-003i",0,"0.36545332677937-0.992479534598717i","7.77921760419099E-06+6.62758648842942E-06i",null,0,null,115.5,{"$f":"EXP(-((J630)^2/(Sheet2!B$21^2*0.360673760222241)))","v":2.4755621852985354E-2},{"$f":"IF(1-ABS(J630)/Sheet2!B$22 >0, 1-ABS(J630)/Sheet2!B$22,0)","v":0.42249999999999999},{"$f":"IF(1-J630/(Sheet2!B$23*2)>0,1-J630/(Sheet2!B$23*2),0)","v":0.63906249999999998},{"$f":"IF(ABS(J630)<Sheet2!B$24/2, 1, 0)","v":0}]
[116.5,0.41749999999999998,"5.37327552108597E-004-1.44555417179836E-003i",0,"-0.327819325882093+0.881921264348362i","5.49359303483172E-06+4.73880594124905E-06i",null,0,null,116.5,{"$f":"EXP(-((J631)^2/(Sheet2!B$21^2*0.360673760222241)))","v":2.3213373357991538E-2},{"$f":"IF(1-ABS(J631)/Sheet2!B$22 >0, 1-ABS(J631)/Sheet2!B$22,0)","v":0.41749999999999998},{"$f":"IF(1-J631/(Sheet2!B$23*2)>0,1-J631/(Sheet2!B$23*2),0)","v":0.63593750000000004},{"$f":"IF(ABS(J631)<Sheet2!B$24/2, 1, 0)","v":0}]
[117.5,0.41249999999999998,"-1.42293378066097E-004+3.79240397762807E-004i",0,"0.168696993492274-0.449611329654614i","7.32531572116351E-07+6.39767149133721E-07i",null,0,null,117.5,{"$f":"EXP(-((J632)^2/(Sheet2!B$21^2*0.360673760222241)))","v":2.1755138322367119E-2},{"$f":"IF(1-ABS(J632)/Sheet2!B$22 >0, 1-ABS(J632)/Sheet2!B$22,0)","v":0.41249999999999998},{"$f":"IF(1-J632/(Sheet2!B$23*2)>0,1-J632/(Sheet2!B$23*2),0)","v":0.6328125},{"$f":"IF(ABS(J632)<Sheet2!B$24/2, 1, 0)","v":0}]
[118.5,0.40749999999999997,"1.54391942530872E-005-4.07678341681217E-005i",0,"5.55683259675134E-002-0.146730474455359i","-2.56197673553729E-08-2.26540029800383E-08i",null,0,null,118.5,{"$f":"EXP(-((J633)^2/(Sheet2!B$21^2*0.360673760222241)))","v":2.0377205129693061E-2},{"$f":"IF(1-ABS(J633)/Sheet2!B$22 >0, 1-ABS(J633)/Sheet2!B$22,0)","v":0.40749999999999997},{"$f":"IF(1-J633/(Sheet2!B$23*2)>0,1-J633/(Sheet2!B$23*2),0)","v":0.62968749999999996},{"$f":"IF(ABS(J633)<Sheet2!B$24/2, 1, 0)","v":0}]
[119.5,0.40249999999999997,"-3.47313417102386E-004+9.08668745282554E-004i",0,"-0.263557742099913+0.689540544737068i","-2.67513400797585E-06-2.39486682823351E-06i",null,0,null,119.5,{"$f":"EXP(-((J634)^2/(Sheet2!B$21^2*0.360673760222241)))","v":1.9075966969356543E-2},{"$f":"IF(1-ABS(J634)/Sheet2!B$22 >0, 1-ABS(J634)/Sheet2!B$22,0)","v":0.40249999999999997},{"$f":"IF(1-J634/(Sheet2!B$23*2)>0,1-J634/(Sheet2!B$23*2),0)","v":0.62656250000000002},{"$f":"IF(ABS(J634)<Sheet2!B$24/2, 1, 0)","v":0}]
[120.5,0.39749999999999996,"7.15670331852835E-004-1.85530557016683E-003i",0,"0.378330631023684-0.980785280403239i","-7.74448192807477E-06-7.01918927102767E-06i",null,0,null,120.5,{"$f":"EXP(-((J635)^2/(Sheet2!B$21^2*0.360673760222241)))","v":1.7847922940385619E-2},{"$f":"IF(1-ABS(J635)/Sheet2!B$22 >0, 1-ABS(J635)/Sheet2!B$22,0)","v":0.39749999999999996},{"$f":"IF(1-J635/(Sheet2!B$23*2)>0,1-J635/(Sheet2!B$23*2),0)","v":0.62343749999999998},{"$f":"IF(ABS(J635)<Sheet2!B$24/2, 1, 0)","v":0}]
[121.5,0.39249999999999996,"-6.33237022468983E-004+1.62672448147124E-003i",0,"-0.355875546355508+0.914209755703541i","-6.30906909729554E-06-5.78911463613632E-06i",null,0,null,121.5,{"$f":"EXP(-((J636)^2/(Sheet2!B$21^2*0.360673760222241)))","v":1.6689678801036154E-2},{"$f":"IF(1-ABS(J636)/Sheet2!B$22 >0, 1-ABS(J636)/Sheet2!B$22,0)","v":0.39249999999999996},{"$f":"IF(1-J636/(Sheet2!B$23*2)>0,1-J636/(Sheet2!B$23*2),0)","v":0.62031250000000004},{"$f":"IF(ABS(J636)<Sheet2!B$24/2, 1, 0)","v":0}]
[122.5,0.38749999999999996,"2.03906553516751E-004-5.19099387331634E-004i",0,"0.201943830565551-0.51410274419323i","-1.12846374520813E-06-1.04828918721963E-06i",null,0,null,122.5,{"$f":"EXP(-((J637)^2/(Sheet2!B$21^2*0.360673760222241)))","v":1.5597947384334288E-2},{"$f":"IF(1-ABS(J637)/Sheet2!B$22 >0, 1-ABS(J637)/Sheet2!B$22,0)","v":0.38749999999999996},{"$f":"IF(1-J637/(Sheet2!B$23*2)>0,1-J637/(Sheet2!B$23*2),0)","v":0.6171875},{"$f":"IF(ABS(J637)<Sheet2!B$24/2, 1, 0)","v":0}]
[123.5,0.38249999999999995,"-4.25082949387326E-006+1.07248322437788E-005i",0,"2.91576044768199E-002-7.35645635996667E-002i","3.32511799306232E-09+3.12710416648863E-09i",null,0,null,123.5,{"$f":"EXP(-((J638)^2/(Sheet2!B$21^2*0.360673760222241)))","v":1.4569548699736749E-2},{"$f":"IF(1-ABS(J638)/Sheet2!B$22 >0, 1-ABS(J638)/Sheet2!B$22,0)","v":0.38249999999999995},{"$f":"IF(1-J638/(Sheet2!B$23*2)>0,1-J638/(Sheet2!B$23*2),0)","v":0.61406249999999996},{"$f":"IF(ABS(J638)<Sheet2!B$24/2, 1, 0)","v":0}]
[124.5,0.37749999999999995,"3.21816104341809E-004-8.04724948220876E-004i",0,"-0.253699075419607+0.634393284163655i","2.14433827311806E-06+2.04157975330441E-06i",null,0,null,124.5,{"$f":"EXP(-((J639)^2/(Sheet2!B$21^2*0.360673760222241)))","v":1.3601409740945666E-2},{"$f":"IF(1-ABS(J639)/Sheet2!B$22 >0, 1-ABS(J639)/Sheet2!B$22,0)","v":0.37749999999999995},{"$f":"IF(1-J639/(Sheet2!B$23*2)>0,1-J639/(Sheet2!B$23*2),0)","v":0.61093750000000002},{"$f":"IF(ABS(J639)<Sheet2!B$24/2, 1, 0)","v":0}]
[125.5,0.37250000000000005,"-7.56044466908098E-004+1.87384993836332E-003i",0,"0.388855877392462-0.963776065795462i","7.55989693479802E-06+7.28657561883597E-06i",null,0,null,125.5,{"$f":"EXP(-((J640)^2/(Sheet2!B$21^2*0.360673760222241)))","v":1.2690564019712407E-2},{"$f":"IF(1-ABS(J640)/Sheet2!B$22 >0, 1-ABS(J640)/Sheet2!B$22,0)","v":0.37250000000000005},{"$f":"IF(1-J640/(Sheet2!B$23*2)>0,1-J640/(Sheet2!B$23*2),0)","v":0.60781249999999998},{"$f":"IF(ABS(J640)<Sheet2!B$24/2, 1, 0)","v":0}]
[126.5,0.36750000000000005,"7.34398733913582E-004-1.80422880488807E-003i",0,"-0.383248935792153+0.941544065183054i","7.08651695127596E-06+6.91468769396592E-06i",null,0,null,126.5,{"$f":"EXP(-((J641)^2/(Sheet2!B$21^2*0.360673760222241)))","v":1.183415084519005E-2},{"$f":"IF(1-ABS(J641)/Sheet2!B$22 >0, 1-ABS(J641)/Sheet2!B$22,0)","v":0.36750000000000005},{"$f":"IF(1-J641/(Sheet2!B$23*2)>0,1-J641/(Sheet2!B$23*2),0)","v":0.60468750000000004},{"$f":"IF(ABS(J641)<Sheet2!B$24/2, 1, 0)","v":0}]
[127.5,0.36250000000000004,"-2.79520625248601E-004+6.80721974789053E-004i",0,"0.236440531750109-0.575808191417885i","1.62937641946397E-06+1.60950265690751E-06i",null,0,null,127.5,{"$f":"EXP(-((J642)^2/(Sheet2!B$21^2*0.360673760222241)))","v":1.1029414368053745E-2},{"$f":"IF(1-ABS(J642)/Sheet2!B$22 >0, 1-ABS(J642)/Sheet2!B$22,0)","v":0.36250000000000004},{"$f":"IF(1-J642/(Sheet2!B$23*2)>0,1-J642/(Sheet2!B$23*2),0)","v":0.6015625},{"$f":"IF(ABS(J642)<Sheet2!B$24/2, 1, 0)","v":0}]
[128.5,0.35750000000000004,"0",0,"0","0",null,{"$f":"IMABS(G643)","v":0},null,128.5,{"$f":"EXP(-((J643)^2/(Sheet2!B$21^2*0.360673760222241)))","v":1.0273702408208369E-2},{"$f":"IF(1-ABS(J643)/Sheet2!B$22 >0, 1-ABS(J643)/Sheet2!B$22,0)","v":0.35750000000000004},{"$f":"IF(1-J643/(Sheet2!B$23*2)>0,1-J643/(Sheet2!B$23*2),0)","v":0.59843749999999996},{"$f":"IF(ABS(J643)<Sheet2!B$24/2, 1, 0)","v":0}]
[129.5,0.35250000000000004,"-2.89393328105621E-004+6.92639249948621E-004i",0,"-0.240579852901277+0.575808191417847i",{"$f":"IMPRODUCT(C644,E644,D$1027)","v":"-1.64602574755834E-06-0.0000016663504886559i"},null,0,null,129.5,{"$f":"EXP(-((J644)^2/(Sheet2!B$21^2*0.360673760222241)))","v":9.5644650844490253E-3},{"$f":"IF(1-ABS(J644)/Sheet2!B$22 >0, 1-ABS(J644)/Sheet2!B$22,0)","v":0.35250000000000004},{"$f":"IF(1-J644/(Sheet2!B$23*2)>0,1-J644/(Sheet2!B$23*2),0)","v":0.59531250000000002},{"$f":"IF(ABS(J644)<Sheet2!B$24/2, 1, 0)","v":0}]
[{"$f":"A644+1","v":130.5},0.34750000000000003,"7.87196098281269E-004-1.86795805032117E-003i",0,"0.396786113235531-0.941544065183021i","-7.23208168049772E-06-7.41179814472958E-06i",null,0,null,{"$f":"J644+1","v":130.5},{"$f":"EXP(-((J645)^2/(Sheet2!B$21^2*0.360673760222241)))","v":8.899253263938034E-3},{"$f":"IF(1-ABS(J645)/Sheet2!B$22 >0, 1-ABS(J645)/Sheet2!B$22,0)","v":0.34750000000000003},{"$f":"IF(1-J645/(Sheet2!B$23*2)>0,1-J645/(Sheet2!B$23*2),0)","v":0.59218749999999998},{"$f":"IF(ABS(J645)<Sheet2!B$24/2, 1, 0)","v":0}]
[131.5,0.34250000000000003,"-8.39031214083845E-004+1.97401386208885E-003i",0,"-0.409641602888296+0.96377606579544i","-7.79402611209517E-06-8.08638202589546E-06i",null,0,null,131.5,{"$f":"EXP(-((J646)^2/(Sheet2!B$21^2*0.360673760222241)))","v":8.2757168488178847E-3},{"$f":"IF(1-ABS(J646)/Sheet2!B$22 >0, 1-ABS(J646)/Sheet2!B$22,0)","v":0.34250000000000003},{"$f":"IF(1-J646/(Sheet2!B$23*2)>0,1-J646/(Sheet2!B$23*2),0)","v":0.58906250000000004},{"$f":"IF(ABS(J646)<Sheet2!B$24/2, 1, 0)","v":0}]
[132.5,0.33750000000000002,"3.69762982221661E-004-8.62591738527862E-004i",0,"0.271942266748634-0.634393284163645i","-2.23334111176013E-06-2.34575152653827E-06i",null,0,null,132.5,{"$f":"EXP(-((J647)^2/(Sheet2!B$21^2*0.360673760222241)))","v":7.6916029166985631E-3},{"$f":"IF(1-ABS(J647)/Sheet2!B$22 >0, 1-ABS(J647)/Sheet2!B$22,0)","v":0.33750000000000002},{"$f":"IF(1-J647/(Sheet2!B$23*2)>0,1-J647/(Sheet2!B$23*2),0)","v":0.5859375},{"$f":"IF(ABS(J647)<Sheet2!B$24/2, 1, 0)","v":0}]
[133.5,0.33250000000000002,"-5.05686134242082E-006+1.16975305460892E-005i",0,"-3.18020796273297E-002+7.35645635996663E-002i","-3.49852511370393E-09-3.7200579785453E-09i",null,0,null,133.5,{"$f":"EXP(-((J648)^2/(Sheet2!B$21^2*0.360673760222241)))","v":7.1447537311452557E-3},{"$f":"IF(1-ABS(J648)/Sheet2!B$22 >0, 1-ABS(J648)/Sheet2!B$22,0)","v":0.33250000000000002},{"$f":"IF(1-J648/(Sheet2!B$23*2)>0,1-J648/(Sheet2!B$23*2),0)","v":0.58281249999999996},{"$f":"IF(ABS(J648)<Sheet2!B$24/2, 1, 0)","v":0}]
[134.5,0.32750000000000001,"2.5115324077602E-004-5.76108545827542E-004i",0,"-0.224121949294187+0.514102744193224i","1.19945015234417E-06+1.29118570295941E-06i",null,0,null,134.5,{"$f":"EXP(-((J649)^2/(Sheet2!B$21^2*0.360673760222241)))","v":6.6331046376533111E-3},{"$f":"IF(1-ABS(J649)/Sheet2!B$22 >0, 1-ABS(J649)/Sheet2!B$22,0)","v":0.32750000000000001},{"$f":"IF(1-J649/(Sheet2!B$23*2)>0,1-J649/(Sheet2!B$23*2),0)","v":0.57968750000000002},{"$f":"IF(ABS(J649)<Sheet2!B$24/2, 1, 0)","v":0}]
[135.5,0.32250000000000001,"-8.07577857602677E-004+1.83705879030098E-003i",0,"0.40188999927916-0.914209755703535i","6.77449801642143E-06+7.38295555910182E-06i",null,0,null,135.5,{"$f":"EXP(-((J650)^2/(Sheet2!B$21^2*0.360673760222241)))","v":6.1546818599371679E-3},{"$f":"IF(1-ABS(J650)/Sheet2!B$22 >0, 1-ABS(J650)/Sheet2!B$22,0)","v":0.32250000000000001},{"$f":"IF(1-J650/(Sheet2!B$23*2)>0,1-J650/(Sheet2!B$23*2),0)","v":0.57656249999999998},{"$f":"IF(ABS(J650)<Sheet2!B$24/2, 1, 0)","v":0}]
[136.5,0.3175,"9.45047439957217E-004-2.13199286290151E-003i",0,"-0.434752214475653+0.980785280403231i","8.40082875276299E-06+9.26888618392757E-06i",null,0,null,136.5,{"$f":"EXP(-((J651)^2/(Sheet2!B$21^2*0.360673760222241)))","v":5.7076002106825879E-3},{"$f":"IF(1-ABS(J651)/Sheet2!B$22 >0, 1-ABS(J651)/Sheet2!B$22,0)","v":0.3175},{"$f":"IF(1-J651/(Sheet2!B$23*2)>0,1-J651/(Sheet2!B$23*2),0)","v":0.57343750000000004},{"$f":"IF(ABS(J651)<Sheet2!B$24/2, 1, 0)","v":0}]
[137.5,0.3125,"-4.74895850468198E-004+1.06253684116999E-003i",0,"0.308186907725795-0.689540544737069i","2.93152774307977E-06+3.27459943425064E-06i",null,0,null,137.5,{"$f":"EXP(-((J652)^2/(Sheet2!B$21^2*0.360673760222241)))","v":5.2900607302222517E-3},{"$f":"IF(1-ABS(J652)/Sheet2!B$22 >0, 1-ABS(J652)/Sheet2!B$22,0)","v":0.3125},{"$f":"IF(1-J652/(Sheet2!B$23*2)>0,1-J652/(Sheet2!B$23*2),0)","v":0.5703125},{"$f":"IF(ABS(J652)<Sheet2!B$24/2, 1, 0)","v":0}]
[138.5,0.3075,"2.18601499618457E-005-4.85100690118464E-005i",0,"-6.61213278182111E-002+0.146730474455363i","2.83624165009409E-08+3.20755017559167E-08i",null,0,null,138.5,{"$f":"EXP(-((J653)^2/(Sheet2!B$21^2*0.360673760222241)))","v":4.9003482658969127E-3},{"$f":"IF(1-ABS(J653)/Sheet2!B$22 >0, 1-ABS(J653)/Sheet2!B$22,0)","v":0.3075},{"$f":"IF(1-J653/(Sheet2!B$23*2)>0,1-J653/(Sheet2!B$23*2),0)","v":0.56718749999999996},{"$f":"IF(ABS(J653)<Sheet2!B$24/2, 1, 0)","v":0}]
[139.5,0.30249999999999999,"-2.08632575283458E-004+4.59212084151084E-004i",0,"-0.204270690645358+0.449611329654605i","-8.19247177521798E-07-9.38035695823481E-07i",null,0,null,139.5,{"$f":"EXP(-((J654)^2/(Sheet2!B$21^2*0.360673760222241)))","v":4.5368290041626529E-3},{"$f":"IF(1-ABS(J654)/Sheet2!B$22 >0, 1-ABS(J654)/Sheet2!B$22,0)","v":0.30249999999999999},{"$f":"IF(1-J654/(Sheet2!B$23*2)>0,1-J654/(Sheet2!B$23*2),0)","v":0.56406250000000002},{"$f":"IF(ABS(J654)<Sheet2!B$24/2, 1, 0)","v":0}]
[140.5,0.29749999999999999,"8.15876579093603E-004-1.78125890892893E-003i",0,"0.403949645152394-0.881921264348355i","-6.20678527240682E-06-7.19538904186411E-06i",null,0,null,140.5,{"$f":"EXP(-((J655)^2/(Sheet2!B$21^2*0.360673760222241)))","v":4.197947966802262E-3},{"$f":"IF(1-ABS(J655)/Sheet2!B$22 >0, 1-ABS(J655)/Sheet2!B$22,0)","v":0.29749999999999999},{"$f":"IF(1-J655/(Sheet2!B$23*2)>0,1-J655/(Sheet2!B$23*2),0)","v":0.56093749999999998},{"$f":"IF(ABS(J655)<Sheet2!B$24/2, 1, 0)","v":0}]
[141.5,0.29249999999999998,"-1.05009336679806E-003+2.2741573996547E-003i",0,"-0.458277943348526+0.992479534598709i","-8.87910024576681E-06-0.0000104219617596476i",null,0,null,141.5,{"$f":"EXP(-((J656)^2/(Sheet2!B$21^2*0.360673760222241)))","v":3.8822264818993415E-3},{"$f":"IF(1-ABS(J656)/Sheet2!B$22 >0, 1-ABS(J656)/Sheet2!B$22,0)","v":0.29249999999999998},{"$f":"IF(1-J656/(Sheet2!B$23*2)>0,1-J656/(Sheet2!B$23*2),0)","v":0.55781250000000004},{"$f":"IF(ABS(J656)<Sheet2!B$24/2, 1, 0)","v":0}]
[142.5,0.28749999999999998,"5.94767560644523E-004-1.27775680011928E-003i",0,"0.344896378829094-0.740951125354957i","-0.0000037081108053351-4.40693693384786E-06i",null,0,null,142.5,{"$f":"EXP(-((J657)^2/(Sheet2!B$21^2*0.360673760222241)))","v":3.5882596395402496E-3},{"$f":"IF(1-ABS(J657)/Sheet2!B$22 >0, 1-ABS(J657)/Sheet2!B$22,0)","v":0.28749999999999998},{"$f":"IF(1-J657/(Sheet2!B$23*2)>0,1-J657/(Sheet2!B$23*2),0)","v":0.5546875},{"$f":"IF(ABS(J657)<Sheet2!B$24/2, 1, 0)","v":0}]
[143.5,0.28249999999999997,"-5.28451595778392E-005+1.12624388186214E-004i",0,"-0.102805797091834+0.219101240156867i","-9.62167718533148E-08-1.1578439999628E-07i",null,0,null,143.5,{"$f":"EXP(-((J658)^2/(Sheet2!B$21^2*0.360673760222241)))","v":3.314713741524459E-3},{"$f":"IF(1-ABS(J658)/Sheet2!B$22 >0, 1-ABS(J658)/Sheet2!B$22,0)","v":0.28249999999999997},{"$f":"IF(1-J658/(Sheet2!B$23*2)>0,1-J658/(Sheet2!B$23*2),0)","v":0.55156249999999996},{"$f":"IF(ABS(J658)<Sheet2!B$24/2, 1, 0)","v":0}]
[144.5,0.27749999999999997,"1.63797368813799E-004-3.46320438990649E-004i",0,"-0.180995783825874+0.382683432365089i","5.14422305670283E-07+6.26825393100342E-07i",null,0,null,144.5,{"$f":"EXP(-((J659)^2/(Sheet2!B$21^2*0.360673760222241)))","v":3.0603237536908448E-3},{"$f":"IF(1-ABS(J659)/Sheet2!B$22 >0, 1-ABS(J659)/Sheet2!B$22,0)","v":0.27749999999999997},{"$f":"IF(1-J659/(Sheet2!B$23*2)>0,1-J659/(Sheet2!B$23*2),0)","v":0.54843750000000002},{"$f":"IF(ABS(J659)<Sheet2!B$24/2, 1, 0)","v":0}]
[145.5,0.27249999999999996,"-8.11087709256851E-004+1.70137620073312E-003i",0,"0.402762388824668-0.844853565249708i","5.55369062846881E-06+6.85250342896289E-06i",null,0,null,145.5,{"$f":"EXP(-((J660)^2/(Sheet2!B$21^2*0.360673760222241)))","v":2.8238907688083181E-3},{"$f":"IF(1-ABS(J660)/Sheet2!B$22 >0, 1-ABS(J660)/Sheet2!B$22,0)","v":0.27249999999999996},{"$f":"IF(1-J660/(Sheet2!B$23*2)>0,1-J660/(Sheet2!B$23*2),0)","v":0.54531249999999998},{"$f":"IF(ABS(J660)<Sheet2!B$24/2, 1, 0)","v":0}]
[146.5,0.26749999999999996,"1.15159899221438E-003-2.39669184529364E-003i",0,"-0.479916449439897+0.998795456205175i","9.20566812740598E-06+0.0000115021184079453i",null,0,null,146.5,{"$f":"EXP(-((J661)^2/(Sheet2!B$21^2*0.360673760222241)))","v":2.604279487336133E-3},{"$f":"IF(1-ABS(J661)/Sheet2!B$22 >0, 1-ABS(J661)/Sheet2!B$22,0)","v":0.26749999999999996},{"$f":"IF(1-J661/(Sheet2!B$23*2)>0,1-J661/(Sheet2!B$23*2),0)","v":0.54218750000000004},{"$f":"IF(ABS(J661)<Sheet2!B$24/2, 1, 0)","v":0}]
[147.5,0.26249999999999996,"-7.2877265050534E-004+1.50486707073481E-003i",0,"0.381778116320532-0.788346427626611i","0.0000045406356476543+5.74525315577897E-06i",null,0,null,147.5,{"$f":"EXP(-((J662)^2/(Sheet2!B$21^2*0.360673760222241)))","v":2.40041572273389E-3},{"$f":"IF(1-ABS(J662)/Sheet2!B$22 >0, 1-ABS(J662)/Sheet2!B$22,0)","v":0.26249999999999996},{"$f":"IF(1-J662/(Sheet2!B$23*2)>0,1-J662/(Sheet2!B$23*2),0)","v":0.5390625},{"$f":"IF(ABS(J662)<Sheet2!B$24/2, 1, 0)","v":0}]
[148.5,0.25749999999999995,"1.00365126572478E-004-2.05636655855187E-004i",0,"-0.141679304468058+0.290284677254465i","2.27367544754866E-07+2.91344583746978E-07i",null,0,null,148.5,{"$f":"EXP(-((J663)^2/(Sheet2!B$21^2*0.360673760222241)))","v":2.2112839373956109E-3},{"$f":"IF(1-ABS(J663)/Sheet2!B$22 >0, 1-ABS(J663)/Sheet2!B$22,0)","v":0.25749999999999995},{"$f":"IF(1-J663/(Sheet2!B$23*2)>0,1-J663/(Sheet2!B$23*2),0)","v":0.53593749999999996},{"$f":"IF(ABS(J663)<Sheet2!B$24/2, 1, 0)","v":0}]
[149.5,0.25249999999999995,"-1.19030284338544E-004+2.41993096407305E-004i",0,"-0.154292115378126+0.313681740398889i","-2.87716906404529E-07-3.73376267515375E-07i",null,0,null,149.5,{"$f":"EXP(-((J664)^2/(Sheet2!B$21^2*0.360673760222241)))","v":2.0359248146973627E-3},{"$f":"IF(1-ABS(J664)/Sheet2!B$22 >0, 1-ABS(J664)/Sheet2!B$22,0)","v":0.25249999999999995},{"$f":"IF(1-J664/(Sheet2!B$23*2)>0,1-J664/(Sheet2!B$23*2),0)","v":0.53281250000000002},{"$f":"IF(ABS(J664)<Sheet2!B$24/2, 1, 0)","v":0}]
[150.5,0.24750000000000005,"7.9258729073652E-004-1.59895531255764E-003i",0,"0.398142509847189-0.803207531480644i","-4.84365128170231E-06-6.36612081275304E-06i",null,0,null,150.5,{"$f":"EXP(-((J665)^2/(Sheet2!B$21^2*0.360673760222241)))","v":1.8734328720852508E-3},{"$f":"IF(1-ABS(J665)/Sheet2!B$22 >0, 1-ABS(J665)/Sheet2!B$22,0)","v":0.24750000000000005},{"$f":"IF(1-J665/(Sheet2!B$23*2)>0,1-J665/(Sheet2!B$23*2),0)","v":0.52968749999999998},{"$f":"IF(ABS(J665)<Sheet2!B$24/2, 1, 0)","v":0}]
[151.5,0.24250000000000005,"-1.2468414148103E-003+2.49608741560007E-003i",0,"-0.499367883391047+0.999698818696204i","-9.36351541249866E-06-0.000012464658894873i",null,0,null,151.5,{"$f":"EXP(-((J666)^2/(Sheet2!B$21^2*0.360673760222241)))","v":1.7229541195908664E-3},{"$f":"IF(1-ABS(J666)/Sheet2!B$22 >0, 1-ABS(J666)/Sheet2!B$22,0)","v":0.24250000000000005},{"$f":"IF(1-J666/(Sheet2!B$23*2)>0,1-J666/(Sheet2!B$23*2),0)","v":0.52656250000000004},{"$f":"IF(ABS(J666)<Sheet2!B$24/2, 1, 0)","v":0}]
[152.5,0.23750000000000004,"8.75822706380514E-004-1.73996088016459E-003i",0,"0.418526631501619-0.831469612302549i","-5.40084735678993E-06-7.28219966119927E-06i",null,0,null,152.5,{"$f":"EXP(-((J667)^2/(Sheet2!B$21^2*0.360673760222241)))","v":1.5836837676455023E-3},{"$f":"IF(1-ABS(J667)/Sheet2!B$22 >0, 1-ABS(J667)/Sheet2!B$22,0)","v":0.23750000000000004},{"$f":"IF(1-J667/(Sheet2!B$23*2)>0,1-J667/(Sheet2!B$23*2),0)","v":0.5234375},{"$f":"IF(ABS(J667)<Sheet2!B$24/2, 1, 0)","v":0}]
[153.5,0.23250000000000004,"-1.66607876993387E-004+3.28479767419395E-004i",0,"-0.182541982564361+0.359895036534992i","-4.39026528595984E-07-5.99613479772845E-07i",null,0,null,153.5,{"$f":"EXP(-((J668)^2/(Sheet2!B$21^2*0.360673760222241)))","v":1.4548639875729891E-3},{"$f":"IF(1-ABS(J668)/Sheet2!B$22 >0, 1-ABS(J668)/Sheet2!B$22,0)","v":0.23250000000000004},{"$f":"IF(1-J668/(Sheet2!B$23*2)>0,1-J668/(Sheet2!B$23*2),0)","v":0.52031249999999996},{"$f":"IF(ABS(J668)<Sheet2!B$24/2, 1, 0)","v":0}]
[154.5,0.22750000000000004,"7.71038771833857E-005-1.50866897724389E-004i",0,"-0.124180414867736+0.242980179903262i","1.35414372469876E-07+1.87347139492405E-07i",null,0,null,154.5,{"$f":"EXP(-((J669)^2/(Sheet2!B$21^2*0.360673760222241)))","v":1.3357817276744661E-3},{"$f":"IF(1-ABS(J669)/Sheet2!B$22 >0, 1-ABS(J669)/Sheet2!B$22,0)","v":0.22750000000000004},{"$f":"IF(1-J669/(Sheet2!B$23*2)>0,1-J669/(Sheet2!B$23*2),0)","v":0.51718750000000002},{"$f":"IF(ABS(J669)<Sheet2!B$24/2, 1, 0)","v":0}]
[155.5,0.22250000000000003,"-7.60199209805552E-004+1.47626522053115E-003i",0,"0.389922866681613-0.757208846506486i","4.10711014819779E-06+5.75629566771937E-06i",null,0,null,155.5,{"$f":"EXP(-((J670)^2/(Sheet2!B$21^2*0.360673760222241)))","v":1.2257665873768692E-3},{"$f":"IF(1-ABS(J670)/Sheet2!B$22 >0, 1-ABS(J670)/Sheet2!B$22,0)","v":0.22250000000000003},{"$f":"IF(1-J670/(Sheet2!B$23*2)>0,1-J670/(Sheet2!B$23*2),0)","v":0.51406249999999998},{"$f":"IF(ABS(J670)<Sheet2!B$24/2, 1, 0)","v":0}]
[156.5,0.21750000000000003,"1.33301897890069E-003-2.56925299061054E-003i",0,"-0.516336901431835+0.995184726672201i","9.34297223048537E-06+0.0000132660012816623i",null,0,null,156.5,{"$f":"EXP(-((J671)^2/(Sheet2!B$21^2*0.360673760222241)))","v":1.1241887515005872E-3},{"$f":"IF(1-ABS(J671)/Sheet2!B$22 >0, 1-ABS(J671)/Sheet2!B$22,0)","v":0.21750000000000003},{"$f":"IF(1-J671/(Sheet2!B$23*2)>0,1-J671/(Sheet2!B$23*2),0)","v":0.51093750000000004},{"$f":"IF(ABS(J671)<Sheet2!B$24/2, 1, 0)","v":0}]
[157.5,0.21250000000000002,"-1.03432966729085E-003+1.97868730958501E-003i",0,"0.454825168013496-0.87008699110872i","6.25595461417463E-06+8.99956788027877E-06i",null,0,null,157.5,{"$f":"EXP(-((J672)^2/(Sheet2!B$21^2*0.360673760222241)))","v":1.0304569863105353E-3},{"$f":"IF(1-ABS(J672)/Sheet2!B$22 >0, 1-ABS(J672)/Sheet2!B$22,0)","v":0.21250000000000002},{"$f":"IF(1-J672/(Sheet2!B$23*2)>0,1-J672/(Sheet2!B$23*2),0)","v":0.5078125},{"$f":"IF(ABS(J672)<Sheet2!B$24/2, 1, 0)","v":0}]
[158.5,0.20750000000000002,"2.53509836990822E-004-4.81364983492625E-004i",0,"-0.225170973704251+0.427555093430293i","7.43634968262157E-07+1.08389422040137E-06i",null,0,null,158.5,{"$f":"EXP(-((J673)^2/(Sheet2!B$21^2*0.360673760222241)))","v":9.4401669864859709E-4},{"$f":"IF(1-ABS(J673)/Sheet2!B$22 >0, 1-ABS(J673)/Sheet2!B$22,0)","v":0.20750000000000002},{"$f":"IF(1-J673/(Sheet2!B$23*2)>0,1-J673/(Sheet2!B$23*2),0)","v":0.50468749999999996},{"$f":"IF(ABS(J673)<Sheet2!B$24/2, 1, 0)","v":0}]
[159.5,0.20250000000000001,"-4.11395055978598E-005+7.75378658673E-005i",0,"-9.07077787234268E-002+0.17096188876029i","-4.76217341427689E-08-7.03328757972622E-08i",null,0,null,159.5,{"$f":"EXP(-((J674)^2/(Sheet2!B$21^2*0.360673760222241)))","v":8.643480591037549E-4},{"$f":"IF(1-ABS(J674)/Sheet2!B$22 >0, 1-ABS(J674)/Sheet2!B$22,0)","v":0.20250000000000001},{"$f":"IF(1-J674/(Sheet2!B$23*2)>0,1-J674/(Sheet2!B$23*2),0)","v":0.50156250000000002},{"$f":"IF(ABS(J674)<Sheet2!B$24/2, 1, 0)","v":0}]
[160.5,0.19750000000000001,"7.14255386138326E-004-1.33627783987662E-003i",0,"0.377956448850527-0.707106781186547i","-3.37466846404433E-06-5.05054827037423E-06i",null,0,null,160.5,{"$f":"EXP(-((J675)^2/(Sheet2!B$21^2*0.360673760222241)))","v":7.9096418985883537E-4},{"$f":"IF(1-ABS(J675)/Sheet2!B$22 >0, 1-ABS(J675)/Sheet2!B$22,0)","v":0.19750000000000001},{"$f":"IF(1-J675/(Sheet2!B$23*2)>0,1-J675/(Sheet2!B$23*2),0)","v":0.49843749999999998},{"$f":"IF(ABS(J675)<Sheet2!B$24/2, 1, 0)","v":0}]
[161.5,0.1925,"-1.40733523566718E-003+2.61361979567338E-003i",0,"-0.530534680425202+0.98527764238894i","-9.14250500438159E-06-0.000013866159430498i",null,0,null,161.5,{"$f":"EXP(-((J676)^2/(Sheet2!B$21^2*0.360673760222241)))","v":7.2340941755914801E-4},{"$f":"IF(1-ABS(J676)/Sheet2!B$22 >0, 1-ABS(J676)/Sheet2!B$22,0)","v":0.1925},{"$f":"IF(1-J676/(Sheet2!B$23*2)>0,1-J676/(Sheet2!B$23*2),0)","v":0.49531250000000004},{"$f":"IF(ABS(J676)<Sheet2!B$24/2, 1, 0)","v":0}]
[162.5,0.1875,"1.20220308182515E-003-2.2163441988623E-003i",0,"0.490347444537777-0.903989293123444i","-7.07027108329687E-06-0.000010867787141291i",null,0,null,162.5,{"$f":"EXP(-((J677)^2/(Sheet2!B$21^2*0.360673760222241)))","v":6.6125759127778189E-4},{"$f":"IF(1-ABS(J677)/Sheet2!B$22 >0, 1-ABS(J677)/Sheet2!B$22,0)","v":0.1875},{"$f":"IF(1-J677/(Sheet2!B$23*2)>0,1-J677/(Sheet2!B$23*2),0)","v":0.4921875},{"$f":"IF(ABS(J677)<Sheet2!B$24/2, 1, 0)","v":0}]
[163.5,0.1825,"-3.62669714862574E-004+6.63739819536756E-004i",0,"-0.269321263498929+0.492898192229785i","-1.14740745660503E-06-1.78759246832222E-06i",null,0,null,163.5,{"$f":"EXP(-((J678)^2/(Sheet2!B$21^2*0.360673760222241)))","v":6.0411046540435746E-4},{"$f":"IF(1-ABS(J678)/Sheet2!B$22 >0, 1-ABS(J678)/Sheet2!B$22,0)","v":0.1825},{"$f":"IF(1-J678/(Sheet2!B$23*2)>0,1-J678/(Sheet2!B$23*2),0)","v":0.48906249999999996},{"$f":"IF(ABS(J678)<Sheet2!B$24/2, 1, 0)","v":0}]
[164.5,0.17749999999999999,"1.45519612374371E-005-2.64391686115202E-005i",0,"-5.39480513781517E-002+9.80171403295605E-002i","9.03220873751079E-09+1.42634162666505E-08i",null,0,null,164.5,{"$f":"EXP(-((J679)^2/(Sheet2!B$21^2*0.360673760222241)))","v":5.5159614705779531E-4},{"$f":"IF(1-ABS(J679)/Sheet2!B$22 >0, 1-ABS(J679)/Sheet2!B$22,0)","v":0.17749999999999999},{"$f":"IF(1-J679/(Sheet2!B$23*2)>0,1-J679/(Sheet2!B$23*2),0)","v":0.48593750000000002},{"$f":"IF(ABS(J679)<Sheet2!B$24/2, 1, 0)","v":0}]
[165.5,0.17249999999999999,"-6.55646632682271E-004+1.18262767935745E-003i",0,"0.362117835153974-0.653172842953778i","2.67519472114419E-06+4.28250575042119E-06i",null,0,null,165.5,{"$f":"EXP(-((J680)^2/(Sheet2!B$21^2*0.360673760222241)))","v":5.0336760741848292E-4},{"$f":"IF(1-ABS(J680)/Sheet2!B$22 >0, 1-ABS(J680)/Sheet2!B$22,0)","v":0.17249999999999999},{"$f":"IF(1-J680/(Sheet2!B$23*2)>0,1-J680/(Sheet2!B$23*2),0)","v":0.48281249999999998},{"$f":"IF(ABS(J680)<Sheet2!B$24/2, 1, 0)","v":0}]
[166.5,0.16749999999999998,"1.46709110592561E-003-2.62723711766583E-003i",0,"-0.54168092193219+0.970031253194546i","8.76903425436156E-06+0.0000142312422403164i",null,0,null,166.5,{"$f":"EXP(-((J681)^2/(Sheet2!B$21^2*0.360673760222241)))","v":4.5910125619018556E-4},{"$f":"IF(1-ABS(J681)/Sheet2!B$22 >0, 1-ABS(J681)/Sheet2!B$22,0)","v":0.16749999999999998},{"$f":"IF(1-J681/(Sheet2!B$23*2)>0,1-J681/(Sheet2!B$23*2),0)","v":0.47968750000000004},{"$f":"IF(ABS(J681)<Sheet2!B$24/2, 1, 0)","v":0}]
[167.5,0.16249999999999998,"-1.37686252469973E-003+2.44798404908706E-003i",0,"0.524759473416575-0.932992798834743i","7.80714918016048E-06+0.0000128460282053069i",null,0,null,167.5,{"$f":"EXP(-((J682)^2/(Sheet2!B$21^2*0.360673760222241)))","v":4.1849557823637839E-4},{"$f":"IF(1-ABS(J682)/Sheet2!B$22 >0, 1-ABS(J682)/Sheet2!B$22,0)","v":0.16249999999999998},{"$f":"IF(1-J682/(Sheet2!B$23*2)>0,1-J682/(Sheet2!B$23*2),0)","v":0.4765625},{"$f":"IF(ABS(J682)<Sheet2!B$24/2, 1, 0)","v":0}]
[168.5,0.15749999999999997,"4.95264319624455E-004-8.74263790086573E-004i",0,"-0.314726649530869+0.555570233019603i","1.64921028815704E-06+0.0000027515411346008i",null,0,null,168.5,{"$f":"EXP(-((J683)^2/(Sheet2!B$21^2*0.360673760222241)))","v":3.8126983128842302E-4},{"$f":"IF(1-ABS(J683)/Sheet2!B$22 >0, 1-ABS(J683)/Sheet2!B$22,0)","v":0.15749999999999997},{"$f":"IF(1-J683/(Sheet2!B$23*2)>0,1-J683/(Sheet2!B$23*2),0)","v":0.47343749999999996},{"$f":"IF(ABS(J683)<Sheet2!B$24/2, 1, 0)","v":0}]
[169.5,0.15249999999999997,"-9.80288613826454E-007+1.71813894063327E-006i",0,"-1.40020613806924E-002+2.45412285229103E-002i","-1.42195895173001E-10-2.40574868988134E-10i",null,0,null,169.5,{"$f":"EXP(-((J684)^2/(Sheet2!B$21^2*0.360673760222241)))","v":3.4716280349332025E-4},{"$f":"IF(1-ABS(J684)/Sheet2!B$22 >0, 1-ABS(J684)/Sheet2!B$22,0)","v":0.15249999999999997},{"$f":"IF(1-J684/(Sheet2!B$23*2)>0,1-J684/(Sheet2!B$23*2),0)","v":0.47031250000000002},{"$f":"IF(ABS(J684)<Sheet2!B$24/2, 1, 0)","v":0}]
[170.5,0.14749999999999996,"5.85862023940541E-004-1.01955291109004E-003i",0,"0.342304549762564-0.595699304492432i","-0.0000020340186185081-3.48997600189848E-06i",null,0,null,170.5,{"$f":"EXP(-((J685)^2/(Sheet2!B$21^2*0.360673760222241)))","v":3.1593162945568916E-4},{"$f":"IF(1-ABS(J685)/Sheet2!B$22 >0, 1-ABS(J685)/Sheet2!B$22,0)","v":0.14749999999999996},{"$f":"IF(1-J685/(Sheet2!B$23*2)>0,1-J685/(Sheet2!B$23*2),0)","v":0.46718749999999998},{"$f":"IF(ABS(J685)<Sheet2!B$24/2, 1, 0)","v":0}]
[171.5,0.14249999999999996,"-1.50978330921974E-003+2.60885637496921E-003i",0,"-0.549505834222114+0.949528180593036i","-0.0000082377395516282-0.0000143358179869314i",null,0,null,171.5,{"$f":"EXP(-((J686)^2/(Sheet2!B$21^2*0.360673760222241)))","v":2.8735066333123745E-4},{"$f":"IF(1-ABS(J686)/Sheet2!B$22 >0, 1-ABS(J686)/Sheet2!B$22,0)","v":0.14249999999999996},{"$f":"IF(1-J686/(Sheet2!B$23*2)>0,1-J686/(Sheet2!B$23*2),0)","v":0.46406250000000004},{"$f":"IF(ABS(J686)<Sheet2!B$24/2, 1, 0)","v":0}]
[172.5,0.13749999999999996,"1.55526605248198E-003-2.66853073533267E-003i",0,"0.557721445254208-0.956940335732209i","-8.43109733617953E-06-0.0000148829681841501i",null,0,null,172.5,{"$f":"EXP(-((J687)^2/(Sheet2!B$21^2*0.360673760222241)))","v":2.6121040744635774E-4},{"$f":"IF(1-ABS(J687)/Sheet2!B$22 >0, 1-ABS(J687)/Sheet2!B$22,0)","v":0.13749999999999996},{"$f":"IF(1-J687/(Sheet2!B$23*2)>0,1-J687/(Sheet2!B$23*2),0)","v":0.4609375},{"$f":"IF(ABS(J687)<Sheet2!B$24/2, 1, 0)","v":0}]
[173.5,0.13249999999999995,"-6.51969083070312E-004+1.11080322061758E-003i",0,"-0.361100839951936+0.615231590580627i","-2.23987324361627E-06-4.01111975986532E-06i",null,0,null,173.5,{"$f":"EXP(-((J688)^2/(Sheet2!B$21^2*0.360673760222241)))","v":2.3731649484973237E-4},{"$f":"IF(1-ABS(J688)/Sheet2!B$22 >0, 1-ABS(J688)/Sheet2!B$22,0)","v":0.13249999999999995},{"$f":"IF(1-J688/(Sheet2!B$23*2)>0,1-J688/(Sheet2!B$23*2),0)","v":0.45781249999999996},{"$f":"IF(ABS(J688)<Sheet2!B$24/2, 1, 0)","v":0}]
[174.5,0.12749999999999995,"4.2056638273418E-006-7.11537434887029E-006i",0,"2.90022889737014E-002-4.9067674327417E-002i","-1.13580496810607E-09-2.06362143016302E-09i",null,0,null,174.5,{"$f":"EXP(-((J689)^2/(Sheet2!B$21^2*0.360673760222241)))","v":2.1548872414594279E-4},{"$f":"IF(1-ABS(J689)/Sheet2!B$22 >0, 1-ABS(J689)/Sheet2!B$22,0)","v":0.12749999999999995},{"$f":"IF(1-J689/(Sheet2!B$23*2)>0,1-J689/(Sheet2!B$23*2),0)","v":0.45468750000000002},{"$f":"IF(ABS(J689)<Sheet2!B$24/2, 1, 0)","v":0}]
[175.5,0.12250000000000005,"-5.0701478197835E-004+8.51818685955562E-004i",0,"0.318438308618843-0.5349976198871i","1.47134019971823E-06+2.71251701605804E-06i",null,0,null,175.5,{"$f":"EXP(-((J690)^2/(Sheet2!B$21^2*0.360673760222241)))","v":1.9556014491729865E-4},{"$f":"IF(1-ABS(J690)/Sheet2!B$22 >0, 1-ABS(J690)/Sheet2!B$22,0)","v":0.12250000000000005},{"$f":"IF(1-J690/(Sheet2!B$23*2)>0,1-J690/(Sheet2!B$23*2),0)","v":0.45156249999999998},{"$f":"IF(ABS(J690)<Sheet2!B$24/2, 1, 0)","v":0}]
[176.5,0.11750000000000005,"1.53320683765405E-003-2.55800106993724E-003i",0,"-0.5537520812881+0.923879532511286i","7.57134177630455E-06+0.0000141649841641493i",null,0,null,176.5,{"$f":"EXP(-((J691)^2/(Sheet2!B$21^2*0.360673760222241)))","v":1.7737619200740005E-4},{"$f":"IF(1-ABS(J691)/Sheet2!B$22 >0, 1-ABS(J691)/Sheet2!B$22,0)","v":0.11750000000000005},{"$f":"IF(1-J691/(Sheet2!B$23*2)>0,1-J691/(Sheet2!B$23*2),0)","v":0.44843750000000004},{"$f":"IF(ABS(J691)<Sheet2!B$24/2, 1, 0)","v":0}]
[177.5,0.11250000000000004,"-1.73395521222435E-003+2.87290452279191E-003i",0,"0.588889669161253-0.975702130038531i","8.90995375509084E-06+0.0000169182379395875i",null,0,null,177.5,{"$f":"EXP(-((J692)^2/(Sheet2!B$21^2*0.360673760222241)))","v":1.6079386691756646E-4},{"$f":"IF(1-ABS(J692)/Sheet2!B$22 >0, 1-ABS(J692)/Sheet2!B$22,0)","v":0.11250000000000004},{"$f":"IF(1-J692/(Sheet2!B$23*2)>0,1-J692/(Sheet2!B$23*2),0)","v":0.4453125},{"$f":"IF(ABS(J692)<Sheet2!B$24/2, 1, 0)","v":0}]
[178.5,0.10750000000000004,"8.32885894294388E-004-1.37044591348386E-003i",0,"-0.408138676014583+0.671558954847022i","0.0000029020113958253+5.59331980679033E-06i",null,0,null,178.5,{"$f":"EXP(-((J693)^2/(Sheet2!B$21^2*0.360673760222241)))","v":1.4568096455433048E-4},{"$f":"IF(1-ABS(J693)/Sheet2!B$22 >0, 1-ABS(J693)/Sheet2!B$22,0)","v":0.10750000000000004},{"$f":"IF(1-J693/(Sheet2!B$23*2)>0,1-J693/(Sheet2!B$23*2),0)","v":0.44218749999999996},{"$f":"IF(ABS(J693)<Sheet2!B$24/2, 1, 0)","v":0}]
[179.5,0.10250000000000004,"-2.80576012117021E-005+4.58489679995393E-005i",0,"7.49100810476047E-002-0.122410675199222i","1.75530297462058E-08+3.43454990879474E-08i",null,0,null,179.5,{"$f":"EXP(-((J694)^2/(Sheet2!B$21^2*0.360673760222241)))","v":1.3191534356188323E-4},{"$f":"IF(1-ABS(J694)/Sheet2!B$22 >0, 1-ABS(J694)/Sheet2!B$22,0)","v":0.10250000000000004},{"$f":"IF(1-J694/(Sheet2!B$23*2)>0,1-J694/(Sheet2!B$23*2),0)","v":0.43906250000000002},{"$f":"IF(ABS(J694)<Sheet2!B$24/2, 1, 0)","v":0}]
[180.5,9.7500000000000031E-2,"4.21852919306804E-004-6.84623974579072E-004i",0,"0.290466149252274-0.471396736825994i","-0.0000010009775727377-1.98860089581758E-06i",null,0,null,180.5,{"$f":"EXP(-((J695)^2/(Sheet2!B$21^2*0.360673760222241)))","v":1.1938423847692304E-4},{"$f":"IF(1-ABS(J695)/Sheet2!B$22 >0, 1-ABS(J695)/Sheet2!B$22,0)","v":9.7500000000000031E-2},{"$f":"IF(1-J695/(Sheet2!B$23*2)>0,1-J695/(Sheet2!B$23*2),0)","v":0.43593749999999998},{"$f":"IF(ABS(J695)<Sheet2!B$24/2, 1, 0)","v":0}]
[181.5,9.2500000000000027E-2,"-1.53555900833272E-003+2.47502042496683E-003i",0,"-0.554176688129994+0.893224301195513i","-6.79888691934807E-06-0.0000137159862216234i",null,0,null,181.5,{"$f":"EXP(-((J696)^2/(Sheet2!B$21^2*0.360673760222241)))","v":1.079836119540257E-4},{"$f":"IF(1-ABS(J696)/Sheet2!B$22 >0, 1-ABS(J696)/Sheet2!B$22,0)","v":9.2500000000000027E-2},{"$f":"IF(1-J696/(Sheet2!B$23*2)>0,1-J696/(Sheet2!B$23*2),0)","v":0.43281250000000004},{"$f":"IF(ABS(J696)<Sheet2!B$24/2, 1, 0)","v":0}]
[182.5,8.7500000000000022E-2,"1.90911672133016E-003-3.05615261300372E-003i",0,"0.617918557955853-0.989176509964781i","-9.21697862118514E-06-0.0000188845341552052i",null,0,null,182.5,{"$f":"EXP(-((J697)^2/(Sheet2!B$21^2*0.360673760222241)))","v":9.7617545326703618E-5},{"$f":"IF(1-ABS(J697)/Sheet2!B$22 >0, 1-ABS(J697)/Sheet2!B$22,0)","v":8.7500000000000022E-2},{"$f":"IF(1-J697/(Sheet2!B$23*2)>0,1-J697/(Sheet2!B$23*2),0)","v":0.4296875},{"$f":"IF(ABS(J697)<Sheet2!B$24/2, 1, 0)","v":0}]
[183.5,8.2500000000000018E-2,"-1.03748083550412E-003+1.64953600086506E-003i",0,"-0.455517471785031+0.724247082951469i","-3.61040494817847E-06-7.51392468732177E-06i",null,0,null,183.5,{"$f":"EXP(-((J698)^2/(Sheet2!B$21^2*0.360673760222241)))","v":8.8197665792105729E-5},{"$f":"IF(1-ABS(J698)/Sheet2!B$22 >0, 1-ABS(J698)/Sheet2!B$22,0)","v":8.2500000000000018E-2},{"$f":"IF(1-J698/(Sheet2!B$23*2)>0,1-J698/(Sheet2!B$23*2),0)","v":0.42656249999999996},{"$f":"IF(ABS(J698)<Sheet2!B$24/2, 1, 0)","v":0}]
[184.5,7.7500000000000013E-2,"7.63101440004121E-005-1.20506886062012E-004i",0,"0.123539583940549-0.195090322016134i","-7.0412018833726E-08-1.4887370566105E-07i",null,0,null,184.5,{"$f":"EXP(-((J699)^2/(Sheet2!B$21^2*0.360673760222241)))","v":7.9642608535123558E-5},{"$f":"IF(1-ABS(J699)/Sheet2!B$22 >0, 1-ABS(J699)/Sheet2!B$22,0)","v":7.7500000000000013E-2},{"$f":"IF(1-J699/(Sheet2!B$23*2)>0,1-J699/(Sheet2!B$23*2),0)","v":0.42343750000000002},{"$f":"IF(ABS(J699)<Sheet2!B$24/2, 1, 0)","v":0}]
[185.5,7.2500000000000009E-2,"-3.33753162806392E-004+5.23493642786064E-004i",0,"0.25836143783732-0.405241314004984i","6.29561523252339E-07+1.35250570248943E-06i",null,0,null,185.5,{"$f":"EXP(-((J700)^2/(Sheet2!B$21^2*0.360673760222241)))","v":7.1877512139954485E-5},{"$f":"IF(1-ABS(J700)/Sheet2!B$22 >0, 1-ABS(J700)/Sheet2!B$22,0)","v":7.2500000000000009E-2},{"$f":"IF(1-J700/(Sheet2!B$23*2)>0,1-J700/(Sheet2!B$23*2),0)","v":0.42031249999999998},{"$f":"IF(ABS(J700)<Sheet2!B$24/2, 1, 0)","v":0}]
[186.5,6.7500000000000004E-2,"1.51554243354156E-003-2.36112483322727E-003i",0,"-0.550552891835454+0.85772861000027i","5.95409025877749E-06+0.000012999241049179i",null,0,null,186.5,{"$f":"EXP(-((J701)^2/(Sheet2!B$21^2*0.360673760222241)))","v":6.4833545673313346E-5},{"$f":"IF(1-ABS(J701)/Sheet2!B$22 >0, 1-ABS(J701)/Sheet2!B$22,0)","v":6.7500000000000004E-2},{"$f":"IF(1-J701/(Sheet2!B$23*2)>0,1-J701/(Sheet2!B$23*2),0)","v":0.41718750000000004},{"$f":"IF(ABS(J701)<Sheet2!B$24/2, 1, 0)","v":0}]
[187.5,6.25E-2,"-2.07666051914585E-003+3.2135822394384E-003i",0,"0.644462647349828-0.997290456678694i","0.0000093327238166423+0.0000207103371750522i",null,0,null,187.5,{"$f":"EXP(-((J702)^2/(Sheet2!B$21^2*0.360673760222241)))","v":5.8447465862950285E-5},{"$f":"IF(1-ABS(J702)/Sheet2!B$22 >0, 1-ABS(J702)/Sheet2!B$22,0)","v":6.25E-2},{"$f":"IF(1-J702/(Sheet2!B$23*2)>0,1-J702/(Sheet2!B$23*2),0)","v":0.4140625},{"$f":"IF(ABS(J702)<Sheet2!B$24/2, 1, 0)","v":0}]
[188.5,5.7499999999999996E-2,"1.26453432318539E-003-1.94372884650565E-003i",0,"-0.502898463546392+0.773010453362746i","4.33295174309985E-06+9.77498250458392E-06i",null,0,null,188.5,{"$f":"EXP(-((J703)^2/(Sheet2!B$21^2*0.360673760222241)))","v":5.2661202837420257E-5},{"$f":"IF(1-ABS(J703)/Sheet2!B$22 >0, 1-ABS(J703)/Sheet2!B$22,0)","v":5.7499999999999996E-2},{"$f":"IF(1-J703/(Sheet2!B$23*2)>0,1-J703/(Sheet2!B$23*2),0)","v":0.41093749999999996},{"$f":"IF(ABS(J703)<Sheet2!B$24/2, 1, 0)","v":0}]
[189.5,5.2499999999999991E-2,"-1.5257006062469E-004+2.32950394913066E-004i",0,"0.174682603957557-0.266712757474914i","1.77397533531254E-07+4.06923815768407E-07i",null,0,null,189.5,{"$f":"EXP(-((J704)^2/(Sheet2!B$21^2*0.360673760222241)))","v":4.7421472937672347E-5},{"$f":"IF(1-ABS(J704)/Sheet2!B$22 >0, 1-ABS(J704)/Sheet2!B$22,0)","v":5.2499999999999991E-2},{"$f":"IF(1-J704/(Sheet2!B$23*2)>0,1-J704/(Sheet2!B$23*2),0)","v":0.40781250000000002},{"$f":"IF(ABS(J704)<Sheet2!B$24/2, 1, 0)","v":0}]
[190.5,4.7499999999999987E-2,"2.4669701857381E-004-3.7415786908737E-004i",0,"0.222124748096151-0.3368898533922i","-3.56262382778015E-07-8.31097224194242E-07i",null,0,null,190.5,{"$f":"EXP(-((J705)^2/(Sheet2!B$21^2*0.360673760222241)))","v":4.2679417157555992E-5},{"$f":"IF(1-ABS(J705)/Sheet2!B$22 >0, 1-ABS(J705)/Sheet2!B$22,0)","v":4.7499999999999987E-2},{"$f":"IF(1-J705/(Sheet2!B$23*2)>0,1-J705/(Sheet2!B$23*2),0)","v":0.40468749999999998},{"$f":"IF(ABS(J705)<Sheet2!B$24/2, 1, 0)","v":0}]
[191.5,4.2499999999999982E-2,"-1.47246410894656E-003+2.21840163558728E-003i",0,"-0.542671928324626+0.817584813151562i","-5.07333274667957E-06-0.0000120386429338405i",null,0,null,191.5,{"$f":"EXP(-((J706)^2/(Sheet2!B$21^2*0.360673760222241)))","v":3.8390263818360472E-5},{"$f":"IF(1-ABS(J706)/Sheet2!B$22 >0, 1-ABS(J706)/Sheet2!B$22,0)","v":4.2499999999999982E-2},{"$f":"IF(1-J706/(Sheet2!B$23*2)>0,1-J706/(Sheet2!B$23*2),0)","v":0.40156250000000004},{"$f":"IF(ABS(J706)<Sheet2!B$24/2, 1, 0)","v":0}]
[192.5,3.7499999999999978E-2,"2.23231346086086E-003-3.34089318960013E-003i",0,"0.668178637919296-i","-9.24654510956605E-06-0.0000223231346086086i",null,{"$f":"IMABS(G707)","v":0},null,192.5,{"$f":"EXP(-((J707)^2/(Sheet2!B$21^2*0.360673760222241)))","v":3.4513014131648678E-5},{"$f":"IF(1-ABS(J707)/Sheet2!B$22 >0, 1-ABS(J707)/Sheet2!B$22,0)","v":3.7499999999999978E-2},{"$f":"IF(1-J707/(Sheet2!B$23*2)>0,1-J707/(Sheet2!B$23*2),0)","v":0.3984375},{"$f":"IF(ABS(J707)<Sheet2!B$24/2, 1, 0)","v":0}]
[193.5,3.2499999999999973E-2,"-1.51210600945335E-003+2.24806538010551E-003i",0,"-0.549928360689587+0.817584813151583i",{"$f":"IMPRODUCT(C708,E708,D$1027)","v":"-5.03217067389276E-06-0.0000123627490920437i"},null,0,null,193.5,{"$f":"EXP(-((J708)^2/(Sheet2!B$21^2*0.360673760222241)))","v":3.1010149354556862E-5},{"$f":"IF(1-ABS(J708)/Sheet2!B$22 >0, 1-ABS(J708)/Sheet2!B$22,0)","v":3.2499999999999973E-2},{"$f":"IF(1-J708/(Sheet2!B$23*2)>0,1-J708/(Sheet2!B$23*2),0)","v":0.39531249999999996},{"$f":"IF(ABS(J708)<Sheet2!B$24/2, 1, 0)","v":0}]
[{"$f":"A708+1","v":194.5},2.7499999999999969E-2,"2.60159403221121E-004-3.84231261710143E-004i",0,"0.22810497724671-0.336889853392218i","-3.50499793369828E-07-8.76450632098186E-07i",null,0,null,{"$f":"J708+1","v":194.5},{"$f":"EXP(-((J709)^2/(Sheet2!B$21^2*0.360673760222241)))","v":2.7847358292116804E-5},{"$f":"IF(1-ABS(J709)/Sheet2!B$22 >0, 1-ABS(J709)/Sheet2!B$22,0)","v":2.7499999999999969E-2},{"$f":"IF(1-J709/(Sheet2!B$23*2)>0,1-J709/(Sheet2!B$23*2),0)","v":0.39218750000000002},{"$f":"IF(ABS(J709)<Sheet2!B$24/2, 1, 0)","v":0}]
[195.5,2.2499999999999964E-2,"-1.6522821755689E-004+2.42421369616405E-004i",0,"0.181784607465633-0.2667127574749i","1.73104626452039E-07+4.40684735171301E-07i",null,0,null,195.5,{"$f":"EXP(-((J710)^2/(Sheet2!B$21^2*0.360673760222241)))","v":2.4993283951707148E-5},{"$f":"IF(1-ABS(J710)/Sheet2!B$22 >0, 1-ABS(J710)/Sheet2!B$22,0)","v":2.2499999999999964E-2},{"$f":"IF(1-J710/(Sheet2!B$23*2)>0,1-J710/(Sheet2!B$23*2),0)","v":0.38906249999999998},{"$f":"IF(ABS(J710)<Sheet2!B$24/2, 1, 0)","v":0}]
[196.5,1.749999999999996E-2,"1.40632774287616E-003-2.04981015894977E-003i",0,"-0.530344745024629+0.773010453362739i","4.19343076030295E-06+0.000010871060460972i",null,0,null,196.5,{"$f":"EXP(-((J711)^2/(Sheet2!B$21^2*0.360673760222241)))","v":2.2419288205220397E-5},{"$f":"IF(1-ABS(J711)/Sheet2!B$22 >0, 1-ABS(J711)/Sheet2!B$22,0)","v":1.749999999999996E-2},{"$f":"IF(1-J711/(Sheet2!B$23*2)>0,1-J711/(Sheet2!B$23*2),0)","v":0.38593750000000004},{"$f":"IF(ABS(J711)<Sheet2!B$24/2, 1, 0)","v":0}]
[197.5,1.2499999999999956E-2,"-2.3717274915394E-003+3.43430655817346E-003i",0,"0.688727448493183-0.997290456678693i","8.95763666003186E-06+0.0000236530119315448i",null,0,null,197.5,{"$f":"EXP(-((J712)^2/(Sheet2!B$21^2*0.360673760222241)))","v":2.0099233364695839E-5},{"$f":"IF(1-ABS(J712)/Sheet2!B$22 >0, 1-ABS(J712)/Sheet2!B$22,0)","v":1.2499999999999956E-2},{"$f":"IF(1-J712/(Sheet2!B$23*2)>0,1-J712/(Sheet2!B$23*2),0)","v":0.3828125},{"$f":"IF(ABS(J712)<Sheet2!B$24/2, 1, 0)","v":0}]
[198.5,7.4999999999999512E-3,"1.77751658609432E-003-2.55706477451772E-003i",0,"-0.596240989214176+0.857728610000274i","5.66719683545133E-06+0.0000152462683064314i",null,0,null,198.5,{"$f":"EXP(-((J713)^2/(Sheet2!B$21^2*0.360673760222241)))","v":1.8009279626819316E-5},{"$f":"IF(1-ABS(J713)/Sheet2!B$22 >0, 1-ABS(J713)/Sheet2!B$22,0)","v":7.4999999999999512E-3},{"$f":"IF(1-J713/(Sheet2!B$23*2)>0,1-J713/(Sheet2!B$23*2),0)","v":0.37968749999999996},{"$f":"IF(ABS(J713)<Sheet2!B$24/2, 1, 0)","v":0}]
[199.5,2.4999999999999467E-3,"-4.01995080070627E-004+5.74525204502447E-004i",0,"0.283547202445034-0.405241314004993i","5.94183842254326E-07+1.62905014471097E-06i",null,0,null,199.5,{"$f":"EXP(-((J714)^2/(Sheet2!B$21^2*0.360673760222241)))","v":1.6127697390641848E-5},{"$f":"IF(1-ABS(J714)/Sheet2!B$22 >0, 1-ABS(J714)/Sheet2!B$22,0)","v":2.4999999999999467E-3},{"$f":"IF(1-J714/(Sheet2!B$23*2)>0,1-J714/(Sheet2!B$23*2),0)","v":0.37656250000000002},{"$f":"IF(ABS(J714)<Sheet2!B$24/2, 1, 0)","v":0}]
[200.5,0,"9.43911987735888E-005-1.34025204508774E-004i",0,"0.137398106809506-0.195090322016129i","-6.5889241474617E-08-1.84148093642451E-07i",null,0,null,200.5,{"$f":"EXP(-((J715)^2/(Sheet2!B$21^2*0.360673760222241)))","v":1.4434693500964084E-5},{"$f":"IF(1-ABS(J715)/Sheet2!B$22 >0, 1-ABS(J715)/Sheet2!B$22,0)","v":0},{"$f":"IF(1-J715/(Sheet2!B$23*2)>0,1-J715/(Sheet2!B$23*2),0)","v":0.37343749999999998},{"$f":"IF(ABS(J715)<Sheet2!B$24/2, 1, 0)","v":0}]
[201.5,0,"-1.31791643753824E-003+1.85915540776262E-003i",0,"-0.513403630204995+0.724247082951467i","-3.34932398743278E-06-9.54497135460718E-06i",null,0,null,201.5,{"$f":"EXP(-((J716)^2/(Sheet2!B$21^2*0.360673760222241)))","v":1.2912250516931035E-5},{"$f":"IF(1-ABS(J716)/Sheet2!B$22 >0, 1-ABS(J716)/Sheet2!B$22,0)","v":0},{"$f":"IF(1-J716/(Sheet2!B$23*2)>0,1-J716/(Sheet2!B$23*2),0)","v":0.37031250000000004},{"$f":"IF(ABS(J716)<Sheet2!B$24/2, 1, 0)","v":0}]
[202.5,0,"2.49060071286467E-003-3.49068653534148E-003i",0,"0.705776269488523-0.989176509964781i","-8.47549122249528E-06-0.000024636437208672i",null,0,null,202.5,{"$f":"EXP(-((J717)^2/(Sheet2!B$21^2*0.360673760222241)))","v":1.1543978151363815E-5},{"$f":"IF(1-ABS(J717)/Sheet2!B$22 >0, 1-ABS(J717)/Sheet2!B$22,0)","v":0},{"$f":"IF(1-J717/(Sheet2!B$23*2)>0,1-J717/(Sheet2!B$23*2),0)","v":0.3671875},{"$f":"IF(ABS(J717)<Sheet2!B$24/2, 1, 0)","v":0}]
[203.5,0,"-2.05734836092504E-003+2.86483391692499E-003i",0,"-0.641459018320958+0.893224301195515i","-6.19617306771663E-06-0.0000183767355200315i",null,0,null,203.5,{"$f":"EXP(-((J718)^2/(Sheet2!B$21^2*0.360673760222241)))","v":1.0314976071121868E-5},{"$f":"IF(1-ABS(J718)/Sheet2!B$22 >0, 1-ABS(J718)/Sheet2!B$22,0)","v":0},{"$f":"IF(1-J718/(Sheet2!B$23*2)>0,1-J718/(Sheet2!B$23*2),0)","v":0.36406249999999996},{"$f":"IF(ABS(J718)<Sheet2!B$24/2, 1, 0)","v":0}]
[204.5,0,"5.80468341015565E-004-8.03083758920551E-004i",0,"0.340725209227592-0.471396736825996i","-9.03954332052905E-07-2.73630881785511E-06i",null,0,null,204.5,{"$f":"EXP(-((J719)^2/(Sheet2!B$21^2*0.360673760222241)))","v":9.2117072922543894E-6},{"$f":"IF(1-ABS(J719)/Sheet2!B$22 >0, 1-ABS(J719)/Sheet2!B$22,0)","v":0},{"$f":"IF(1-J719/(Sheet2!B$23*2)>0,1-J719/(Sheet2!B$23*2),0)","v":0.36093750000000002},{"$f":"IF(ABS(J719)<Sheet2!B$24/2, 1, 0)","v":0}]
[205.5,0,"-3.96507332589274E-005+5.45041921697673E-005i",0,"8.90513708604138E-002-0.122410675199219i","1.57047140618056E-08+4.85367303036332E-08i",null,0,null,205.5,{"$f":"EXP(-((J720)^2/(Sheet2!B$21^2*0.360673760222241)))","v":8.2218814457971888E-6},{"$f":"IF(1-ABS(J720)/Sheet2!B$22 >0, 1-ABS(J720)/Sheet2!B$22,0)","v":0},{"$f":"IF(1-J720/(Sheet2!B$23*2)>0,1-J720/(Sheet2!B$23*2),0)","v":0.35781249999999998},{"$f":"IF(ABS(J720)<Sheet2!B$24/2, 1, 0)","v":0}]
[206.5,0,"1.20886288997695E-003-1.65104028301107E-003i",0,"-0.491703750235816+0.671558954847022i","2.57184235173336E-06+8.11822698946608E-06i",null,0,null,206.5,{"$f":"EXP(-((J721)^2/(Sheet2!B$21^2*0.360673760222241)))","v":7.3343472307453405E-6},{"$f":"IF(1-ABS(J721)/Sheet2!B$22 >0, 1-ABS(J721)/Sheet2!B$22,0)","v":0},{"$f":"IF(1-J721/(Sheet2!B$23*2)>0,1-J721/(Sheet2!B$23*2),0)","v":0.35468750000000004},{"$f":"IF(ABS(J721)<Sheet2!B$24/2, 1, 0)","v":0}]
[207.5,0,"-2.58480934764939E-003+3.50765210741604E-003i",0,"0.719000604679798-0.975702130038534i","7.81972074349039E-06+0.0000252200398624176i",null,0,null,207.5,{"$f":"EXP(-((J722)^2/(Sheet2!B$21^2*0.360673760222241)))","v":6.5389934099434326E-6},{"$f":"IF(1-ABS(J722)/Sheet2!B$22 >0, 1-ABS(J722)/Sheet2!B$22,0)","v":0},{"$f":"IF(1-J722/(Sheet2!B$23*2)>0,1-J722/(Sheet2!B$23*2),0)","v":0.3515625},{"$f":"IF(ABS(J722)<Sheet2!B$24/2, 1, 0)","v":0}]
[208.5,0,"2.34746614744957E-003-3.16519169202981E-003i",0,"-0.685195759976543+0.923879532511286i","6.57890984910096E-06+0.0000216877592689179i",null,0,null,208.5,{"$f":"EXP(-((J723)^2/(Sheet2!B$21^2*0.360673760222241)))","v":5.8266577423537039E-6},{"$f":"IF(1-ABS(J723)/Sheet2!B$22 >0, 1-ABS(J723)/Sheet2!B$22,0)","v":0},{"$f":"IF(1-J723/(Sheet2!B$23*2)>0,1-J723/(Sheet2!B$23*2),0)","v":0.34843749999999996},{"$f":"IF(ABS(J723)<Sheet2!B$24/2, 1, 0)","v":0}]
[209.5,0,"-7.97327266919571E-004+1.06820636210577E-003i",0,"0.399331257709998-0.534997619887099i","1.26545080484688E-06+4.26568190073287E-06i",null,0,null,209.5,{"$f":"EXP(-((J724)^2/(Sheet2!B$21^2*0.360673760222241)))","v":5.1890432813712041E-6},{"$f":"IF(1-ABS(J724)/Sheet2!B$22 >0, 1-ABS(J724)/Sheet2!B$22,0)","v":0},{"$f":"IF(1-J724/(Sheet2!B$23*2)>0,1-J724/(Sheet2!B$23*2),0)","v":0.34531250000000002},{"$f":"IF(ABS(J724)<Sheet2!B$24/2, 1, 0)","v":0}]
[210.5,0,"6.79325653818048E-006-9.04314478196955E-006i",0,"3.68598875184009E-002-4.90676743274165E-002i","-9.66637055881919E-10-3.33329299457022E-09i",null,0,null,210.5,{"$f":"EXP(-((J725)^2/(Sheet2!B$21^2*0.360673760222241)))","v":4.6186415035454168E-6},{"$f":"IF(1-ABS(J725)/Sheet2!B$22 >0, 1-ABS(J725)/Sheet2!B$22,0)","v":0},{"$f":"IF(1-J725/(Sheet2!B$23*2)>0,1-J725/(Sheet2!B$23*2),0)","v":0.34218749999999998},{"$f":"IF(ABS(J725)<Sheet2!B$24/2, 1, 0)","v":0}]
[211.5,0,"-1.08170440540033E-003+1.43079669622637E-003i",0,"-0.465124586622089+0.615231590580625i","-1.88572006403866E-06-6.65498721872528E-06i",null,0,null,211.5,{"$f":"EXP(-((J726)^2/(Sheet2!B$21^2*0.360673760222241)))","v":4.1086617652410015E-6},{"$f":"IF(1-ABS(J726)/Sheet2!B$22 >0, 1-ABS(J726)/Sheet2!B$22,0)","v":0},{"$f":"IF(1-J726/(Sheet2!B$23*2)>0,1-J726/(Sheet2!B$23*2),0)","v":0.33906250000000004},{"$f":"IF(ABS(J726)<Sheet2!B$24/2, 1, 0)","v":0}]
[212.5,0,"2.65054822778214E-003-3.48367569354739E-003i",0,"0.72808628991109-0.956940335732208i","-0.0000070192098118453-0.0000253641651096831i",null,0,null,212.5,{"$f":"EXP(-((J727)^2/(Sheet2!B$21^2*0.360673760222241)))","v":3.6529666164343979E-6},{"$f":"IF(1-ABS(J727)/Sheet2!B$22 >0, 1-ABS(J727)/Sheet2!B$22,0)","v":0},{"$f":"IF(1-J727/(Sheet2!B$23*2)>0,1-J727/(Sheet2!B$23*2),0)","v":0.3359375},{"$f":"IF(ABS(J727)<Sheet2!B$24/2, 1, 0)","v":0}]
[213.5,0,"-2.6430596299362E-003+3.45180569805575E-003i",0,"-0.727057030766878+0.949528180593036i","-6.77965848777167E-06-0.0000250965960161241i",null,0,null,213.5,{"$f":"EXP(-((J728)^2/(Sheet2!B$21^2*0.360673760222241)))","v":3.2460125310138991E-6},{"$f":"IF(1-ABS(J728)/Sheet2!B$22 >0, 1-ABS(J728)/Sheet2!B$22,0)","v":0},{"$f":"IF(1-J728/(Sheet2!B$23*2)>0,1-J728/(Sheet2!B$23*2),0)","v":0.33281249999999996},{"$f":"IF(ABS(J728)<Sheet2!B$24/2, 1, 0)","v":0}]
[214.5,0,"1.05356548494663E-003-1.36723404011716E-003i",0,"0.459034962709475-0.595699304492432i","-1.65418486840852E-06-6.27608226620122E-06i",null,0,null,214.5,{"$f":"EXP(-((J729)^2/(Sheet2!B$21^2*0.360673760222241)))","v":2.8827956416503069E-6},{"$f":"IF(1-ABS(J729)/Sheet2!B$22 >0, 1-ABS(J729)/Sheet2!B$22,0)","v":0},{"$f":"IF(1-J729/(Sheet2!B$23*2)>0,1-J729/(Sheet2!B$23*2),0)","v":0.32968750000000002},{"$f":"IF(ABS(J729)<Sheet2!B$24/2, 1, 0)","v":0}]
[215.5,0,"-1.81095282766008E-006+2.33525801018706E-006i",0,"-1.903130488567E-002+2.45412285229109E-002i","-1.14226525455968E-10-4.44430071831954E-10i",null,0,null,215.5,{"$f":"EXP(-((J730)^2/(Sheet2!B$21^2*0.360673760222241)))","v":2.5588020945599071E-6},{"$f":"IF(1-ABS(J730)/Sheet2!B$22 >0, 1-ABS(J730)/Sheet2!B$22,0)","v":0},{"$f":"IF(1-J730/(Sheet2!B$23*2)>0,1-J730/(Sheet2!B$23*2),0)","v":0.32656249999999998},{"$f":"IF(ABS(J730)<Sheet2!B$24/2, 1, 0)","v":0}]
[216.5,0,"9.39920210572815E-004-1.20439644453205E-003i",0,"-0.433571265324218+0.5555702330196i","1.30802209167394E-06+0.0000052219169040776i",null,0,null,216.5,{"$f":"EXP(-((J731)^2/(Sheet2!B$21^2*0.360673760222241)))","v":2.2699626653233123E-6},{"$f":"IF(1-ABS(J731)/Sheet2!B$22 >0, 1-ABS(J731)/Sheet2!B$22,0)","v":0},{"$f":"IF(1-J731/(Sheet2!B$23*2)>0,1-J731/(Sheet2!B$23*2),0)","v":0.32343750000000004},{"$f":"IF(ABS(J731)<Sheet2!B$24/2, 1, 0)","v":0}]
[217.5,0,"-2.68447708945676E-003+3.41816595920803E-003i",0,"0.732731477344353-0.932992798834738i","6.11061680754203E-06+0.0000250459779309934i",null,0,null,217.5,{"$f":"EXP(-((J732)^2/(Sheet2!B$21^2*0.360673760222241)))","v":2.0126113013877681E-6},{"$f":"IF(1-ABS(J732)/Sheet2!B$22 >0, 1-ABS(J732)/Sheet2!B$22,0)","v":0},{"$f":"IF(1-J732/(Sheet2!B$23*2)>0,1-J732/(Sheet2!B$23*2),0)","v":0.3203125},{"$f":"IF(ABS(J732)<Sheet2!B$24/2, 1, 0)","v":0}]
[218.5,0,"2.93870794428945E-003-3.71833866466793E-003i",0,"-0.766643064833958+0.970031253194545i","6.76982324813799E-06+0.0000285063854997174i",null,0,null,218.5,{"$f":"EXP(-((J733)^2/(Sheet2!B$21^2*0.360673760222241)))","v":1.7834472800060136E-6},{"$f":"IF(1-ABS(J733)/Sheet2!B$22 >0, 1-ABS(J733)/Sheet2!B$22,0)","v":0},{"$f":"IF(1-J733/(Sheet2!B$23*2)>0,1-J733/(Sheet2!B$23*2),0)","v":0.31718749999999996},{"$f":"IF(ABS(J733)<Sheet2!B$24/2, 1, 0)","v":0}]
[219.5,0,"-1.34932039585024E-003+1.69656562942159E-003i",0,"0.519484435926912-0.65317284295378i","2.03599825352015E-06+8.81339439013041E-06i",null,0,null,219.5,{"$f":"EXP(-((J734)^2/(Sheet2!B$21^2*0.360673760222241)))","v":1.579500692192263E-6},{"$f":"IF(1-ABS(J734)/Sheet2!B$22 >0, 1-ABS(J734)/Sheet2!B$22,0)","v":0},{"$f":"IF(1-J734/(Sheet2!B$23*2)>0,1-J734/(Sheet2!B$23*2),0)","v":0.31406250000000002},{"$f":"IF(ABS(J734)<Sheet2!B$24/2, 1, 0)","v":0}]
[220.5,0,"3.07701079479618E-005-3.84460334811448E-005i",0,"-7.84475722357018E-002+9.80171403295635E-002i","6.77264996444196E-09+3.01599798868975E-08i",null,0,null,220.5,{"$f":"EXP(-((J735)^2/(Sheet2!B$21^2*0.360673760222241)))","v":1.3981009838499813E-6},{"$f":"IF(1-ABS(J735)/Sheet2!B$22 >0, 1-ABS(J735)/Sheet2!B$22,0)","v":0},{"$f":"IF(1-J735/(Sheet2!B$23*2)>0,1-J735/(Sheet2!B$23*2),0)","v":0.31093749999999998},{"$f":"IF(ABS(J735)<Sheet2!B$24/2, 1, 0)","v":0}]
[221.5,0,"-7.87948816148509E-004+9.78343200878891E-004i",0,"-0.396975771590936+0.492898192229778i","-8.47135029143905E-07-3.88378547049419E-06i",null,0,null,221.5,{"$f":"EXP(-((J736)^2/(Sheet2!B$21^2*0.360673760222241)))","v":1.2368483045907367E-6},{"$f":"IF(1-ABS(J736)/Sheet2!B$22 >0, 1-ABS(J736)/Sheet2!B$22,0)","v":0},{"$f":"IF(1-J736/(Sheet2!B$23*2)>0,1-J736/(Sheet2!B$23*2),0)","v":0.30781250000000004},{"$f":"IF(ABS(J736)<Sheet2!B$24/2, 1, 0)","v":0}]
[222.5,0,"2.68386966480114E-003-3.31153233251201E-003i",0,"0.73264857398409-0.903989293123436i","-5.13628244873611E-06-0.0000242618944111807i",null,0,null,222.5,{"$f":"EXP(-((J737)^2/(Sheet2!B$21^2*0.360673760222241)))","v":1.093587432966015E-6},{"$f":"IF(1-ABS(J737)/Sheet2!B$22 >0, 1-ABS(J737)/Sheet2!B$22,0)","v":0},{"$f":"IF(1-J737/(Sheet2!B$23*2)>0,1-J737/(Sheet2!B$23*2),0)","v":0.3046875},{"$f":"IF(ABS(J737)<Sheet2!B$24/2, 1, 0)","v":0}]
[223.5,0,"-3.2284667586929E-003+3.9586015444098E-003i",0,"-0.803550466206386+0.985277642388933i","-6.53042813876889E-06-0.000031809361165359i",null,0,null,223.5,{"$f":"EXP(-((J738)^2/(Sheet2!B$21^2*0.360673760222241)))","v":9.6638406392060546E-7},{"$f":"IF(1-ABS(J738)/Sheet2!B$22 >0, 1-ABS(J738)/Sheet2!B$22,0)","v":0},{"$f":"IF(1-J738/(Sheet2!B$23*2)>0,1-J738/(Sheet2!B$23*2),0)","v":0.30156249999999996},{"$f":"IF(ABS(J738)<Sheet2!B$24/2, 1, 0)","v":0}]
[224.5,0,"1.68378419429035E-003-2.05169697707217E-003i",0,"0.580307538170916-0.707106781186547i","-2.36828092413969E-06-0.0000119061522183745i",null,0,null,224.5,{"$f":"EXP(-((J739)^2/(Sheet2!B$21^2*0.360673760222241)))","v":8.5350326029545931E-7},{"$f":"IF(1-ABS(J739)/Sheet2!B$22 >0, 1-ABS(J739)/Sheet2!B$22,0)","v":0},{"$f":"IF(1-J739/(Sheet2!B$23*2)>0,1-J739/(Sheet2!B$23*2),0)","v":0.29843750000000002},{"$f":"IF(ABS(J739)<Sheet2!B$24/2, 1, 0)","v":0}]
[225.5,0,"-9.96657105230318E-005+1.20686083267106E-004i",0,"-0.141184780003747+0.1709618887603i","-3.28071966415795E-08-1.70390381156175E-07i",null,0,null,225.5,{"$f":"EXP(-((J740)^2/(Sheet2!B$21^2*0.360673760222241)))","v":7.5338988520664513E-7},{"$f":"IF(1-ABS(J740)/Sheet2!B$22 >0, 1-ABS(J740)/Sheet2!B$22,0)","v":0},{"$f":"IF(1-J740/(Sheet2!B$23*2)>0,1-J740/(Sheet2!B$23*2),0)","v":0.29531249999999998},{"$f":"IF(ABS(J740)<Sheet2!B$24/2, 1, 0)","v":0}]
[226.5,0,"6.31183501449496E-004-7.59547442652195E-004i",0,"-0.3552980443094+0.427555093430283i","5.02450570712632E-07+2.69865720934212E-06i",null,0,null,226.5,{"$f":"EXP(-((J741)^2/(Sheet2!B$21^2*0.360673760222241)))","v":6.6465084615331176E-7},{"$f":"IF(1-ABS(J741)/Sheet2!B$22 >0, 1-ABS(J741)/Sheet2!B$22,0)","v":0},{"$f":"IF(1-J741/(Sheet2!B$23*2)>0,1-J741/(Sheet2!B$23*2),0)","v":0.29218750000000004},{"$f":"IF(ABS(J741)<Sheet2!B$24/2, 1, 0)","v":0}]
[227.5,0,"-2.64676231979971E-003+3.16522909582924E-003i",0,"0.727566123428084-0.870086991108713i","4.14165029753809E-06+0.0000230291346301435i",null,0,null,227.5,{"$f":"EXP(-((J742)^2/(Sheet2!B$21^2*0.360673760222241)))","v":5.8603899480808158E-7},{"$f":"IF(1-ABS(J742)/Sheet2!B$22 >0, 1-ABS(J742)/Sheet2!B$22,0)","v":0},{"$f":"IF(1-J742/(Sheet2!B$23*2)>0,1-J742/(Sheet2!B$23*2),0)","v":0.2890625},{"$f":"IF(ABS(J742)<Sheet2!B$24/2, 1, 0)","v":0}]
[228.5,0,"3.50597765691432E-003-4.16671001397938E-003i",0,"-0.837374188390663+0.995184726672197i","6.05415485704974E-06+0.0000348909541621517i",null,0,null,228.5,{"$f":"EXP(-((J743)^2/(Sheet2!B$21^2*0.360673760222241)))","v":5.1643853866459314E-7},{"$f":"IF(1-ABS(J743)/Sheet2!B$22 >0, 1-ABS(J743)/Sheet2!B$22,0)","v":0},{"$f":"IF(1-J743/(Sheet2!B$23*2)>0,1-J743/(Sheet2!B$23*2),0)","v":0.28593749999999996},{"$f":"IF(ABS(J743)<Sheet2!B$24/2, 1, 0)","v":0}]
[229.5,0,"-2.05513088638861E-003+2.42728305746069E-003i",0,"0.641113232805253-0.757208846506486i","2.60194298837009E-06+0.0000155616328790211i",null,0,null,229.5,{"$f":"EXP(-((J744)^2/(Sheet2!B$21^2*0.360673760222241)))","v":4.5485183210463155E-7},{"$f":"IF(1-ABS(J744)/Sheet2!B$22 >0, 1-ABS(J744)/Sheet2!B$22,0)","v":0},{"$f":"IF(1-J744/(Sheet2!B$23*2)>0,1-J744/(Sheet2!B$23*2),0)","v":0.28281250000000002},{"$f":"IF(ABS(J744)<Sheet2!B$24/2, 1, 0)","v":0}]
[230.5,0,"2.14264721505149E-004-2.51496060654417E-004i",0,"-0.207009527078613+0.242980179903265i","8.37685969718054E-08+5.20620805782246E-07i",null,0,null,230.5,{"$f":"EXP(-((J745)^2/(Sheet2!B$21^2*0.360673760222241)))","v":4.0038742504581535E-7},{"$f":"IF(1-ABS(J745)/Sheet2!B$22 >0, 1-ABS(J745)/Sheet2!B$22,0)","v":0},{"$f":"IF(1-J745/(Sheet2!B$23*2)>0,1-J745/(Sheet2!B$23*2),0)","v":0.27968749999999998},{"$f":"IF(ABS(J745)<Sheet2!B$24/2, 1, 0)","v":0}]
[231.5,0,"-4.75944378075787E-004+5.55186580199215E-004i",0,"-0.308526944715512+0.359895036534986i","-2.64836148711417E-07-1.71290019336062E-06i",null,0,null,231.5,{"$f":"EXP(-((J746)^2/(Sheet2!B$21^2*0.360673760222241)))","v":3.5224925718378116E-7},{"$f":"IF(1-ABS(J746)/Sheet2!B$22 >0, 1-ABS(J746)/Sheet2!B$22,0)","v":0},{"$f":"IF(1-J746/(Sheet2!B$23*2)>0,1-J746/(Sheet2!B$23*2),0)","v":0.27656250000000004},{"$f":"IF(ABS(J746)<Sheet2!B$24/2, 1, 0)","v":0}]
[232.5,0,"2.57209881178446E-003-2.98177732798043E-003i",0,"0.717230620063379-0.831469612302545i","-3.17234606613979E-06-0.000021386220018383i",null,0,null,232.5,{"$f":"EXP(-((J747)^2/(Sheet2!B$21^2*0.360673760222241)))","v":3.097268949922998E-7},{"$f":"IF(1-ABS(J747)/Sheet2!B$22 >0, 1-ABS(J747)/Sheet2!B$22,0)","v":0},{"$f":"IF(1-J747/(Sheet2!B$23*2)>0,1-J747/(Sheet2!B$23*2),0)","v":0.2734375},{"$f":"IF(ABS(J747)<Sheet2!B$24/2, 1, 0)","v":0}]
[233.5,0,"-3.76459913083452E-003+4.33724095397607E-003i",0,"-0.867709528682821+0.999698818696203i","-5.34678060297246E-06-0.0000376346530395921i",null,0,null,233.5,{"$f":"EXP(-((J748)^2/(Sheet2!B$21^2*0.360673760222241)))","v":2.7218671713157461E-7},{"$f":"IF(1-ABS(J748)/Sheet2!B$22 >0, 1-ABS(J748)/Sheet2!B$22,0)","v":0},{"$f":"IF(1-J748/(Sheet2!B$23*2)>0,1-J748/(Sheet2!B$23*2),0)","v":0.27031249999999996},{"$f":"IF(ABS(J748)<Sheet2!B$24/2, 1, 0)","v":0}]
[234.5,0,"2.46046236032512E-003-2.81722242753736E-003i",0,"0.7014930306605-0.803207531480643i","-2.68408536841816E-06-0.0000197626189873784i",null,0,null,234.5,{"$f":"EXP(-((J749)^2/(Sheet2!B$21^2*0.360673760222241)))","v":2.3906396177864964E-7},{"$f":"IF(1-ABS(J749)/Sheet2!B$22 >0, 1-ABS(J749)/Sheet2!B$22,0)","v":0},{"$f":"IF(1-J749/(Sheet2!B$23*2)>0,1-J749/(Sheet2!B$23*2),0)","v":0.26718750000000002},{"$f":"IF(ABS(J749)<Sheet2!B$24/2, 1, 0)","v":0}]
[235.5,0,"-3.79940840075364E-004+4.32346781558272E-004i",0,"-0.275659514647+0.31368174039889i","-1.54424916626546E-07-1.19180503963501E-06i",null,0,null,235.5,{"$f":"EXP(-((J750)^2/(Sheet2!B$21^2*0.360673760222241)))","v":2.0985555667218764E-7},{"$f":"IF(1-ABS(J750)/Sheet2!B$22 >0, 1-ABS(J750)/Sheet2!B$22,0)","v":0},{"$f":"IF(1-J750/(Sheet2!B$23*2)>0,1-J750/(Sheet2!B$23*2),0)","v":0.26406249999999998},{"$f":"IF(ABS(J750)<Sheet2!B$24/2, 1, 0)","v":0}]
[236.5,0,"3.2942592318387E-004-3.72552944397442E-004i",0,"-0.256681095207428+0.290284677254464i","1.1794502236029E-07+9.56272977906855E-07i",null,0,null,236.5,{"$f":"EXP(-((J751)^2/(Sheet2!B$21^2*0.360673760222241)))","v":1.8411365939341606E-7},{"$f":"IF(1-ABS(J751)/Sheet2!B$22 >0, 1-ABS(J751)/Sheet2!B$22,0)","v":0},{"$f":"IF(1-J751/(Sheet2!B$23*2)>0,1-J751/(Sheet2!B$23*2),0)","v":0.26093750000000004},{"$f":"IF(ABS(J751)<Sheet2!B$24/2, 1, 0)","v":0}]
[237.5,0,"-2.45986763256866E-003+2.76476342227752E-003i",0,"0.701408245256715-0.788346427626608i","2.27109963730712E-06+0.0000193922786056973i",null,0,null,237.5,{"$f":"EXP(-((J752)^2/(Sheet2!B$21^2*0.360673760222241)))","v":1.6143984162055291E-7},{"$f":"IF(1-ABS(J752)/Sheet2!B$22 >0, 1-ABS(J752)/Sheet2!B$22,0)","v":0},{"$f":"IF(1-J752/(Sheet2!B$23*2)>0,1-J752/(Sheet2!B$23*2),0)","v":0.2578125},{"$f":"IF(ABS(J752)<Sheet2!B$24/2, 1, 0)","v":0}]
[238.5,0,"3.99755798991043E-003-4.46538538243013E-003i",0,"-0.894154124288934+0.998795456205174i","4.42786833206812E-06+0.0000399274275623932i",null,0,null,238.5,{"$f":"EXP(-((J753)^2/(Sheet2!B$21^2*0.360673760222241)))","v":1.4147985682892788E-7},{"$f":"IF(1-ABS(J753)/Sheet2!B$22 >0, 1-ABS(J753)/Sheet2!B$22,0)","v":0},{"$f":"IF(1-J753/(Sheet2!B$23*2)>0,1-J753/(Sheet2!B$23*2),0)","v":0.25468749999999996},{"$f":"IF(ABS(J753)<Sheet2!B$24/2, 1, 0)","v":0}]
[239.5,0,"-2.89577634706346E-003+3.21476292814894E-003i",0,"0.761022515707031-0.84485356524971i","2.56126460356039E-06+0.0000244650697098198i",null,0,null,239.5,{"$f":"EXP(-((J754)^2/(Sheet2!B$21^2*0.360673760222241)))","v":1.2391893619503115E-7},{"$f":"IF(1-ABS(J754)/Sheet2!B$22 >0, 1-ABS(J754)/Sheet2!B$22,0)","v":0},{"$f":"IF(1-J754/(Sheet2!B$23*2)>0,1-J754/(Sheet2!B$23*2),0)","v":0.25156250000000002},{"$f":"IF(ABS(J754)<Sheet2!B$24/2, 1, 0)","v":0}]
[240.5,0,"6.01503959684521E-004-6.63657349242378E-004i",0,"-0.346844045554624+0.382683432365088i","2.26713027641422E-07+2.30185599873274E-06i",null,0,null,240.5,{"$f":"EXP(-((J755)^2/(Sheet2!B$21^2*0.360673760222241)))","v":1.0847756233006705E-7},{"$f":"IF(1-ABS(J755)/Sheet2!B$22 >0, 1-ABS(J755)/Sheet2!B$22,0)","v":0},{"$f":"IF(1-J755/(Sheet2!B$23*2)>0,1-J755/(Sheet2!B$23*2),0)","v":0.24843749999999998},{"$f":"IF(ABS(J755)<Sheet2!B$24/2, 1, 0)","v":0}]
[241.5,0,"-1.99619351218032E-004+2.18892639306882E-004i",0,"-0.199809584965367+0.219101240156868i","-4.03689450770852E-08-4.3736847411531E-07i",null,0,null,241.5,{"$f":"EXP(-((J756)^2/(Sheet2!B$21^2*0.360673760222241)))","v":9.4907674945993461E-8},{"$f":"IF(1-ABS(J756)/Sheet2!B$22 >0, 1-ABS(J756)/Sheet2!B$22,0)","v":0},{"$f":"IF(1-J756/(Sheet2!B$23*2)>0,1-J756/(Sheet2!B$23*2),0)","v":0.24531250000000004},{"$f":"IF(ABS(J756)<Sheet2!B$24/2, 1, 0)","v":0}]
[242.5,0,"2.31122836962329E-003-2.51881339377363E-003i",0,"0.679886515475158-0.740951125354955i","-1.47472307992598E-06-0.0000171250726142479i",null,0,null,242.5,{"$f":"EXP(-((J757)^2/(Sheet2!B$21^2*0.360673760222241)))","v":8.2989266671627924E-8},{"$f":"IF(1-ABS(J757)/Sheet2!B$22 >0, 1-ABS(J757)/Sheet2!B$22,0)","v":0},{"$f":"IF(1-J757/(Sheet2!B$23*2)>0,1-J757/(Sheet2!B$23*2),0)","v":0.2421875},{"$f":"IF(ABS(J757)<Sheet2!B$24/2, 1, 0)","v":0}]
[243.5,0,"-4.19811950323348E-003+4.54709429911368E-003i",0,"-0.916309937001308+0.992479534598704i","-3.33059708114466E-06-0.0000416654769075938i",null,0,null,243.5,{"$f":"EXP(-((J758)^2/(Sheet2!B$21^2*0.360673760222241)))","v":7.2527331013934428E-8},{"$f":"IF(1-ABS(J758)/Sheet2!B$22 >0, 1-ABS(J758)/Sheet2!B$22,0)","v":0},{"$f":"IF(1-J758/(Sheet2!B$23*2)>0,1-J758/(Sheet2!B$23*2),0)","v":0.23906249999999996},{"$f":"IF(ABS(J758)<Sheet2!B$24/2, 1, 0)","v":0}]
[244.5,0,"3.35595882292797E-003-3.6126270386608E-003i",0,"0.819262939834307-0.881921264348349i","-2.18319957159958E-06-0.0000295969144821789i",null,0,null,244.5,{"$f":"EXP(-((J759)^2/(Sheet2!B$21^2*0.360673760222241)))","v":6.3349127924315245E-8},{"$f":"IF(1-ABS(J759)/Sheet2!B$22 >0, 1-ABS(J759)/Sheet2!B$22,0)","v":0},{"$f":"IF(1-J759/(Sheet2!B$23*2)>0,1-J759/(Sheet2!B$23*2),0)","v":0.23593750000000002},{"$f":"IF(ABS(J759)<Sheet2!B$24/2, 1, 0)","v":0}]
[245.5,0,"-8.8302782237459E-004+9.44733775645095E-004i",0,"-0.420244648359908+0.449611329654602i","-2.68376461657894E-07-3.97019313339774E-06i",null,0,null,245.5,{"$f":"EXP(-((J760)^2/(Sheet2!B$21^2*0.360673760222241)))","v":5.530173560451404E-8},{"$f":"IF(1-ABS(J760)/Sheet2!B$22 >0, 1-ABS(J760)/Sheet2!B$22,0)","v":0},{"$f":"IF(1-J760/(Sheet2!B$23*2)>0,1-J760/(Sheet2!B$23*2),0)","v":0.23281249999999998},{"$f":"IF(ABS(J760)<Sheet2!B$24/2, 1, 0)","v":0}]
[246.5,0,"9.52097056211595E-005-1.01238554403119E-004i",0,"-0.137992540104884+0.146730474455363i","8.5827599972134E-09+1.39701652785905E-07i",null,0,null,246.5,{"$f":"EXP(-((J761)^2/(Sheet2!B$21^2*0.360673760222241)))","v":4.8249860093055748E-8},{"$f":"IF(1-ABS(J761)/Sheet2!B$22 >0, 1-ABS(J761)/Sheet2!B$22,0)","v":0},{"$f":"IF(1-J761/(Sheet2!B$23*2)>0,1-J761/(Sheet2!B$23*2),0)","v":0.22968750000000004},{"$f":"IF(ABS(J761)<Sheet2!B$24/2, 1, 0)","v":0}]
[247.5,0,"-2.12862356138777E-003+2.24954270559139E-003i",0,"0.652475832716117-0.689540544737064i","8.11377359335721E-07+0.0000146777225006034i",null,0,null,247.5,{"$f":"EXP(-((J762)^2/(Sheet2!B$21^2*0.360673760222241)))","v":4.207387683125994E-8},{"$f":"IF(1-ABS(J762)/Sheet2!B$22 >0, 1-ABS(J762)/Sheet2!B$22,0)","v":0},{"$f":"IF(1-J762/(Sheet2!B$23*2)>0,1-J762/(Sheet2!B$23*2),0)","v":0.2265625},{"$f":"IF(ABS(J762)<Sheet2!B$24/2, 1, 0)","v":0}]
[248.5,0,"4.35977411880387E-003-4.5792139591682E-003i",0,"-0.933785212863106+0.980785280403219i","2.10066521703393E-06+0.0000427600228160667i",null,0,null,248.5,{"$f":"EXP(-((J763)^2/(Sheet2!B$21^2*0.360673760222241)))","v":3.6668080836665536E-8},{"$f":"IF(1-ABS(J763)/Sheet2!B$22 >0, 1-ABS(J763)/Sheet2!B$22,0)","v":0},{"$f":"IF(1-J763/(Sheet2!B$23*2)>0,1-J763/(Sheet2!B$23*2),0)","v":0.22343749999999996},{"$f":"IF(ABS(J763)<Sheet2!B$24/2, 1, 0)","v":0}]
[249.5,0,"-3.83480305838239E-003+4.00315481598931E-003i",0,"0.875762874114732-0.914209755703519i","1.50672519148013E-06+0.0000350581436717595i",null,0,null,249.5,{"$f":"EXP(-((J764)^2/(Sheet2!B$21^2*0.360673760222241)))","v":3.1939124328957559E-8},{"$f":"IF(1-ABS(J764)/Sheet2!B$22 >0, 1-ABS(J764)/Sheet2!B$22,0)","v":0},{"$f":"IF(1-J764/(Sheet2!B$23*2)>0,1-J764/(Sheet2!B$23*2),0)","v":0.22031250000000002},{"$f":"IF(ABS(J764)<Sheet2!B$24/2, 1, 0)","v":0}]
[250.5,0,"1.22767963453413E-003-1.2737302117659E-003i",0,"-0.495515819028609+0.514102744193214i","2.3246758809865E-07+6.31153469104391E-06i",null,0,null,250.5,{"$f":"EXP(-((J765)^2/(Sheet2!B$21^2*0.360673760222241)))","v":2.7804622675758897E-8},{"$f":"IF(1-ABS(J765)/Sheet2!B$22 >0, 1-ABS(J765)/Sheet2!B$22,0)","v":0},{"$f":"IF(1-J765/(Sheet2!B$23*2)>0,1-J765/(Sheet2!B$23*2),0)","v":0.21718749999999998},{"$f":"IF(ABS(J765)<Sheet2!B$24/2, 1, 0)","v":0}]
[251.5,0,"-2.5448088901866E-005+2.6241052600219E-005i",0,"-7.134155717872E-002+7.3564563599664E-002i","-5.74526467246579E-10-1.87207755450977E-08i",null,0,null,251.5,{"$f":"EXP(-((J766)^2/(Sheet2!B$21^2*0.360673760222241)))","v":2.4191911368420111E-8},{"$f":"IF(1-ABS(J766)/Sheet2!B$22 >0, 1-ABS(J766)/Sheet2!B$22,0)","v":0},{"$f":"IF(1-J766/(Sheet2!B$23*2)>0,1-J766/(Sheet2!B$23*2),0)","v":0.21406250000000004},{"$f":"IF(ABS(J766)<Sheet2!B$24/2, 1, 0)","v":0}]
[252.5,0,"1.91587264566387E-003-1.96348187811646E-003i",0,"0.619010928121945-0.634393284163626i","-2.98368062491136E-07-0.0000121541673972272i",null,0,null,252.5,{"$f":"EXP(-((J767)^2/(Sheet2!B$21^2*0.360673760222241)))","v":2.1036938415630006E-8},{"$f":"IF(1-ABS(J767)/Sheet2!B$22 >0, 1-ABS(J767)/Sheet2!B$22,0)","v":0},{"$f":"IF(1-J767/(Sheet2!B$23*2)>0,1-J767/(Sheet2!B$23*2),0)","v":0.2109375},{"$f":"IF(ABS(J767)<Sheet2!B$24/2, 1, 0)","v":0}]
[253.5,0,"-4.47643816481698E-003+4.55960723353738E-003i",0,"-0.94619640295798+0.963776065795398i","-7.94253157486236E-07-0.0000431428396326897i",null,0,null,253.5,{"$f":"EXP(-((J768)^2/(Sheet2!B$21^2*0.360673760222241)))","v":1.8283278068713415E-8},{"$f":"IF(1-ABS(J768)/Sheet2!B$22 >0, 1-ABS(J768)/Sheet2!B$22,0)","v":0},{"$f":"IF(1-J768/(Sheet2!B$23*2)>0,1-J768/(Sheet2!B$23*2),0)","v":0.20781249999999996},{"$f":"IF(ABS(J768)<Sheet2!B$24/2, 1, 0)","v":0}]
[254.5,0,"4.32505711520252E-003-4.37846190933768E-003i",0,"0.930059902939509-0.941544065182958i","-4.99763122967234E-07-0.000040722318584096i",null,0,null,254.5,{"$f":"EXP(-((J769)^2/(Sheet2!B$21^2*0.360673760222241)))","v":1.5881253179346584E-8},{"$f":"IF(1-ABS(J769)/Sheet2!B$22 >0, 1-ABS(J769)/Sheet2!B$22,0)","v":0},{"$f":"IF(1-J769/(Sheet2!B$23*2)>0,1-J769/(Sheet2!B$23*2),0)","v":0.20468750000000002},{"$f":"IF(ABS(J769)<Sheet2!B$24/2, 1, 0)","v":0}]
[255.5,0,"-1.63755559573176E-003+1.64763446426072E-003i",0,"-0.572285871894954+0.575808191417764i","-5.78574455186527E-08-9.42917925933983E-06i",null,0,null,255.5,{"$f":"EXP(-((J770)^2/(Sheet2!B$21^2*0.360673760222241)))","v":1.3787154749707737E-8},{"$f":"IF(1-ABS(J770)/Sheet2!B$22 >0, 1-ABS(J770)/Sheet2!B$22,0)","v":0},{"$f":"IF(1-J770/(Sheet2!B$23*2)>0,1-J770/(Sheet2!B$23*2),0)","v":0.20156249999999998},{"$f":"IF(ABS(J770)<Sheet2!B$24/2, 1, 0)","v":0}]
[256.5,0,"0",0,"0","0",null,{"$f":"IMABS(G771)","v":0},null,256.5,{"$f":"EXP(-((J771)^2/(Sheet2!B$21^2*0.360673760222241)))","v":1.1962548377516362E-8},{"$f":"IF(1-ABS(J771)/Sheet2!B$22 >0, 1-ABS(J771)/Sheet2!B$22,0)","v":0},{"$f":"IF(1-J771/(Sheet2!B$23*2)>0,1-J771/(Sheet2!B$23*2),0)","v":0.19843750000000004},{"$f":"IF(ABS(J771)<Sheet2!B$24/2, 1, 0)","v":0}]
[257.5,0,"-1.67824480146042E-003+1.66797868416234E-003i",0,"0.579352190201677-0.575808191417848i",{"$f":"IMPRODUCT(C772,E772,D$1027)","v":"-5.92950598481704E-08+9.66347103882246E-06i"},null,0,null,257.5,{"$f":"EXP(-((J772)^2/(Sheet2!B$21^2*0.360673760222241)))","v":1.0373658333953505E-8},{"$f":"IF(1-ABS(J772)/Sheet2!B$22 >0, 1-ABS(J772)/Sheet2!B$22,0)","v":0},{"$f":"IF(1-J772/(Sheet2!B$23*2)>0,1-J772/(Sheet2!B$23*2),0)","v":0.1953125},{"$f":"IF(ABS(J772)<Sheet2!B$24/2, 1, 0)","v":0}]
[{"$f":"A772+1","v":258.5},0,"4.54266554166817E-003-4.48725792982239E-003i",0,"-0.953170031176935+0.941544065183025i","-5.24907916042497E-07+0.0000427711978086843i",null,0,null,{"$f":"J772+1","v":258.5},{"$f":"EXP(-((J773)^2/(Sheet2!B$21^2*0.360673760222241)))","v":8.9908209502891468E-9},{"$f":"IF(1-ABS(J773)/Sheet2!B$22 >0, 1-ABS(J773)/Sheet2!B$22,0)","v":0},{"$f":"IF(1-J773/(Sheet2!B$23*2)>0,1-J773/(Sheet2!B$23*2),0)","v":0.19218749999999996},{"$f":"IF(ABS(J773)<Sheet2!B$24/2, 1, 0)","v":0}]
[259.5,0,"-4.81850114605134E-003+4.73060974831166E-003i",0,"0.981682346388409-0.963776065795448i","-8.54945295447555E-07+0.0000464395607757134i",null,0,null,259.5,{"$f":"EXP(-((J774)^2/(Sheet2!B$21^2*0.360673760222241)))","v":7.787999837664784E-9},{"$f":"IF(1-ABS(J774)/Sheet2!B$22 >0, 1-ABS(J774)/Sheet2!B$22,0)","v":0},{"$f":"IF(1-J774/(Sheet2!B$23*2)>0,1-J774/(Sheet2!B$23*2),0)","v":0.18906250000000002},{"$f":"IF(ABS(J774)<Sheet2!B$24/2, 1, 0)","v":0}]
[260.5,0,"2.11352641045811E-003-2.06227899570504E-003i",0,"-0.650157890124726+0.634393284163648i","-3.29149633996502E-07+0.0000134080696069663i",null,0,null,260.5,{"$f":"EXP(-((J775)^2/(Sheet2!B$21^2*0.360673760222241)))","v":6.7423562317275624E-9},{"$f":"IF(1-ABS(J775)/Sheet2!B$22 >0, 1-ABS(J775)/Sheet2!B$22,0)","v":0},{"$f":"IF(1-J775/(Sheet2!B$23*2)>0,1-J775/(Sheet2!B$23*2),0)","v":0.18593749999999998},{"$f":"IF(ABS(J775)<Sheet2!B$24/2, 1, 0)","v":0}]
[261.5,0,"-2.8771300122113E-005+2.7901876288068E-005i",0,"7.58568390097237E-002-7.35645635996694E-002i","-6.49552643599419E-10+2.11654813766578E-08i",null,0,null,261.5,{"$f":"EXP(-((J776)^2/(Sheet2!B$21^2*0.360673760222241)))","v":5.8338684468995969E-9},{"$f":"IF(1-ABS(J776)/Sheet2!B$22 >0, 1-ABS(J776)/Sheet2!B$22,0)","v":0},{"$f":"IF(1-J776/(Sheet2!B$23*2)>0,1-J776/(Sheet2!B$23*2),0)","v":0.18281250000000004},{"$f":"IF(ABS(J776)<Sheet2!B$24/2, 1, 0)","v":0}]
[262.5,0,"1.42250776371691E-003-1.37107826708638E-003i",0,"0.533386869676767-0.514102744193223i","2.6935931783532E-07-7.31315144963039E-06i",null,0,null,262.5,{"$f":"EXP(-((J777)^2/(Sheet2!B$21^2*0.360673760222241)))","v":5.044995050642285E-9},{"$f":"IF(1-ABS(J777)/Sheet2!B$22 >0, 1-ABS(J777)/Sheet2!B$22,0)","v":0},{"$f":"IF(1-J777/(Sheet2!B$23*2)>0,1-J777/(Sheet2!B$23*2),0)","v":0.1796875},{"$f":"IF(ABS(J777)<Sheet2!B$24/2, 1, 0)","v":0}]
[263.5,0,"-4.55386707117639E-003+4.36235523599577E-003i",0,"-0.95434449452807+0.914209755703534i","1.78925126799065E-06-0.000041631897026474i",null,0,null,263.5,{"$f":"EXP(-((J778)^2/(Sheet2!B$21^2*0.360673760222241)))","v":4.3603769322414737E-9},{"$f":"IF(1-ABS(J778)/Sheet2!B$22 >0, 1-ABS(J778)/Sheet2!B$22,0)","v":0},{"$f":"IF(1-J778/(Sheet2!B$23*2)>0,1-J778/(Sheet2!B$23*2),0)","v":0.17656249999999996},{"$f":"IF(ABS(J778)<Sheet2!B$24/2, 1, 0)","v":0}]
[264.5,0,"5.30605536369549E-003-5.05178466301466E-003i",0,"1.03015099511608-0.980785280403233i","2.55661087900169E-06-0.0000520410099771693i",null,0,null,264.5,{"$f":"EXP(-((J779)^2/(Sheet2!B$21^2*0.360673760222241)))","v":3.7665739490051389E-9},{"$f":"IF(1-ABS(J779)/Sheet2!B$22 >0, 1-ABS(J779)/Sheet2!B$22,0)","v":0},{"$f":"IF(1-J779/(Sheet2!B$23*2)>0,1-J779/(Sheet2!B$23*2),0)","v":0.17343750000000002},{"$f":"IF(ABS(J779)<Sheet2!B$24/2, 1, 0)","v":0}]
[265.5,0,"-2.65509689104049E-003+2.51237808733237E-003i",0,"-0.728710764438605+0.68954054473707i","1.01205565102019E-06-0.0000183079695657827i",null,0,null,265.5,{"$f":"EXP(-((J780)^2/(Sheet2!B$21^2*0.360673760222241)))","v":3.2518322904719814E-9},{"$f":"IF(1-ABS(J780)/Sheet2!B$22 >0, 1-ABS(J780)/Sheet2!B$22,0)","v":0},{"$f":"IF(1-J780/(Sheet2!B$23*2)>0,1-J780/(Sheet2!B$23*2),0)","v":0.17031249999999998},{"$f":"IF(ABS(J780)<Sheet2!B$24/2, 1, 0)","v":0}]
[266.5,0,"1.21713870628015E-004-1.14465697983769E-004i",0,"0.156021710431093-0.146730474455362i","1.09720005227454E-08-1.78591339850819E-07i",null,0,null,266.5,{"$f":"EXP(-((J781)^2/(Sheet2!B$21^2*0.360673760222241)))","v":2.8058791129876343E-9},{"$f":"IF(1-ABS(J781)/Sheet2!B$22 >0, 1-ABS(J781)/Sheet2!B$22,0)","v":0},{"$f":"IF(1-J781/(Sheet2!B$23*2)>0,1-J781/(Sheet2!B$23*2),0)","v":0.16718750000000004},{"$f":"IF(ABS(J781)<Sheet2!B$24/2, 1, 0)","v":0}]
[267.5,0,"-1.15695004340231E-003+1.08138303483832E-003i",0,"0.481030153608645-0.44961132965461i","-3.51628964678736E-07+5.20177847358066E-06i",null,0,null,267.5,{"$f":"EXP(-((J782)^2/(Sheet2!B$21^2*0.360673760222241)))","v":2.4197413671273492E-9},{"$f":"IF(1-ABS(J782)/Sheet2!B$22 >0, 1-ABS(J782)/Sheet2!B$22,0)","v":0},{"$f":"IF(1-J782/(Sheet2!B$23*2)>0,1-J782/(Sheet2!B$23*2),0)","v":0.1640625},{"$f":"IF(ABS(J782)<Sheet2!B$24/2, 1, 0)","v":0}]
[268.5,0,"4.506533895252E-003-4.18635580832156E-003i",0,"-0.949371781258757+0.881921264348361i","-2.93169951975651E-06+0.0000397440807072929i",null,0,null,268.5,{"$f":"EXP(-((J783)^2/(Sheet2!B$21^2*0.360673760222241)))","v":2.0855860728689086E-9},{"$f":"IF(1-ABS(J783)/Sheet2!B$22 >0, 1-ABS(J783)/Sheet2!B$22,0)","v":0},{"$f":"IF(1-J783/(Sheet2!B$23*2)>0,1-J783/(Sheet2!B$23*2),0)","v":0.16093749999999996},{"$f":"IF(ABS(J783)<Sheet2!B$24/2, 1, 0)","v":0}]
[269.5,0,"-5.77791904144405E-003+5.33448242336332E-003i",0,"1.07498084089406-0.992479534598718i","-4.58393818462328E-06+0.0000573446640120157i",null,0,null,269.5,{"$f":"EXP(-((J784)^2/(Sheet2!B$21^2*0.360673760222241)))","v":1.7965795957485471E-9},{"$f":"IF(1-ABS(J784)/Sheet2!B$22 >0, 1-ABS(J784)/Sheet2!B$22,0)","v":0},{"$f":"IF(1-J784/(Sheet2!B$23*2)>0,1-J784/(Sheet2!B$23*2),0)","v":0.15781250000000002},{"$f":"IF(ABS(J784)<Sheet2!B$24/2, 1, 0)","v":0}]
[270.5,0,"3.26028373131983E-003-2.99159130703075E-003i",0,"-0.807500307284487+0.740951125354966i","-2.08028584664404E-06+0.0000241571089969742i",null,0,null,270.5,{"$f":"EXP(-((J785)^2/(Sheet2!B$21^2*0.360673760222241)))","v":1.5467637447459488E-9},{"$f":"IF(1-ABS(J785)/Sheet2!B$22 >0, 1-ABS(J785)/Sheet2!B$22,0)","v":0},{"$f":"IF(1-J785/(Sheet2!B$23*2)>0,1-J785/(Sheet2!B$23*2),0)","v":0.15468749999999998},{"$f":"IF(ABS(J785)<Sheet2!B$24/2, 1, 0)","v":0}]
[271.5,0,"-2.88613546807582E-004+2.63201399323499E-004i",0,"0.240255508496245-0.219101240156875i","-5.83662072217846E-08+6.3235586031503E-07i",null,0,null,271.5,{"$f":"EXP(-((J786)^2/(Sheet2!B$21^2*0.360673760222241)))","v":1.3309467523357902E-9},{"$f":"IF(1-ABS(J786)/Sheet2!B$22 >0, 1-ABS(J786)/Sheet2!B$22,0)","v":0},{"$f":"IF(1-J786/(Sheet2!B$23*2)>0,1-J786/(Sheet2!B$23*2),0)","v":0.15156250000000004},{"$f":"IF(ABS(J786)<Sheet2!B$24/2, 1, 0)","v":0}]
[272.5,0,"8.91374406662389E-004-8.07894670014563E-004i",0,"0.422226102144977-0.382683432365091i","3.35968179831083E-07-3.41114217463955E-06i",null,0,null,272.5,{"$f":"EXP(-((J787)^2/(Sheet2!B$21^2*0.360673760222241)))","v":1.1446074117345377E-9},{"$f":"IF(1-ABS(J787)/Sheet2!B$22 >0, 1-ABS(J787)/Sheet2!B$22,0)","v":0},{"$f":"IF(1-J787/(Sheet2!B$23*2)>0,1-J787/(Sheet2!B$23*2),0)","v":0.1484375},{"$f":"IF(ABS(J787)<Sheet2!B$24/2, 1, 0)","v":0}]
[273.5,0,"-4.39846111312018E-003+3.96202144280609E-003i",0,"-0.937919091726204+0.844853565249709i","3.89036355330093E-06-0.0000371605555303411i",null,0,null,273.5,{"$f":"EXP(-((J788)^2/(Sheet2!B$21^2*0.360673760222241)))","v":9.8381083833958129E-10},{"$f":"IF(1-ABS(J788)/Sheet2!B$22 >0, 1-ABS(J788)/Sheet2!B$22,0)","v":0},{"$f":"IF(1-J788/(Sheet2!B$23*2)>0,1-J788/(Sheet2!B$23*2),0)","v":0.14531249999999996},{"$f":"IF(ABS(J788)<Sheet2!B$24/2, 1, 0)","v":0}]
[274.5,0,"6.22374038035937E-003-5.57169447961382E-003i",0,"1.11568278469823-0.998795456205176i","6.89368434598209E-06-0.0000621624361250346i",null,0,null,274.5,{"$f":"EXP(-((J789)^2/(Sheet2!B$21^2*0.360673760222241)))","v":8.4513449395340045E-10},{"$f":"IF(1-ABS(J789)/Sheet2!B$22 >0, 1-ABS(J789)/Sheet2!B$22,0)","v":0},{"$f":"IF(1-J789/(Sheet2!B$23*2)>0,1-J789/(Sheet2!B$23*2),0)","v":0.14218750000000002},{"$f":"IF(ABS(J789)<Sheet2!B$24/2, 1, 0)","v":0}]
[275.5,0,"-3.92551540979008E-003+3.49261286513197E-003i",0,"-0.886060427938306+0.788346427626608i","3.62427494283746E-06-0.0000309466604990144i",null,0,null,275.5,{"$f":"EXP(-((J790)^2/(Sheet2!B$21^2*0.360673760222241)))","v":7.2560326564970107E-10},{"$f":"IF(1-ABS(J790)/Sheet2!B$22 >0, 1-ABS(J790)/Sheet2!B$22,0)","v":0},{"$f":"IF(1-J790/(Sheet2!B$23*2)>0,1-J790/(Sheet2!B$23*2),0)","v":0.13906249999999998},{"$f":"IF(ABS(J790)<Sheet2!B$24/2, 1, 0)","v":0}]
[276.5,0,"5.38863398007701E-004-4.76484148167954E-004i",0,"0.328287495347603-0.290284677254462i","1.92930340493225E-07-1.56423787574901E-06i",null,0,null,276.5,{"$f":"EXP(-((J791)^2/(Sheet2!B$21^2*0.360673760222241)))","v":6.2263252792387825E-10},{"$f":"IF(1-ABS(J791)/Sheet2!B$22 >0, 1-ABS(J791)/Sheet2!B$22,0)","v":0},{"$f":"IF(1-J791/(Sheet2!B$23*2)>0,1-J791/(Sheet2!B$23*2),0)","v":0.13593750000000004},{"$f":"IF(ABS(J791)<Sheet2!B$24/2, 1, 0)","v":0}]
[277.5,0,"-6.37060951022489E-004+5.59841042503766E-004i",0,"0.356948441941788-0.313681740398895i","-2.5893000665059E-07+1.99834387856848E-06i",null,0,null,277.5,{"$f":"EXP(-((J792)^2/(Sheet2!B$21^2*0.360673760222241)))","v":5.3397823875293937E-10},{"$f":"IF(1-ABS(J792)/Sheet2!B$22 >0, 1-ABS(J792)/Sheet2!B$22,0)","v":0},{"$f":"IF(1-J792/(Sheet2!B$23*2)>0,1-J792/(Sheet2!B$23*2),0)","v":0.1328125},{"$f":"IF(ABS(J792)<Sheet2!B$24/2, 1, 0)","v":0}]
[278.5,0,"4.22896773184124E-003-3.69343074423902E-003i",0,"-0.919670346574619+0.803207531480651i","-4.61332414410173E-06+0.0000339673873260359i",null,0,null,278.5,{"$f":"EXP(-((J793)^2/(Sheet2!B$21^2*0.360673760222241)))","v":4.5769322888879148E-10},{"$f":"IF(1-ABS(J793)/Sheet2!B$22 >0, 1-ABS(J793)/Sheet2!B$22,0)","v":0},{"$f":"IF(1-J793/(Sheet2!B$23*2)>0,1-J793/(Sheet2!B$23*2),0)","v":0.12968749999999996},{"$f":"IF(ABS(J793)<Sheet2!B$24/2, 1, 0)","v":0}]
[279.5,0,"-6.63281656442026E-003+5.75709206344579E-003i",0,"1.15176530286541-0.999698818696212i","-9.42044922109057E-06+0.0000663081888407914i",null,0,null,279.5,{"$f":"EXP(-((J794)^2/(Sheet2!B$21^2*0.360673760222241)))","v":3.9208894049516936E-10},{"$f":"IF(1-ABS(J794)/Sheet2!B$22 >0, 1-ABS(J794)/Sheet2!B$22,0)","v":0},{"$f":"IF(1-J794/(Sheet2!B$23*2)>0,1-J794/(Sheet2!B$23*2),0)","v":0.12656250000000002},{"$f":"IF(ABS(J794)<Sheet2!B$24/2, 1, 0)","v":0}]
[280.5,0,"4.64555800057611E-003-4.00728588993979E-003i",0,"-0.963904352161434+0.831469612302547i","-5.72968564839989E-06+0.0000386264030966804i",null,0,null,280.5,{"$f":"EXP(-((J795)^2/(Sheet2!B$21^2*0.360673760222241)))","v":3.3570195735219748E-10},{"$f":"IF(1-ABS(J795)/Sheet2!B$22 >0, 1-ABS(J795)/Sheet2!B$22,0)","v":0},{"$f":"IF(1-J795/(Sheet2!B$23*2)>0,1-J795/(Sheet2!B$23*2),0)","v":0.12343749999999998},{"$f":"IF(ABS(J795)<Sheet2!B$24/2, 1, 0)","v":0}]
[281.5,0,"-8.81225865688743E-004+7.5544782879986E-004i",0,"0.419815641845965-0.359895036534989i","-4.9035239234591E-07+3.17148815128191E-06i",null,0,null,281.5,{"$f":"EXP(-((J796)^2/(Sheet2!B$21^2*0.360673760222241)))","v":2.8726474541190745E-10},{"$f":"IF(1-ABS(J796)/Sheet2!B$22 >0, 1-ABS(J796)/Sheet2!B$22,0)","v":0},{"$f":"IF(1-J796/(Sheet2!B$23*2)>0,1-J796/(Sheet2!B$23*2),0)","v":0.12031250000000004},{"$f":"IF(ABS(J796)<Sheet2!B$24/2, 1, 0)","v":0}]
[282.5,0,"4.06698653977534E-004-3.46491207871459E-004i",0,"0.285201211069872-0.242980179903265i","1.59002263156864E-07-9.88197121099399E-07i",null,0,null,282.5,{"$f":"EXP(-((J797)^2/(Sheet2!B$21^2*0.360673760222241)))","v":2.4568009050143757E-10},{"$f":"IF(1-ABS(J797)/Sheet2!B$22 >0, 1-ABS(J797)/Sheet2!B$22,0)","v":0},{"$f":"IF(1-J797/(Sheet2!B$23*2)>0,1-J797/(Sheet2!B$23*2),0)","v":0.1171875},{"$f":"IF(ABS(J797)<Sheet2!B$24/2, 1, 0)","v":0}]
[283.5,0,"-3.99910897936102E-003+3.38596372444378E-003i",0,"-0.894327566315947+0.757208846506487i","5.06315857422654E-06-0.0000302816069731579i",null,0,null,283.5,{"$f":"EXP(-((J798)^2/(Sheet2!B$21^2*0.360673760222241)))","v":2.0999878034610909E-10},{"$f":"IF(1-ABS(J798)/Sheet2!B$22 >0, 1-ABS(J798)/Sheet2!B$22,0)","v":0},{"$f":"IF(1-J798/(Sheet2!B$23*2)>0,1-J798/(Sheet2!B$23*2),0)","v":0.11406249999999996},{"$f":"IF(ABS(J798)<Sheet2!B$24/2, 1, 0)","v":0}]
[284.5,0,"6.99432282341288E-003-5.88520426472226E-003i",0,"1.1827360503015-0.995184726672199i","0.0000120778617654965-0.0000696064324727521i",null,0,null,284.5,{"$f":"EXP(-((J799)^2/(Sheet2!B$21^2*0.360673760222241)))","v":1.7940013163964509E-10},{"$f":"IF(1-ABS(J799)/Sheet2!B$22 >0, 1-ABS(J799)/Sheet2!B$22,0)","v":0},{"$f":"IF(1-J799/(Sheet2!B$23*2)>0,1-J799/(Sheet2!B$23*2),0)","v":0.11093750000000002},{"$f":"IF(ABS(J799)<Sheet2!B$24/2, 1, 0)","v":0}]
[285.5,0,"-5.41347040972546E-003+4.526740108227E-003i",0,"-1.04052586798515+0.870086991108711i","8.47099158296579E-06-0.0000471019018025508i",null,0,null,285.5,{"$f":"EXP(-((J800)^2/(Sheet2!B$21^2*0.360673760222241)))","v":1.5317501035805033E-10},{"$f":"IF(1-ABS(J800)/Sheet2!B$22 >0, 1-ABS(J800)/Sheet2!B$22,0)","v":0},{"$f":"IF(1-J800/(Sheet2!B$23*2)>0,1-J800/(Sheet2!B$23*2),0)","v":0.10781249999999998},{"$f":"IF(ABS(J800)<Sheet2!B$24/2, 1, 0)","v":0}]
[286.5,0,"1.32358765672613E-003-1.0999006049361E-003i",0,"0.514507076090132-0.427555093430276i","0.0000010536355465184-0.0000056590664423507i",null,0,null,286.5,{"$f":"EXP(-((J801)^2/(Sheet2!B$21^2*0.360673760222241)))","v":1.3071103555727568E-10},{"$f":"IF(1-ABS(J801)/Sheet2!B$22 >0, 1-ABS(J801)/Sheet2!B$22,0)","v":0},{"$f":"IF(1-J801/(Sheet2!B$23*2)>0,1-J801/(Sheet2!B$23*2),0)","v":0.10468750000000004},{"$f":"IF(ABS(J801)<Sheet2!B$24/2, 1, 0)","v":0}]
[287.5,0,"-2.14284851401871E-004+1.76962010788819E-004i",0,"0.207019250996568-0.170961888760313i","-7.05366491692341E-08+3.66345429283674E-07i",null,0,null,287.5,{"$f":"EXP(-((J802)^2/(Sheet2!B$21^2*0.360673760222241)))","v":1.114796941050541E-10},{"$f":"IF(1-ABS(J802)/Sheet2!B$22 >0, 1-ABS(J802)/Sheet2!B$22,0)","v":0},{"$f":"IF(1-J802/(Sheet2!B$23*2)>0,1-J802/(Sheet2!B$23*2),0)","v":0.1015625},{"$f":"IF(ABS(J802)<Sheet2!B$24/2, 1, 0)","v":0}]
[288.5,0,"3.71187710467561E-003-3.04625881396974E-003i",0,"-0.861612105842973+0.707106781186551i","-5.22083992091283E-06+0.0000262469347164721i",null,0,null,288.5,{"$f":"EXP(-((J803)^2/(Sheet2!B$21^2*0.360673760222241)))","v":9.5025126705378382E-11},{"$f":"IF(1-ABS(J803)/Sheet2!B$22 >0, 1-ABS(J803)/Sheet2!B$22,0)","v":0},{"$f":"IF(1-J803/(Sheet2!B$23*2)>0,1-J803/(Sheet2!B$23*2),0)","v":9.8437499999999956E-2},{"$f":"IF(ABS(J803)<Sheet2!B$24/2, 1, 0)","v":0}]
[289.5,0,"-7.29756885928284E-003+5.95158624002677E-003i",0,"1.20810337796774-0.985277642388946i","-0.0000147612636540186+0.0000719013144084392i",null,0,null,289.5,{"$f":"EXP(-((J804)^2/(Sheet2!B$21^2*0.360673760222241)))","v":8.0954374655817774E-11},{"$f":"IF(1-ABS(J804)/Sheet2!B$22 >0, 1-ABS(J804)/Sheet2!B$22,0)","v":0},{"$f":"IF(1-J804/(Sheet2!B$23*2)>0,1-J804/(Sheet2!B$23*2),0)","v":9.5312500000000022E-2},{"$f":"IF(ABS(J804)<Sheet2!B$24/2, 1, 0)","v":0}]
[290.5,0,"6.22059223466486E-003-5.04155089527472E-003i",0,"-1.11540057689316+0.903989293123448i","-0.0000119047206854851+0.0000562334877702477i",null,0,null,290.5,{"$f":"EXP(-((J805)^2/(Sheet2!B$21^2*0.360673760222241)))","v":6.892890245919324E-11},{"$f":"IF(1-ABS(J805)/Sheet2!B$22 >0, 1-ABS(J805)/Sheet2!B$22,0)","v":0},{"$f":"IF(1-J805/(Sheet2!B$23*2)>0,1-J805/(Sheet2!B$23*2),0)","v":9.2187499999999978E-2},{"$f":"IF(ABS(J805)<Sheet2!B$24/2, 1, 0)","v":0}]
[291.5,0,"-1.87271160861666E-003+1.50826508905422E-003i",0,"0.611998628857707-0.492898192229789i","-0.0000020133790046059+9.23056166455011E-06i",null,0,null,291.5,{"$f":"EXP(-((J806)^2/(Sheet2!B$21^2*0.360673760222241)))","v":5.8657234072890277E-11},{"$f":"IF(1-ABS(J806)/Sheet2!B$22 >0, 1-ABS(J806)/Sheet2!B$22,0)","v":0},{"$f":"IF(1-J806/(Sheet2!B$23*2)>0,1-J806/(Sheet2!B$23*2),0)","v":8.9062500000000044E-2},{"$f":"IF(ABS(J806)<Sheet2!B$24/2, 1, 0)","v":0}]
[292.5,0,"7.49927189484079E-005-6.00200813561248E-005i",0,"0.122468542041287-9.8017140329561E-002i","1.65062610822428E-08-7.35057185687273E-08i",null,0,null,292.5,{"$f":"EXP(-((J807)^2/(Sheet2!B$21^2*0.360673760222241)))","v":4.9888560561702402E-11},{"$f":"IF(1-ABS(J807)/Sheet2!B$22 >0, 1-ABS(J807)/Sheet2!B$22,0)","v":0},{"$f":"IF(1-J807/(Sheet2!B$23*2)>0,1-J807/(Sheet2!B$23*2),0)","v":8.59375E-2},{"$f":"IF(ABS(J807)<Sheet2!B$24/2, 1, 0)","v":0}]
[293.5,0,"-3.37238696912488E-003+2.68214234759076E-003i",0,"-0.821265726683558+0.653172842953779i","5.08861646236963E-06-0.0000220275158416322i",null,0,null,293.5,{"$f":"EXP(-((J808)^2/(Sheet2!B$21^2*0.360673760222241)))","v":4.2407194527360671E-11},{"$f":"IF(1-ABS(J808)/Sheet2!B$22 >0, 1-ABS(J808)/Sheet2!B$22,0)","v":0},{"$f":"IF(1-J808/(Sheet2!B$23*2)>0,1-J808/(Sheet2!B$23*2),0)","v":8.2812499999999956E-2},{"$f":"IF(ABS(J808)<Sheet2!B$24/2, 1, 0)","v":0}]
[294.5,0,"7.53228058117987E-003-5.95297383556214E-003i",0,"1.2273777398325-0.970031253194548i","0.0000173519142278404-0.0000730654757157457i",null,0,null,294.5,{"$f":"EXP(-((J809)^2/(Sheet2!B$21^2*0.360673760222241)))","v":3.602776219088724E-11},{"$f":"IF(1-ABS(J809)/Sheet2!B$22 >0, 1-ABS(J809)/Sheet2!B$22,0)","v":0},{"$f":"IF(1-J809/(Sheet2!B$23*2)>0,1-J809/(Sheet2!B$23*2),0)","v":7.9687500000000022E-2},{"$f":"IF(ABS(J809)<Sheet2!B$24/2, 1, 0)","v":0}]
[295.5,0,"-7.05656707031041E-003+5.54191717327907E-003i",0,"-1.18798712706098+0.932992798834742i","0.0000160627101318161-0.0000658372626109385i",null,0,null,295.5,{"$f":"EXP(-((J810)^2/(Sheet2!B$21^2*0.360673760222241)))","v":3.0591037644161673E-11},{"$f":"IF(1-ABS(J810)/Sheet2!B$22 >0, 1-ABS(J810)/Sheet2!B$22,0)","v":0},{"$f":"IF(1-J810/(Sheet2!B$23*2)>0,1-J810/(Sheet2!B$23*2),0)","v":7.6562499999999978E-2},{"$f":"IF(ABS(J810)<Sheet2!B$24/2, 1, 0)","v":0}]
[296.5,0,"2.53398998918483E-003-1.97754519704621E-003i",0,"0.711897463007934-0.555570233019605i","3.52637899329209E-06-0.0000140780940876074i",null,0,null,296.5,{"$f":"EXP(-((J811)^2/(Sheet2!B$21^2*0.360673760222241)))","v":2.5960335779721283E-11},{"$f":"IF(1-ABS(J811)/Sheet2!B$22 >0, 1-ABS(J811)/Sheet2!B$22,0)","v":0},{"$f":"IF(1-J811/(Sheet2!B$23*2)>0,1-J811/(Sheet2!B$23*2),0)","v":7.3437500000000044E-2},{"$f":"IF(ABS(J811)<Sheet2!B$24/2, 1, 0)","v":0}]
[297.5,0,"-5.00746668645462E-006+3.88320515994495E-006i",0,"3.16463795326645E-002-2.45412285229128E-002i","-3.15847830125768E-10+1.22889384283987E-09i",null,0,null,297.5,{"$f":"EXP(-((J812)^2/(Sheet2!B$21^2*0.360673760222241)))","v":2.2018390944221302E-11},{"$f":"IF(1-ABS(J812)/Sheet2!B$22 >0, 1-ABS(J812)/Sheet2!B$22,0)","v":0},{"$f":"IF(1-J812/(Sheet2!B$23*2)>0,1-J812/(Sheet2!B$23*2),0)","v":7.03125E-2},{"$f":"IF(ABS(J812)<Sheet2!B$24/2, 1, 0)","v":0}]
[298.5,0,"2.98804302233492E-003-2.30253117132721E-003i",0,"-0.773051488884857+0.595699304492437i","-4.69147444968121E-06+0.0000177997515019834i",null,0,null,298.5,{"$f":"EXP(-((J813)^2/(Sheet2!B$21^2*0.360673760222241)))","v":1.8664657611317595E-11},{"$f":"IF(1-ABS(J813)/Sheet2!B$22 >0, 1-ABS(J813)/Sheet2!B$22,0)","v":0},{"$f":"IF(1-J813/(Sheet2!B$23*2)>0,1-J813/(Sheet2!B$23*2),0)","v":6.7187499999999956E-2},{"$f":"IF(ABS(J813)<Sheet2!B$24/2, 1, 0)","v":0}]
[299.5,0,"-7.68890475634134E-003+5.88742111740514E-003i",0,"1.24007296207469-0.949528180593044i","-0.0000197226531715581+0.0000730083174404183i",null,0,null,299.5,{"$f":"EXP(-((J814)^2/(Sheet2!B$21^2*0.360673760222241)))","v":1.5812977485126451E-11},{"$f":"IF(1-ABS(J814)/Sheet2!B$22 >0, 1-ABS(J814)/Sheet2!B$22,0)","v":0},{"$f":"IF(1-J814/(Sheet2!B$23*2)>0,1-J814/(Sheet2!B$23*2),0)","v":6.4062500000000022E-2},{"$f":"IF(ABS(J814)<Sheet2!B$24/2, 1, 0)","v":0}]
[300.5,0,"7.90940366984398E-003-6.01785519781608E-003i",0,"-1.25772840230666+0.956940335732215i","-0.0000209457663374266+0.0000756882740326208i",null,0,null,300.5,{"$f":"EXP(-((J815)^2/(Sheet2!B$21^2*0.360673760222241)))","v":1.3389564560025016E-11},{"$f":"IF(1-ABS(J815)/Sheet2!B$22 >0, 1-ABS(J815)/Sheet2!B$22,0)","v":0},{"$f":"IF(1-J815/(Sheet2!B$23*2)>0,1-J815/(Sheet2!B$23*2),0)","v":6.0937499999999978E-2},{"$f":"IF(ABS(J815)<Sheet2!B$24/2, 1, 0)","v":0}]
[301.5,0,"-3.31120385775731E-003+2.5033212681864E-003i",0,"0.813781771454494-0.615231590580633i","-5.77237507726026E-06+0.000020371572161446i",null,0,null,301.5,{"$f":"EXP(-((J816)^2/(Sheet2!B$21^2*0.360673760222241)))","v":1.1331265895323434E-11},{"$f":"IF(1-ABS(J816)/Sheet2!B$22 >0, 1-ABS(J816)/Sheet2!B$22,0)","v":0},{"$f":"IF(1-J816/(Sheet2!B$23*2)>0,1-J816/(Sheet2!B$23*2),0)","v":5.7812500000000044E-2},{"$f":"IF(ABS(J816)<Sheet2!B$24/2, 1, 0)","v":0}]
[302.5,0,"2.13326048829595E-005-1.60251617214249E-005i",0,"-6.53186112599945E-002+4.90676743274206E-002i","-3.03549354560984E-09+1.04674130890645E-08i",null,0,null,302.5,{"$f":"EXP(-((J817)^2/(Sheet2!B$21^2*0.360673760222241)))","v":9.5840613196830658E-12},{"$f":"IF(1-ABS(J817)/Sheet2!B$22 >0, 1-ABS(J817)/Sheet2!B$22,0)","v":0},{"$f":"IF(1-J817/(Sheet2!B$23*2)>0,1-J817/(Sheet2!B$23*2),0)","v":5.46875E-2},{"$f":"IF(ABS(J817)<Sheet2!B$24/2, 1, 0)","v":0}]
[303.5,0,"-2.56868465945456E-003+1.91730960586151E-003i",0,"-0.716754443231476+0.534997619887098i","4.07680033601004E-06-0.0000137424017905016i",null,0,null,303.5,{"$f":"EXP(-((J818)^2/(Sheet2!B$21^2*0.360673760222241)))","v":8.1017700533923878E-12},{"$f":"IF(1-ABS(J818)/Sheet2!B$22 >0, 1-ABS(J818)/Sheet2!B$22,0)","v":0},{"$f":"IF(1-J818/(Sheet2!B$23*2)>0,1-J818/(Sheet2!B$23*2),0)","v":5.1562499999999956E-2},{"$f":"IF(ABS(J818)<Sheet2!B$24/2, 1, 0)","v":0}]
[304.5,0,"7.75893394016645E-003-5.7544175952131E-003i",0,"1.24570734445655-0.923879532511292i","0.0000217448617833916-0.0000716832026142697i",null,0,null,304.5,{"$f":"EXP(-((J819)^2/(Sheet2!B$21^2*0.360673760222241)))","v":6.8449364093065368E-12},{"$f":"IF(1-ABS(J819)/Sheet2!B$22 >0, 1-ABS(J819)/Sheet2!B$22,0)","v":0},{"$f":"IF(1-J819/(Sheet2!B$23*2)>0,1-J819/(Sheet2!B$23*2),0)","v":4.8437500000000022E-2},{"$f":"IF(ABS(J819)<Sheet2!B$24/2, 1, 0)","v":0}]
[305.5,0,"-8.7655769264558E-003+6.45940489054804E-003i",0,"-1.3240526369038+0.975702130038534i","0.0000265181506648393-0.0000855259207815949i",null,0,null,305.5,{"$f":"EXP(-((J820)^2/(Sheet2!B$21^2*0.360673760222241)))","v":5.7798703783777923E-12},{"$f":"IF(1-ABS(J820)/Sheet2!B$22 >0, 1-ABS(J820)/Sheet2!B$22,0)","v":0},{"$f":"IF(1-J820/(Sheet2!B$23*2)>0,1-J820/(Sheet2!B$23*2),0)","v":4.5312499999999978E-2},{"$f":"IF(ABS(J820)<Sheet2!B$24/2, 1, 0)","v":0}]
[306.5,0,"4.20629319235905E-003-3.0797744894119E-003i",0,"0.917201525550548-0.671558954847022i","8.94884197835315E-06-0.0000282477386004052i",null,0,null,306.5,{"$f":"EXP(-((J821)^2/(Sheet2!B$21^2*0.360673760222241)))","v":4.8778220877155188E-12},{"$f":"IF(1-ABS(J821)/Sheet2!B$22 >0, 1-ABS(J821)/Sheet2!B$22,0)","v":0},{"$f":"IF(1-J821/(Sheet2!B$23*2)>0,1-J821/(Sheet2!B$23*2),0)","v":4.2187500000000044E-2},{"$f":"IF(ABS(J821)<Sheet2!B$24/2, 1, 0)","v":0}]
[307.5,0,"-1.41568281217241E-004+1.02988154359938E-004i",0,"-0.168266622489345+0.122410675199215i","5.60718350966297E-08-1.73294688905764E-07i",null,0,null,307.5,{"$f":"EXP(-((J822)^2/(Sheet2!B$21^2*0.360673760222241)))","v":4.1142718948899479E-12},{"$f":"IF(1-ABS(J822)/Sheet2!B$22 >0, 1-ABS(J822)/Sheet2!B$22,0)","v":0},{"$f":"IF(1-J822/(Sheet2!B$23*2)>0,1-J822/(Sheet2!B$23*2),0)","v":3.90625E-2},{"$f":"IF(ABS(J822)<Sheet2!B$24/2, 1, 0)","v":0}]
[308.5,0,"2.12670747719552E-003-1.53718257579008E-003i",0,"-0.652182102973677+0.471396736826003i","-3.31188852376992E-06+0.0000100252296493335i",null,0,null,308.5,{"$f":"EXP(-((J823)^2/(Sheet2!B$21^2*0.360673760222241)))","v":3.468320301901942E-12},{"$f":"IF(1-ABS(J823)/Sheet2!B$22 >0, 1-ABS(J823)/Sheet2!B$22,0)","v":0},{"$f":"IF(1-J823/(Sheet2!B$23*2)>0,1-J823/(Sheet2!B$23*2),0)","v":3.5937499999999956E-2},{"$f":"IF(ABS(J823)<Sheet2!B$24/2, 1, 0)","v":0}]
[309.5,0,"-7.73524892136644E-003+5.55498229607865E-003i",0,"1.24380456032033-0.893224301195524i","-0.0000232964635202007+0.0000690931231236115i",null,0,null,309.5,{"$f":"EXP(-((J824)^2/(Sheet2!B$21^2*0.360673760222241)))","v":2.9221639800737579E-12},{"$f":"IF(1-ABS(J824)/Sheet2!B$22 >0, 1-ABS(J824)/Sheet2!B$22,0)","v":0},{"$f":"IF(1-J824/(Sheet2!B$23*2)>0,1-J824/(Sheet2!B$23*2),0)","v":3.2812500000000022E-2},{"$f":"IF(ABS(J824)<Sheet2!B$24/2, 1, 0)","v":0}]
[310.5,0,"9.61017019366129E-003-6.85684506264002E-003i",0,"-1.38637442227293+0.98917650996479i","-0.0000327033204087507+0.0000950615461233304i",null,0,null,310.5,{"$f":"EXP(-((J825)^2/(Sheet2!B$21^2*0.360673760222241)))","v":2.4606460319890374E-12},{"$f":"IF(1-ABS(J825)/Sheet2!B$22 >0, 1-ABS(J825)/Sheet2!B$22,0)","v":0},{"$f":"IF(1-J825/(Sheet2!B$23*2)>0,1-J825/(Sheet2!B$23*2),0)","v":2.9687499999999978E-2},{"$f":"IF(ABS(J825)<Sheet2!B$24/2, 1, 0)","v":0}]
[311.5,0,"-5.21914247543907E-003+3.6997410918491E-003i",0,"1.02167925254885-0.724247082951473i","-0.0000132638144490257+0.0000377994871334476i",null,0,null,311.5,{"$f":"EXP(-((J826)^2/(Sheet2!B$21^2*0.360673760222241)))","v":2.0708702127573672E-12},{"$f":"IF(1-ABS(J826)/Sheet2!B$22 >0, 1-ABS(J826)/Sheet2!B$22,0)","v":0},{"$f":"IF(1-J826/(Sheet2!B$23*2)>0,1-J826/(Sheet2!B$23*2),0)","v":2.6562500000000044E-2},{"$f":"IF(ABS(J826)<Sheet2!B$24/2, 1, 0)","v":0}]
[312.5,0,"3.83664317087084E-004-2.70206898391174E-004i",0,"-0.277006973590429+0.195090322016126i","-2.67814702664095E-07+7.4849195166606E-07i",null,0,null,312.5,{"$f":"EXP(-((J827)^2/(Sheet2!B$21^2*0.360673760222241)))","v":1.7418702203914756E-12},{"$f":"IF(1-ABS(J827)/Sheet2!B$22 >0, 1-ABS(J827)/Sheet2!B$22,0)","v":0},{"$f":"IF(1-J827/(Sheet2!B$23*2)>0,1-J827/(Sheet2!B$23*2),0)","v":2.34375E-2},{"$f":"IF(ABS(J827)<Sheet2!B$24/2, 1, 0)","v":0}]
[313.5,0,"-1.67715858801106E-003+1.17350726407304E-003i",0,"-0.579164672267665+0.405241314004996i","2.47898689139479E-06-6.79653950000476E-06i",null,0,null,313.5,{"$f":"EXP(-((J828)^2/(Sheet2!B$21^2*0.360673760222241)))","v":1.4643263703979613E-12},{"$f":"IF(1-ABS(J828)/Sheet2!B$22 >0, 1-ABS(J828)/Sheet2!B$22,0)","v":0},{"$f":"IF(1-J828/(Sheet2!B$23*2)>0,1-J828/(Sheet2!B$23*2),0)","v":2.0312499999999956E-2},{"$f":"IF(ABS(J828)<Sheet2!B$24/2, 1, 0)","v":0}]
[314.5,0,"7.61247593298525E-003-5.29173228890103E-003i",0,"1.23389431743466-0.857728610000281i","0.0000242706030733296-0.0000652943840066026i",null,0,null,314.5,{"$f":"EXP(-((J829)^2/(Sheet2!B$21^2*0.360673760222241)))","v":1.2303230159945165E-12},{"$f":"IF(1-ABS(J829)/Sheet2!B$22 >0, 1-ABS(J829)/Sheet2!B$22,0)","v":0},{"$f":"IF(1-J829/(Sheet2!B$23*2)>0,1-J829/(Sheet2!B$23*2),0)","v":1.7187500000000022E-2},{"$f":"IF(ABS(J829)<Sheet2!B$24/2, 1, 0)","v":0}]
[315.5,0,"-1.04270600277369E-002+7.2009136356366E-003i",0,"-1.44409556662562+0.997290456678696i","0.000039381343554031-0.000103988074568774i",null,0,null,315.5,{"$f":"EXP(-((J830)^2/(Sheet2!B$21^2*0.360673760222241)))","v":1.0331409830246136E-12},{"$f":"IF(1-ABS(J830)/Sheet2!B$22 >0, 1-ABS(J830)/Sheet2!B$22,0)","v":0},{"$f":"IF(1-J830/(Sheet2!B$23*2)>0,1-J830/(Sheet2!B$23*2),0)","v":1.4062499999999978E-2},{"$f":"IF(ABS(J830)<Sheet2!B$24/2, 1, 0)","v":0}]
[316.5,0,"6.34738632677753E-003-4.35479619764963E-003i",0,"1.12671081709371-0.773010453362736i","0.0000189268292580275-0.0000490659598213056i",null,0,null,316.5,{"$f":"EXP(-((J831)^2/(Sheet2!B$21^2*0.360673760222241)))","v":8.6708007547548842E-13},{"$f":"IF(1-ABS(J831)/Sheet2!B$22 >0, 1-ABS(J831)/Sheet2!B$22,0)","v":0},{"$f":"IF(1-J831/(Sheet2!B$23*2)>0,1-J831/(Sheet2!B$23*2),0)","v":1.0937500000000044E-2},{"$f":"IF(ABS(J831)<Sheet2!B$24/2, 1, 0)","v":0}]
[317.5,0,"-7.65651166891259E-004+5.21848291571347E-004i",0,"-0.391318582973584+0.266712757474888i","8.02149664257026E-07-2.04208933985159E-06i",null,0,null,317.5,{"$f":"EXP(-((J832)^2/(Sheet2!B$21^2*0.360673760222241)))","v":7.2730738913047625E-13},{"$f":"IF(1-ABS(J832)/Sheet2!B$22 >0, 1-ABS(J832)/Sheet2!B$22,0)","v":0},{"$f":"IF(1-J832/(Sheet2!B$23*2)>0,1-J832/(Sheet2!B$23*2),0)","v":7.8125E-3},{"$f":"IF(ABS(J832)<Sheet2!B$24/2, 1, 0)","v":0}]
[318.5,0,"1.23780491987156E-003-8.38106165083352E-004i",0,"-0.497555005982552+0.336889853392241i","-1.66763285614931E-06+4.17003917982893E-06i",null,0,null,318.5,{"$f":"EXP(-((J833)^2/(Sheet2!B$21^2*0.360673760222241)))","v":6.0972776096444076E-13},{"$f":"IF(1-ABS(J833)/Sheet2!B$22 >0, 1-ABS(J833)/Sheet2!B$22,0)","v":0},{"$f":"IF(1-J833/(Sheet2!B$23*2)>0,1-J833/(Sheet2!B$23*2),0)","v":4.6874999999999556E-3},{"$f":"IF(ABS(J833)<Sheet2!B$24/2, 1, 0)","v":0}]
[319.5,0,"-7.38735606548807E-003+4.96892376860606E-003i",0,"1.21551273670978-0.817584813151616i","-0.0000245845438864529+0.0000603979012848357i",null,0,null,319.5,{"$f":"EXP(-((J834)^2/(Sheet2!B$21^2*0.360673760222241)))","v":5.1087319236627451E-13},{"$f":"IF(1-ABS(J834)/Sheet2!B$22 >0, 1-ABS(J834)/Sheet2!B$22,0)","v":0},{"$f":"IF(1-J834/(Sheet2!B$23*2)>0,1-J834/(Sheet2!B$23*2),0)","v":1.5625000000000222E-3},{"$f":"IF(ABS(J834)<Sheet2!B$24/2, 1, 0)","v":0}]
[320.5,0,"1.11991440442167E-002-7.48302881332677E-003i",0,"-1.49660576266549+1i","-0.0000463883735008442+0.000111991440442167i",null,{"$f":"IMABS(G835)","v":0},null,320.5,{"$f":"EXP(-((J835)^2/(Sheet2!B$21^2*0.360673760222241)))","v":4.278085255816584E-13},{"$f":"IF(1-ABS(J835)/Sheet2!B$22 >0, 1-ABS(J835)/Sheet2!B$22,0)","v":0},{"$f":"IF(1-J835/(Sheet2!B$23*2)>0,1-J835/(Sheet2!B$23*2),0)","v":0},{"$f":"IF(ABS(J835)<Sheet2!B$24/2, 1, 0)","v":0}]
[321.5,0,"-7.58623957806123E-003+5.03536659968976E-003i",0,"1.23176617732882-0.817584813151588i",{"$f":"IMPRODUCT(C836,E836,D$1027)","v":"-0.0000261381703240599+0.0000620239426795072i"},null,0,null,321.5,{"$f":"EXP(-((J836)^2/(Sheet2!B$21^2*0.360673760222241)))","v":3.580510340229917E-13},{"$f":"IF(1-ABS(J836)/Sheet2!B$22 >0, 1-ABS(J836)/Sheet2!B$22,0)","v":0},{"$f":"IF(1-J836/(Sheet2!B$23*2)>0,1-J836/(Sheet2!B$23*2),0)","v":0},{"$f":"IF(ABS(J836)<Sheet2!B$24/2, 1, 0)","v":0}]
[{"$f":"A836+1","v":322.5},0,"1.30535257829231E-003-8.60670363653235E-004i",0,"-0.510950600018215+0.336889853392224i","-1.88509785241805E-06+4.39760038726287E-06i",null,0,null,{"$f":"J836+1","v":322.5},{"$f":"EXP(-((J837)^2/(Sheet2!B$21^2*0.360673760222241)))","v":2.9950191624009621E-13},{"$f":"IF(1-ABS(J837)/Sheet2!B$22 >0, 1-ABS(J837)/Sheet2!B$22,0)","v":0},{"$f":"IF(1-J837/(Sheet2!B$23*2)>0,1-J837/(Sheet2!B$23*2),0)","v":0},{"$f":"IF(ABS(J837)<Sheet2!B$24/2, 1, 0)","v":0}]
[323.5,0,"-8.29174328551399E-004+5.43064877052895E-004i",0,"-0.407228272239121+0.2667127574749i","9.64104491772372E-07-2.21151371595672E-06i",null,0,null,323.5,{"$f":"EXP(-((J838)^2/(Sheet2!B$21^2*0.360673760222241)))","v":2.5038796731284648E-13},{"$f":"IF(1-ABS(J838)/Sheet2!B$22 >0, 1-ABS(J838)/Sheet2!B$22,0)","v":0},{"$f":"IF(1-J838/(Sheet2!B$23*2)>0,1-J838/(Sheet2!B$23*2),0)","v":0},{"$f":"IF(ABS(J838)<Sheet2!B$24/2, 1, 0)","v":0}]
[324.5,0,"7.0591247089351E-003-4.59246437698575E-003i",0,"1.18820239933571-0.77301045336274i","0.0000241882297313035-0.0000545677719159814i",null,0,null,324.5,{"$f":"EXP(-((J839)^2/(Sheet2!B$21^2*0.360673760222241)))","v":2.0921194625039075E-13},{"$f":"IF(1-ABS(J839)/Sheet2!B$22 >0, 1-ABS(J839)/Sheet2!B$22,0)","v":0},{"$f":"IF(1-J839/(Sheet2!B$23*2)>0,1-J839/(Sheet2!B$23*2),0)","v":0},{"$f":"IF(ABS(J839)<Sheet2!B$24/2, 1, 0)","v":0}]
[325.5,0,"-1.19086122626781E-002+7.69550709492135E-003i",0,"-1.5432830111603+0.997290456678695i","0.0000535185160320904-0.000118763453618557i",null,0,null,325.5,{"$f":"EXP(-((J840)^2/(Sheet2!B$21^2*0.360673760222241)))","v":1.7471036891379901E-13},{"$f":"IF(1-ABS(J840)/Sheet2!B$22 >0, 1-ABS(J840)/Sheet2!B$22,0)","v":0},{"$f":"IF(1-J840/(Sheet2!B$23*2)>0,1-J840/(Sheet2!B$23*2),0)","v":0},{"$f":"IF(ABS(J840)<Sheet2!B$24/2, 1, 0)","v":0}]
[326.5,0,"8.92835590258681E-003-5.73087116856696E-003i",0,"1.33629008097712-0.857728610000276i","0.0000350767063527734-0.0000765810629791367i",null,0,null,326.5,{"$f":"EXP(-((J841)^2/(Sheet2!B$21^2*0.360673760222241)))","v":1.4581763758841889E-13},{"$f":"IF(1-ABS(J841)/Sheet2!B$22 >0, 1-ABS(J841)/Sheet2!B$22,0)","v":0},{"$f":"IF(1-J841/(Sheet2!B$23*2)>0,1-J841/(Sheet2!B$23*2),0)","v":0},{"$f":"IF(ABS(J841)<Sheet2!B$24/2, 1, 0)","v":0}]
[327.5,0,"-2.02008422994713E-003+1.28790389371524E-003i",0,"-0.635623194974975+0.40524131400499i","3.81050263078125E-06-8.18621587744262E-06i",null,0,null,327.5,{"$f":"EXP(-((J842)^2/(Sheet2!B$21^2*0.360673760222241)))","v":1.2163557458965121E-13},{"$f":"IF(1-ABS(J842)/Sheet2!B$22 >0, 1-ABS(J842)/Sheet2!B$22,0)","v":0},{"$f":"IF(1-J842/(Sheet2!B$23*2)>0,1-J842/(Sheet2!B$23*2),0)","v":0},{"$f":"IF(ABS(J842)<Sheet2!B$24/2, 1, 0)","v":0}]
[328.5,0,"4.74570390227462E-004-3.00518385296168E-004i",0,"-0.308081284802391+0.195090322016128i","-4.37890134956262E-07+9.25840902487893E-07i",null,0,null,328.5,{"$f":"EXP(-((J843)^2/(Sheet2!B$21^2*0.360673760222241)))","v":1.0140756163953655E-13},{"$f":"IF(1-ABS(J843)/Sheet2!B$22 >0, 1-ABS(J843)/Sheet2!B$22,0)","v":0},{"$f":"IF(1-J843/(Sheet2!B$23*2)>0,1-J843/(Sheet2!B$23*2),0)","v":0},{"$f":"IF(ABS(J843)<Sheet2!B$24/2, 1, 0)","v":0}]
[329.5,0,"-6.62989948616948E-003+4.16989605235581E-003i",0,"1.15151200481558-0.724247082951471i","-0.0000230718689845763+0.0000480168536312026i",null,0,null,329.5,{"$f":"EXP(-((J844)^2/(Sheet2!B$21^2*0.360673760222241)))","v":8.4496602194217605E-14},{"$f":"IF(1-ABS(J844)/Sheet2!B$22 >0, 1-ABS(J844)/Sheet2!B$22,0)","v":0},{"$f":"IF(1-J844/(Sheet2!B$23*2)>0,1-J844/(Sheet2!B$23*2),0)","v":0},{"$f":"IF(ABS(J844)<Sheet2!B$24/2, 1, 0)","v":0}]
[330.5,0,"1.25372621106183E-002-7.83177405252377E-003i",0,"-1.58349373921215+0.989176509964788i","-0.0000605283456745877+0.000124015651790954i",null,0,null,330.5,{"$f":"EXP(-((J845)^2/(Sheet2!B$21^2*0.360673760222241)))","v":7.0366723029076704E-14},{"$f":"IF(1-ABS(J845)/Sheet2!B$22 >0, 1-ABS(J845)/Sheet2!B$22,0)","v":0},{"$f":"IF(1-J845/(Sheet2!B$23*2)>0,1-J845/(Sheet2!B$23*2),0)","v":0},{"$f":"IF(ABS(J845)<Sheet2!B$24/2, 1, 0)","v":0}]
[331.5,0,"-1.03637187521696E-002+6.42988701393529E-003i",0,"1.43970266042489-0.893224301195524i","-0.0000458867106230268+0.0000925712544019386i",null,0,null,331.5,{"$f":"EXP(-((J846)^2/(Sheet2!B$21^2*0.360673760222241)))","v":5.8567216448034933E-14},{"$f":"IF(1-ABS(J846)/Sheet2!B$22 >0, 1-ABS(J846)/Sheet2!B$22,0)","v":0},{"$f":"IF(1-J846/(Sheet2!B$23*2)>0,1-J846/(Sheet2!B$23*2),0)","v":0},{"$f":"IF(ABS(J846)<Sheet2!B$24/2, 1, 0)","v":0}]
[332.5,0,"2.92634305610861E-003-1.80315970072726E-003i",0,"-0.765028503535534+0.471396736826002i","-6.94366125073695E-06+0.0000137946856748299i",null,0,null,332.5,{"$f":"EXP(-((J847)^2/(Sheet2!B$21^2*0.360673760222241)))","v":4.8719297423537634E-14},{"$f":"IF(1-ABS(J847)/Sheet2!B$22 >0, 1-ABS(J847)/Sheet2!B$22,0)","v":0},{"$f":"IF(1-J847/(Sheet2!B$23*2)>0,1-J847/(Sheet2!B$23*2),0)","v":0},{"$f":"IF(ABS(J847)<Sheet2!B$24/2, 1, 0)","v":0}]
[333.5,0,"-2.00062938887138E-004+1.22429934661992E-004i",0,"-0.20003146696912+0.122410675199214i","1.25160760925888E-07-2.44898394314427E-07i",null,0,null,333.5,{"$f":"EXP(-((J848)^2/(Sheet2!B$21^2*0.360673760222241)))","v":4.0504812479089398E-14},{"$f":"IF(1-ABS(J848)/Sheet2!B$22 >0, 1-ABS(J848)/Sheet2!B$22,0)","v":0},{"$f":"IF(1-J848/(Sheet2!B$23*2)>0,1-J848/(Sheet2!B$23*2),0)","v":0},{"$f":"IF(ABS(J848)<Sheet2!B$24/2, 1, 0)","v":0}]
[334.5,0,"6.10507607278323E-003-3.71034835784573E-003i",0,"1.10499557218905-0.67155895484702i","0.0000212718218149477-0.0000409991850669915i",null,0,null,334.5,{"$f":"EXP(-((J849)^2/(Sheet2!B$21^2*0.360673760222241)))","v":3.3656690653903094E-14},{"$f":"IF(1-ABS(J849)/Sheet2!B$22 >0, 1-ABS(J849)/Sheet2!B$22,0)","v":0},{"$f":"IF(1-J849/(Sheet2!B$23*2)>0,1-J849/(Sheet2!B$23*2),0)","v":0},{"$f":"IF(ABS(J849)<Sheet2!B$24/2, 1, 0)","v":0}]
[335.5,0,"-1.30668572159809E-002+7.88656392765347E-003i",0,"-1.61659254087039+0.975702130038533i","0.000067144233425383-0.00012749360418542i",null,0,null,335.5,{"$f":"EXP(-((J850)^2/(Sheet2!B$21^2*0.360673760222241)))","v":2.7950872698166663E-14},{"$f":"IF(1-ABS(J850)/Sheet2!B$22 >0, 1-ABS(J850)/Sheet2!B$22,0)","v":0},{"$f":"IF(1-J850/(Sheet2!B$23*2)>0,1-J850/(Sheet2!B$23*2),0)","v":0},{"$f":"IF(ABS(J850)<Sheet2!B$24/2, 1, 0)","v":0}]
[336.5,0,"1.18795679209817E-002-7.12033899394418E-003i",0,"1.54139987809669-0.923879532511293i","0.0000586641454209773-0.000109752896572727i",null,0,null,336.5,{"$f":"EXP(-((J851)^2/(Sheet2!B$21^2*0.360673760222241)))","v":2.3199493824555329E-14},{"$f":"IF(1-ABS(J851)/Sheet2!B$22 >0, 1-ABS(J851)/Sheet2!B$22,0)","v":0},{"$f":"IF(1-J851/(Sheet2!B$23*2)>0,1-J851/(Sheet2!B$23*2),0)","v":0},{"$f":"IF(ABS(J851)<Sheet2!B$24/2, 1, 0)","v":0}]
[337.5,0,"-4.03949232231529E-003+2.40436415972885E-003i",0,"-0.898831721994396+0.534997619887102i","0.000011722473686265-0.000021611187779908i",null,0,null,337.5,{"$f":"EXP(-((J852)^2/(Sheet2!B$21^2*0.360673760222241)))","v":1.924512882477689E-14},{"$f":"IF(1-ABS(J852)/Sheet2!B$22 >0, 1-ABS(J852)/Sheet2!B$22,0)","v":0},{"$f":"IF(1-J852/(Sheet2!B$23*2)>0,1-J852/(Sheet2!B$23*2),0)","v":0},{"$f":"IF(ABS(J852)<Sheet2!B$24/2, 1, 0)","v":0}]
[338.5,0,"3.44577844388267E-005-2.03668634270818E-005i",0,"-8.30154015114E-002+4.90676743274171E-002i","-9.30586094335719E-09+1.69076334490787E-08i",null,0,null,338.5,{"$f":"EXP(-((J853)^2/(Sheet2!B$21^2*0.360673760222241)))","v":1.595593695767532E-14},{"$f":"IF(1-ABS(J853)/Sheet2!B$22 >0, 1-ABS(J853)/Sheet2!B$22,0)","v":0},{"$f":"IF(1-J853/(Sheet2!B$23*2)>0,1-J853/(Sheet2!B$23*2),0)","v":0},{"$f":"IF(ABS(J853)<Sheet2!B$24/2, 1, 0)","v":0}]
[339.5,0,"-5.4937325912045E-003+3.22446292343851E-003i",0,"1.04821110385328-0.615231590580633i","-0.0000188740002527293+0.0000337991784031143i",null,0,null,339.5,{"$f":"EXP(-((J854)^2/(Sheet2!B$21^2*0.360673760222241)))","v":1.3221568424377171E-14},{"$f":"IF(1-ABS(J854)/Sheet2!B$22 >0, 1-ABS(J854)/Sheet2!B$22,0)","v":0},{"$f":"IF(1-J854/(Sheet2!B$23*2)>0,1-J854/(Sheet2!B$23*2),0)","v":0},{"$f":"IF(ABS(J854)<Sheet2!B$24/2, 1, 0)","v":0}]
[340.5,0,"1.34795303005955E-002-7.85610433574616E-003i",0,"-1.64192145369966+0.956940335732217i","-0.0000730725343287306+0.000128991062513645i",null,0,null,340.5,{"$f":"EXP(-((J855)^2/(Sheet2!B$21^2*0.360673760222241)))","v":1.094971506589641E-14},{"$f":"IF(1-ABS(J855)/Sheet2!B$22 >0, 1-ABS(J855)/Sheet2!B$22,0)","v":0},{"$f":"IF(1-J855/(Sheet2!B$23*2)>0,1-J855/(Sheet2!B$23*2),0)","v":0},{"$f":"IF(ABS(J855)<Sheet2!B$24/2, 1, 0)","v":0}]
[341.5,0,"-1.34603645674259E-002+7.78970968079906E-003i",0,"1.64075376381878-0.949528180593047i","-0.0000734429748290991+0.000127809954778268i",null,0,null,341.5,{"$f":"EXP(-((J856)^2/(Sheet2!B$21^2*0.360673760222241)))","v":9.0632056655053261E-15},{"$f":"IF(1-ABS(J856)/Sheet2!B$22 >0, 1-ABS(J856)/Sheet2!B$22,0)","v":0},{"$f":"IF(1-J856/(Sheet2!B$23*2)>0,1-J856/(Sheet2!B$23*2),0)","v":0},{"$f":"IF(ABS(J856)<Sheet2!B$24/2, 1, 0)","v":0}]
[342.5,0,"5.37344778672837E-003-3.08772498379142E-003i",0,"-1.03667234811489+0.595699304492442i","-0.0000186557455461599+0.000032009591092803i",null,0,null,342.5,{"$f":"EXP(-((J857)^2/(Sheet2!B$21^2*0.360673760222241)))","v":7.4975613556347483E-15},{"$f":"IF(1-ABS(J857)/Sheet2!B$22 >0, 1-ABS(J857)/Sheet2!B$22,0)","v":0},{"$f":"IF(1-J857/(Sheet2!B$23*2)>0,1-J857/(Sheet2!B$23*2),0)","v":0},{"$f":"IF(ABS(J857)<Sheet2!B$24/2, 1, 0)","v":0}]
[343.5,0,"-9.25062866439596E-006+5.27797009837205E-006i",0,"4.30130879332037E-002-2.4541228522916E-002i","-1.34185116928906E-09+2.27021791991838E-09i",null,0,null,343.5,{"$f":"EXP(-((J858)^2/(Sheet2!B$21^2*0.360673760222241)))","v":6.1989394981868985E-15},{"$f":"IF(1-ABS(J858)/Sheet2!B$22 >0, 1-ABS(J858)/Sheet2!B$22,0)","v":0},{"$f":"IF(1-J858/(Sheet2!B$23*2)>0,1-J858/(Sheet2!B$23*2),0)","v":0},{"$f":"IF(ABS(J858)<Sheet2!B$24/2, 1, 0)","v":0}]
[344.5,0,"4.80904500859961E-003-2.72429034718705E-003i",0,"0.980718614955355-0.555570233019607i","0.00001601392668546-0.0000267176225602949i",null,0,null,344.5,{"$f":"EXP(-((J859)^2/(Sheet2!B$21^2*0.360673760222241)))","v":5.1224053551055815E-15},{"$f":"IF(1-ABS(J859)/Sheet2!B$22 >0, 1-ABS(J859)/Sheet2!B$22,0)","v":0},{"$f":"IF(1-J859/(Sheet2!B$23*2)>0,1-J859/(Sheet2!B$23*2),0)","v":0},{"$f":"IF(ABS(J859)<Sheet2!B$24/2, 1, 0)","v":0}]
[345.5,0,"-1.37582309712148E-002+7.73828270552156E-003i",0,"-1.65880866715951+0.932992798834748i","0.0000780125537011721-0.000128363304208492i",null,0,null,345.5,{"$f":"EXP(-((J860)^2/(Sheet2!B$21^2*0.360673760222241)))","v":4.2304801735288281E-15},{"$f":"IF(1-ABS(J860)/Sheet2!B$22 >0, 1-ABS(J860)/Sheet2!B$22,0)","v":0},{"$f":"IF(1-J860/(Sheet2!B$23*2)>0,1-J860/(Sheet2!B$23*2),0)","v":0},{"$f":"IF(ABS(J860)<Sheet2!B$24/2, 1, 0)","v":0}]
[346.5,0,"1.50877969971448E-002-8.42526646479103E-003i",0,"1.73711237386346-0.970031253194554i","0.0000901821353537045-0.000146356346290854i",null,0,null,346.5,{"$f":"EXP(-((J861)^2/(Sheet2!B$21^2*0.360673760222241)))","v":3.4919222174743259E-15},{"$f":"IF(1-ABS(J861)/Sheet2!B$22 >0, 1-ABS(J861)/Sheet2!B$22,0)","v":0},{"$f":"IF(1-J861/(Sheet2!B$23*2)>0,1-J861/(Sheet2!B$23*2),0)","v":0},{"$f":"IF(ABS(J861)<Sheet2!B$24/2, 1, 0)","v":0}]
[347.5,0,"-6.94037045766753E-003+3.84772874807757E-003i",0,"-1.17816556202185+0.653172842953783i","0.0000283183676780044-0.0000453326150298679i",null,0,null,347.5,{"$f":"EXP(-((J862)^2/(Sheet2!B$21^2*0.360673760222241)))","v":2.8807039919147781E-15},{"$f":"IF(1-ABS(J862)/Sheet2!B$22 >0, 1-ABS(J862)/Sheet2!B$22,0)","v":0},{"$f":"IF(1-J862/(Sheet2!B$23*2)>0,1-J862/(Sheet2!B$23*2),0)","v":0},{"$f":"IF(ABS(J862)<Sheet2!B$24/2, 1, 0)","v":0}]
[348.5,0,"1.58572031611655E-004-8.72771035738462E-005i",0,"0.17808539053693-9.80171403295596E-002i","9.8423550346204E-08-1.55427770748517E-07i",null,0,null,348.5,{"$f":"EXP(-((J863)^2/(Sheet2!B$21^2*0.360673760222241)))","v":2.3751546017604132E-15},{"$f":"IF(1-ABS(J863)/Sheet2!B$22 >0, 1-ABS(J863)/Sheet2!B$22,0)","v":0},{"$f":"IF(1-J863/(Sheet2!B$23*2)>0,1-J863/(Sheet2!B$23*2),0)","v":0},{"$f":"IF(ABS(J863)<Sheet2!B$24/2, 1, 0)","v":0}]
[349.5,0,"-4.06871827044412E-003+2.22316162382425E-003i",0,"0.90207741025378-0.492898192229794i","-0.0000128725324751842+0.000020054638801946i",null,0,null,349.5,{"$f":"EXP(-((J864)^2/(Sheet2!B$21^2*0.360673760222241)))","v":1.9572410186462848E-15},{"$f":"IF(1-ABS(J864)/Sheet2!B$22 >0, 1-ABS(J864)/Sheet2!B$22,0)","v":0},{"$f":"IF(1-J864/(Sheet2!B$23*2)>0,1-J864/(Sheet2!B$23*2),0)","v":0},{"$f":"IF(ABS(J864)<Sheet2!B$24/2, 1, 0)","v":0}]
[350.5,0,"1.38872200946315E-002-7.53279152412045E-003i",0,"-1.66656653600418+0.903989293123462i","-0.000081672067013508+0.000125538982767955i",null,0,null,350.5,{"$f":"EXP(-((J865)^2/(Sheet2!B$21^2*0.360673760222241)))","v":1.6119661215847083E-15},{"$f":"IF(1-ABS(J865)/Sheet2!B$22 >0, 1-ABS(J865)/Sheet2!B$22,0)","v":0},{"$f":"IF(1-J865/(Sheet2!B$23*2)>0,1-J865/(Sheet2!B$23*2),0)","v":0},{"$f":"IF(ABS(J865)<Sheet2!B$24/2, 1, 0)","v":0}]
[351.5,0,"-1.67408289683795E-002+9.01430212631598E-003i",0,"1.82979938618429-0.985277642388963i","-0.000108753841118793+0.000164943644976073i",null,0,null,351.5,{"$f":"EXP(-((J866)^2/(Sheet2!B$21^2*0.360673760222241)))","v":1.3268648437399808E-15},{"$f":"IF(1-ABS(J866)/Sheet2!B$22 >0, 1-ABS(J866)/Sheet2!B$22,0)","v":0},{"$f":"IF(1-J866/(Sheet2!B$23*2)>0,1-J866/(Sheet2!B$23*2),0)","v":0},{"$f":"IF(ABS(J866)<Sheet2!B$24/2, 1, 0)","v":0}]
[352.5,0,"8.75037153557716E-003-4.67717102947286E-003i",0,"-1.32290374068399+0.707106781186553i","-0.0000413431994254009+0.0000618744705070842i",null,0,null,352.5,{"$f":"EXP(-((J867)^2/(Sheet2!B$21^2*0.360673760222241)))","v":1.091582690939468E-15},{"$f":"IF(1-ABS(J867)/Sheet2!B$22 >0, 1-ABS(J867)/Sheet2!B$22,0)","v":0},{"$f":"IF(1-J867/(Sheet2!B$23*2)>0,1-J867/(Sheet2!B$23*2),0)","v":0},{"$f":"IF(ABS(J867)<Sheet2!B$24/2, 1, 0)","v":0}]
[353.5,0,"-5.19132441114521E-004+2.75437706838528E-004i",0,"0.322221179041381-0.170961888760305i","-6.00930583288147E-07+8.87518626498255E-07i",null,0,null,353.5,{"$f":"EXP(-((J868)^2/(Sheet2!B$21^2*0.360673760222241)))","v":8.9752337834821107E-16},{"$f":"IF(1-ABS(J868)/Sheet2!B$22 >0, 1-ABS(J868)/Sheet2!B$22,0)","v":0},{"$f":"IF(1-J868/(Sheet2!B$23*2)>0,1-J868/(Sheet2!B$23*2),0)","v":0},{"$f":"IF(ABS(J868)<Sheet2!B$24/2, 1, 0)","v":0}]
[354.5,0,"3.29544092472789E-003-1.73553690087646E-003i",0,"0.811842463133283-0.427555093430282i","9.66670617817689E-06-0.0000140898255246613i",null,0,null,354.5,{"$f":"EXP(-((J869)^2/(Sheet2!B$21^2*0.360673760222241)))","v":7.3755442845628728E-16},{"$f":"IF(1-ABS(J869)/Sheet2!B$22 >0, 1-ABS(J869)/Sheet2!B$22,0)","v":0},{"$f":"IF(1-J869/(Sheet2!B$23*2)>0,1-J869/(Sheet2!B$23*2),0)","v":0},{"$f":"IF(ABS(J869)<Sheet2!B$24/2, 1, 0)","v":0}]
[355.5,0,"-1.3852613874391E-002+7.24125000974642E-003i",0,"-1.66448874279126+0.870086991108716i","0.0000837850120965581-0.000120529791249599i",null,0,null,355.5,{"$f":"EXP(-((J870)^2/(Sheet2!B$21^2*0.360673760222241)))","v":6.0576134447822172E-16},{"$f":"IF(1-ABS(J870)/Sheet2!B$22 >0, 1-ABS(J870)/Sheet2!B$22,0)","v":0},{"$f":"IF(1-J870/(Sheet2!B$23*2)>0,1-J870/(Sheet2!B$23*2),0)","v":0},{"$f":"IF(ABS(J870)<Sheet2!B$24/2, 1, 0)","v":0}]
[356.5,0,"1.83957917571071E-002-9.54438493746965E-003i",0,"1.91811322695548-0.995184726672204i","0.000128933926871878-0.000183072109917153i",null,0,null,356.5,{"$f":"EXP(-((J871)^2/(Sheet2!B$21^2*0.360673760222241)))","v":4.9724246808741553E-16},{"$f":"IF(1-ABS(J871)/Sheet2!B$22 >0, 1-ABS(J871)/Sheet2!B$22,0)","v":0},{"$f":"IF(1-J871/(Sheet2!B$23*2)>0,1-J871/(Sheet2!B$23*2),0)","v":0},{"$f":"IF(ABS(J871)<Sheet2!B$24/2, 1, 0)","v":0}]
[357.5,0,"-1.08112351019459E-002+5.567219404222E-003i",0,"-1.4704580988215+0.757208846506491i","0.0000584096021530007-0.0000818636286085469i",null,0,null,357.5,{"$f":"EXP(-((J872)^2/(Sheet2!B$21^2*0.360673760222241)))","v":4.0793789134344177E-16},{"$f":"IF(1-ABS(J872)/Sheet2!B$22 >0, 1-ABS(J872)/Sheet2!B$22,0)","v":0},{"$f":"IF(1-J872/(Sheet2!B$23*2)>0,1-J872/(Sheet2!B$23*2),0)","v":0},{"$f":"IF(ABS(J872)<Sheet2!B$24/2, 1, 0)","v":0}]
[358.5,0,"1.13017888353418E-003-5.77603007322775E-004i",0,"0.475432199906112-0.242980179903267i","1.98488675127066E-06-2.74611068443931E-06i",null,0,null,358.5,{"$f":"EXP(-((J873)^2/(Sheet2!B$21^2*0.360673760222241)))","v":3.3448685562463447E-16},{"$f":"IF(1-ABS(J873)/Sheet2!B$22 >0, 1-ABS(J873)/Sheet2!B$22,0)","v":0},{"$f":"IF(1-J873/(Sheet2!B$23*2)>0,1-J873/(Sheet2!B$23*2),0)","v":0},{"$f":"IF(ABS(J873)<Sheet2!B$24/2, 1, 0)","v":0}]
[359.5,0,"-2.51737495346873E-003+1.27683509972245E-003i",0,"0.709559716088065-0.359895036534992i","-6.63350621203353E-06+0.0000090599075085062i",null,0,null,359.5,{"$f":"EXP(-((J874)^2/(Sheet2!B$21^2*0.360673760222241)))","v":2.7410896585871392E-16},{"$f":"IF(1-ABS(J874)/Sheet2!B$22 >0, 1-ABS(J874)/Sheet2!B$22,0)","v":0},{"$f":"IF(1-J874/(Sheet2!B$23*2)>0,1-J874/(Sheet2!B$23*2),0)","v":0},{"$f":"IF(ABS(J874)<Sheet2!B$24/2, 1, 0)","v":0}]
[360.5,0,"1.36429829077352E-002-6.86730049483882E-003i",0,"-1.65184641584718+0.83146961230255i","-0.0000841308036879899+0.00011343725708945i",null,0,null,360.5,{"$f":"EXP(-((J875)^2/(Sheet2!B$21^2*0.360673760222241)))","v":2.2450530225069351E-16},{"$f":"IF(1-ABS(J875)/Sheet2!B$22 >0, 1-ABS(J875)/Sheet2!B$22,0)","v":0},{"$f":"IF(1-J875/(Sheet2!B$23*2)>0,1-J875/(Sheet2!B$23*2),0)","v":0},{"$f":"IF(ABS(J875)<Sheet2!B$24/2, 1, 0)","v":0}]
[361.5,0,"-2.00265207561884E-002+1.00036141832673E-002i",0,"2.00132559850663-0.999698818696214i","-0.000150394936783396+0.000200204891425568i",null,0,null,361.5,{"$f":"EXP(-((J876)^2/(Sheet2!B$21^2*0.360673760222241)))","v":1.8377614601357965E-16},{"$f":"IF(1-ABS(J876)/Sheet2!B$22 >0, 1-ABS(J876)/Sheet2!B$22,0)","v":0},{"$f":"IF(1-J876/(Sheet2!B$23*2)>0,1-J876/(Sheet2!B$23*2),0)","v":0},{"$f":"IF(ABS(J876)<Sheet2!B$24/2, 1, 0)","v":0}]
[362.5,0,"1.31281639875354E-002-6.50750890003246E-003i",0,"-1.62038044838477+0.803207531480655i","-0.0000802287004445397+0.00010544640189302i",null,0,null,362.5,{"$f":"EXP(-((J877)^2/(Sheet2!B$21^2*0.360673760222241)))","v":1.5035256894357017E-16},{"$f":"IF(1-ABS(J877)/Sheet2!B$22 >0, 1-ABS(J877)/Sheet2!B$22,0)","v":0},{"$f":"IF(1-J877/(Sheet2!B$23*2)>0,1-J877/(Sheet2!B$23*2),0)","v":0},{"$f":"IF(ABS(J877)<Sheet2!B$24/2, 1, 0)","v":0}]
[363.5,0,"-2.03347807035312E-003+1.00021643800719E-003i",0,"0.637726911829134-0.313681740398898i","-0.0000049152702851444+6.37864940171211E-06i",null,0,null,363.5,{"$f":"EXP(-((J878)^2/(Sheet2!B$21^2*0.360673760222241)))","v":1.2293958483198168E-16},{"$f":"IF(1-ABS(J878)/Sheet2!B$22 >0, 1-ABS(J878)/Sheet2!B$22,0)","v":0},{"$f":"IF(1-J878/(Sheet2!B$23*2)>0,1-J878/(Sheet2!B$23*2),0)","v":0},{"$f":"IF(ABS(J878)<Sheet2!B$24/2, 1, 0)","v":0}]
[364.5,0,"1.76869773815614E-003-8.63248683072995E-004i",0,"0.594760075687165-0.290284677254463i","4.00681467628639E-06-5.13425852081347E-06i",null,0,null,364.5,{"$f":"EXP(-((J879)^2/(Sheet2!B$21^2*0.360673760222241)))","v":1.0046893703531651E-16},{"$f":"IF(1-ABS(J879)/Sheet2!B$22 >0, 1-ABS(J879)/Sheet2!B$22,0)","v":0},{"$f":"IF(1-J879/(Sheet2!B$23*2)>0,1-J879/(Sheet2!B$23*2),0)","v":0},{"$f":"IF(ABS(J879)<Sheet2!B$24/2, 1, 0)","v":0}]
[365.5,0,"-1.32500146527068E-002+6.41667857943972E-003i",0,"-1.62788295971852+0.788346427626612i","0.000082554537169163-0.000104456017174612i",null,0,null,365.5,{"$f":"EXP(-((J880)^2/(Sheet2!B$21^2*0.360673760222241)))","v":8.2059912340232136E-17},{"$f":"IF(1-ABS(J880)/Sheet2!B$22 >0, 1-ABS(J880)/Sheet2!B$22,0)","v":0},{"$f":"IF(1-J880/(Sheet2!B$23*2)>0,1-J880/(Sheet2!B$23*2),0)","v":0},{"$f":"IF(ABS(J880)<Sheet2!B$24/2, 1, 0)","v":0}]
[366.5,0,"2.16045370418416E-002-1.03808769298026E-002i",0,"2.07867924614871-0.99879545620518i","0.000172702650313076-0.000215785134308062i",null,0,null,366.5,{"$f":"EXP(-((J881)^2/(Sheet2!B$21^2*0.360673760222241)))","v":6.6986836122641015E-17},{"$f":"IF(1-ABS(J881)/Sheet2!B$22 >0, 1-ABS(J881)/Sheet2!B$22,0)","v":0},{"$f":"IF(1-J881/(Sheet2!B$23*2)>0,1-J881/(Sheet2!B$23*2),0)","v":0},{"$f":"IF(ABS(J881)<Sheet2!B$24/2, 1, 0)","v":0}]
[367.5,0,"-1.57035540169881E-002+7.48626885068298E-003i",0,"-1.77220506809999+0.844853565249714i","0.000107525585435854-0.000132672035983417i",null,0,null,367.5,{"$f":"EXP(-((J882)^2/(Sheet2!B$21^2*0.360673760222241)))","v":5.4652125788114665E-17},{"$f":"IF(1-ABS(J882)/Sheet2!B$22 >0, 1-ABS(J882)/Sheet2!B$22,0)","v":0},{"$f":"IF(1-J882/(Sheet2!B$23*2)>0,1-J882/(Sheet2!B$23*2),0)","v":0},{"$f":"IF(ABS(J882)<Sheet2!B$24/2, 1, 0)","v":0}]
[368.5,0,"3.27334461506427E-003-1.54817670227898E-003i",0,"0.80911613691297-0.382683432365096i","0.0000102802718769494-0.0000125265475260661i",null,0,null,368.5,{"$f":"EXP(-((J883)^2/(Sheet2!B$21^2*0.360673760222241)))","v":4.4563965415643383E-17},{"$f":"IF(1-ABS(J883)/Sheet2!B$22 >0, 1-ABS(J883)/Sheet2!B$22,0)","v":0},{"$f":"IF(1-J883/(Sheet2!B$23*2)>0,1-J883/(Sheet2!B$23*2),0)","v":0},{"$f":"IF(ABS(J883)<Sheet2!B$24/2, 1, 0)","v":0}]
[369.5,0,"-1.0902199828279E-003+5.11548607666652E-004i",0,"0.466951813966238-0.219101240156869i","-1.98499632131723E-06+0.0000023886855028162i",null,0,null,369.5,{"$f":"EXP(-((J884)^2/(Sheet2!B$21^2*0.360673760222241)))","v":3.6317820164511835E-17},{"$f":"IF(1-ABS(J884)/Sheet2!B$22 >0, 1-ABS(J884)/Sheet2!B$22,0)","v":0},{"$f":"IF(1-J884/(Sheet2!B$23*2)>0,1-J884/(Sheet2!B$23*2),0)","v":0},{"$f":"IF(ABS(J884)<Sheet2!B$24/2, 1, 0)","v":0}]
[370.5,0,"1.26692522447922E-002-5.89725701490638E-003i",0,"-1.59180729014503+0.740951125354966i","-0.0000789871443112208+0.000093872967081858i",null,0,null,370.5,{"$f":"EXP(-((J885)^2/(Sheet2!B$21^2*0.360673760222241)))","v":2.9581139198218819E-17},{"$f":"IF(1-ABS(J885)/Sheet2!B$22 >0, 1-ABS(J885)/Sheet2!B$22,0)","v":0},{"$f":"IF(1-J885/(Sheet2!B$23*2)>0,1-J885/(Sheet2!B$23*2),0)","v":0},{"$f":"IF(ABS(J885)<Sheet2!B$24/2, 1, 0)","v":0}]
[371.5,0,"-2.30992742006948E-002+1.06661019240235E-002i",0,"2.14938475851575-0.992479534598724i","-0.00019531670013106+0.000229255569082728i",null,0,null,371.5,{"$f":"EXP(-((J886)^2/(Sheet2!B$21^2*0.360673760222241)))","v":2.4080704720144535E-17},{"$f":"IF(1-ABS(J886)/Sheet2!B$22 >0, 1-ABS(J886)/Sheet2!B$22,0)","v":0},{"$f":"IF(1-J886/(Sheet2!B$23*2)>0,1-J886/(Sheet2!B$23*2),0)","v":0},{"$f":"IF(ABS(J886)<Sheet2!B$24/2, 1, 0)","v":0}]
[372.5,0,"1.8536801489512E-002-8.49047946415267E-003i",0,"-1.92545067397292+0.881921264348367i","-0.000141018812686669+0.000163479994066056i",null,0,null,372.5,{"$f":"EXP(-((J887)^2/(Sheet2!B$21^2*0.360673760222241)))","v":1.9592175647272031E-17},{"$f":"IF(1-ABS(J887)/Sheet2!B$22 >0, 1-ABS(J887)/Sheet2!B$22,0)","v":0},{"$f":"IF(1-J887/(Sheet2!B$23*2)>0,1-J887/(Sheet2!B$23*2),0)","v":0},{"$f":"IF(ABS(J887)<Sheet2!B$24/2, 1, 0)","v":0}]
[373.5,0,"-4.89673808624922E-003+2.22472167584418E-003i",0,"0.989619935758401-0.449611329654617i","-0.0000192282477977596+0.0000220162892192908i",null,0,null,373.5,{"$f":"EXP(-((J888)^2/(Sheet2!B$21^2*0.360673760222241)))","v":1.5931450369277945E-17},{"$f":"IF(1-ABS(J888)/Sheet2!B$22 >0, 1-ABS(J888)/Sheet2!B$22,0)","v":0},{"$f":"IF(1-J888/(Sheet2!B$23*2)>0,1-J888/(Sheet2!B$23*2),0)","v":0},{"$f":"IF(ABS(J888)<Sheet2!B$24/2, 1, 0)","v":0}]
[374.5,0,"5.30112639335906E-004-2.38885287709409E-004i",0,"0.325611006982308-0.146730474455359i","6.87793793511034E-07-7.77836790844296E-07i",null,0,null,374.5,{"$f":"EXP(-((J889)^2/(Sheet2!B$21^2*0.360673760222241)))","v":1.2947536388300018E-17},{"$f":"IF(1-ABS(J889)/Sheet2!B$22 >0, 1-ABS(J889)/Sheet2!B$22,0)","v":0},{"$f":"IF(1-J889/(Sheet2!B$23*2)>0,1-J889/(Sheet2!B$23*2),0)","v":0},{"$f":"IF(ABS(J889)<Sheet2!B$24/2, 1, 0)","v":0}]
[375.5,0,"-1.19009290026097E-002+5.31906431952762E-003i",0,"-1.54278507917451+0.689540544737073i","0.0000734643259258141-0.0000820617306733673i",null,0,null,375.5,{"$f":"EXP(-((J890)^2/(Sheet2!B$21^2*0.360673760222241)))","v":1.0516667458306258E-17},{"$f":"IF(1-ABS(J890)/Sheet2!B$22 >0, 1-ABS(J890)/Sheet2!B$22,0)","v":0},{"$f":"IF(1-J890/(Sheet2!B$23*2)>0,1-J890/(Sheet2!B$23*2),0)","v":0},{"$f":"IF(ABS(J890)<Sheet2!B$24/2, 1, 0)","v":0}]
[376.5,0,"2.44783508948895E-002-1.08505067020289E-002i",0,"2.21261613909391-0.980785280403245i","0.000217595884950848-0.000240080062462545i",null,0,null,376.5,{"$f":"EXP(-((J891)^2/(Sheet2!B$21^2*0.360673760222241)))","v":8.5374528627530253E-18},{"$f":"IF(1-ABS(J891)/Sheet2!B$22 >0, 1-ABS(J891)/Sheet2!B$22,0)","v":0},{"$f":"IF(1-J891/(Sheet2!B$23*2)>0,1-J891/(Sheet2!B$23*2),0)","v":0},{"$f":"IF(ABS(J891)<Sheet2!B$24/2, 1, 0)","v":0}]
[377.5,0,"-2.16241483191304E-002+9.50605580193145E-003i",0,"-2.07962248108335+0.914209755703545i","0.000181397680131781-0.000197690073521294i",null,0,null,377.5,{"$f":"EXP(-((J892)^2/(Sheet2!B$21^2*0.360673760222241)))","v":6.9268801291919749E-18},{"$f":"IF(1-ABS(J892)/Sheet2!B$22 >0, 1-ABS(J892)/Sheet2!B$22,0)","v":0},{"$f":"IF(1-J892/(Sheet2!B$23*2)>0,1-J892/(Sheet2!B$23*2),0)","v":0},{"$f":"IF(ABS(J892)<Sheet2!B$24/2, 1, 0)","v":0}]
[378.5,0,"6.95345919520662E-003-3.03134508961526E-003i",0,"1.17927598086378-0.514102744193231i","0.0000332081229182784-0.0000357479245389201i",null,0,null,378.5,{"$f":"EXP(-((J893)^2/(Sheet2!B$21^2*0.360673760222241)))","v":5.6170229908377371E-18},{"$f":"IF(1-ABS(J893)/Sheet2!B$22 >0, 1-ABS(J893)/Sheet2!B$22,0)","v":0},{"$f":"IF(1-J893/(Sheet2!B$23*2)>0,1-J893/(Sheet2!B$23*2),0)","v":0},{"$f":"IF(ABS(J893)<Sheet2!B$24/2, 1, 0)","v":0}]
[379.5,0,"-1.44788348678086E-004+6.25922369207288E-005i",0,"0.170169532339597-7.35645635996676E-002i","-1.0016997494486E-07+1.06512916848548E-07i",null,0,null,379.5,{"$f":"EXP(-((J894)^2/(Sheet2!B$21^2*0.360673760222241)))","v":4.5523317830331794E-18},{"$f":"IF(1-ABS(J894)/Sheet2!B$22 >0, 1-ABS(J894)/Sheet2!B$22,0)","v":0},{"$f":"IF(1-J894/(Sheet2!B$23*2)>0,1-J894/(Sheet2!B$23*2),0)","v":0},{"$f":"IF(ABS(J894)<Sheet2!B$24/2, 1, 0)","v":0}]
[380.5,0,"1.09509270272696E-002-4.69428033545686E-003i",0,"-1.4799275000673+0.634393284163658i","-0.0000661427907004559+0.0000694719456146694i",null,0,null,380.5,{"$f":"EXP(-((J895)^2/(Sheet2!B$21^2*0.360673760222241)))","v":3.6874045573824528E-18},{"$f":"IF(1-ABS(J895)/Sheet2!B$22 >0, 1-ABS(J895)/Sheet2!B$22,0)","v":0},{"$f":"IF(1-J895/(Sheet2!B$23*2)>0,1-J895/(Sheet2!B$23*2),0)","v":0},{"$f":"IF(ABS(J895)<Sheet2!B$24/2, 1, 0)","v":0}]
[381.5,0,"-2.57078903209752E-002+1.09268343256439E-002i",0,"2.26750481018267-0.963776065795465i","-0.000238808717822459+0.000247766493934587i",null,0,null,381.5,{"$f":"EXP(-((J896)^2/(Sheet2!B$21^2*0.360673760222241)))","v":2.9851547198669951E-18},{"$f":"IF(1-ABS(J896)/Sheet2!B$22 >0, 1-ABS(J896)/Sheet2!B$22,0)","v":0},{"$f":"IF(1-J896/(Sheet2!B$23*2)>0,1-J896/(Sheet2!B$23*2),0)","v":0},{"$f":"IF(ABS(J896)<Sheet2!B$24/2, 1, 0)","v":0}]
[382.5,0,"2.495856873039E-002-1.05180562914366E-002i",0,"-2.23421434649648+0.941544065183057i","-0.000229297894234962+0.000234995922635737i",null,0,null,382.5,{"$f":"EXP(-((J897)^2/(Sheet2!B$21^2*0.360673760222241)))","v":2.4153055469397512E-18},{"$f":"IF(1-ABS(J897)/Sheet2!B$22 >0, 1-ABS(J897)/Sheet2!B$22,0)","v":0},{"$f":"IF(1-J897/(Sheet2!B$23*2)>0,1-J897/(Sheet2!B$23*2),0)","v":0},{"$f":"IF(ABS(J897)<Sheet2!B$24/2, 1, 0)","v":0}]
[383.5,0,"-9.4964841925037E-003+3.96774968500591E-003i",0,"1.37814978812861-0.575808191417884i","-0.0000540145745387177+0.0000546815338772617i",null,0,null,383.5,{"$f":"EXP(-((J898)^2/(Sheet2!B$21^2*0.360673760222241)))","v":1.9531540031591763E-18},{"$f":"IF(1-ABS(J898)/Sheet2!B$22 >0, 1-ABS(J898)/Sheet2!B$22,0)","v":0},{"$f":"IF(1-J898/(Sheet2!B$23*2)>0,1-J898/(Sheet2!B$23*2),0)","v":0},{"$f":"IF(ABS(J898)<Sheet2!B$24/2, 1, 0)","v":0}]
[384.5,0,"0",0,"0","0",null,{"$f":"IMABS(G899)","v":0},null,384.5,{"$f":"EXP(-((J899)^2/(Sheet2!B$21^2*0.360673760222241)))","v":1.5785562912070401E-18},{"$f":"IF(1-ABS(J899)/Sheet2!B$22 >0, 1-ABS(J899)/Sheet2!B$22,0)","v":0},{"$f":"IF(1-J899/(Sheet2!B$23*2)>0,1-J899/(Sheet2!B$23*2),0)","v":0},{"$f":"IF(ABS(J899)<Sheet2!B$24/2, 1, 0)","v":0}]
[385.5,0,"-9.83190118142127E-003+4.03721235316974E-003i",0,"-1.4022768044454+0.575808191417858i",{"$f":"IMPRODUCT(C900,E900,D$1027)","v":"0.0000573119351342893-0.0000566128923747182i"},null,0,null,385.5,{"$f":"EXP(-((J900)^2/(Sheet2!B$21^2*0.360673760222241)))","v":1.2750958572859359E-18},{"$f":"IF(1-ABS(J900)/Sheet2!B$22 >0, 1-ABS(J900)/Sheet2!B$22,0)","v":0},{"$f":"IF(1-J900/(Sheet2!B$23*2)>0,1-J900/(Sheet2!B$23*2),0)","v":0},{"$f":"IF(ABS(J900)<Sheet2!B$24/2, 1, 0)","v":0}]
[{"$f":"A900+1","v":386.5},0,"2.67528891535853E-002-1.08895766821947E-002i",0,"2.31313160687333-0.941544065183022i","0.000258149685894305-0.000251890240090564i",null,0,null,{"$f":"J900+1","v":386.5},{"$f":"EXP(-((J901)^2/(Sheet2!B$21^2*0.360673760222241)))","v":1.0294014415480321E-18},{"$f":"IF(1-ABS(J901)/Sheet2!B$22 >0, 1-ABS(J901)/Sheet2!B$22,0)","v":0},{"$f":"IF(1-J901/(Sheet2!B$23*2)>0,1-J901/(Sheet2!B$23*2),0)","v":0},{"$f":"IF(ABS(J901)<Sheet2!B$24/2, 1, 0)","v":0}]
[387.5,0,"-2.85297007934519E-002+1.15109123659613E-002i",0,"-2.38871098266228+0.963776065795445i","0.000285276338918025-0.000274962427890345i",null,0,null,387.5,{"$f":"EXP(-((J902)^2/(Sheet2!B$21^2*0.360673760222241)))","v":8.3058844585012812E-19},{"$f":"IF(1-ABS(J902)/Sheet2!B$22 >0, 1-ABS(J902)/Sheet2!B$22,0)","v":0},{"$f":"IF(1-J902/(Sheet2!B$23*2)>0,1-J902/(Sheet2!B$23*2),0)","v":0},{"$f":"IF(ABS(J902)<Sheet2!B$24/2, 1, 0)","v":0}]
[388.5,0,"1.2582488511433E-002-5.03184031343739E-003i",0,"1.58634728300171-0.634393284163647i","0.0000838401538084169-0.0000798224620971961i",null,0,null,388.5,{"$f":"EXP(-((J903)^2/(Sheet2!B$21^2*0.360673760222241)))","v":6.6980159096935817E-19},{"$f":"IF(1-ABS(J903)/Sheet2!B$22 >0, 1-ABS(J903)/Sheet2!B$22,0)","v":0},{"$f":"IF(1-J903/(Sheet2!B$23*2)>0,1-J903/(Sheet2!B$23*2),0)","v":0},{"$f":"IF(ABS(J903)<Sheet2!B$24/2, 1, 0)","v":0}]
[389.5,0,"-1.72242759770133E-004+6.82690961198933E-005i",0,"-0.185603211056367+7.35645635996667E-002i","1.34733115155717E-07-0.0000001267096345573i",null,0,null,389.5,{"$f":"EXP(-((J904)^2/(Sheet2!B$21^2*0.360673760222241)))","v":5.3984071998487144E-19},{"$f":"IF(1-ABS(J904)/Sheet2!B$22 >0, 1-ABS(J904)/Sheet2!B$22,0)","v":0},{"$f":"IF(1-J904/(Sheet2!B$23*2)>0,1-J904/(Sheet2!B$23*2),0)","v":0},{"$f":"IF(ABS(J904)<Sheet2!B$24/2, 1, 0)","v":0}]
[390.5,0,"8.56462816600307E-003-3.36425712320734E-003i",0,"-1.3087878488133+0.514102744193228i","-0.0000473985372702822+0.0000440309884313707i",null,0,null,390.5,{"$f":"EXP(-((J905)^2/(Sheet2!B$21^2*0.360673760222241)))","v":4.3485481324506083E-19},{"$f":"IF(1-ABS(J905)/Sheet2!B$22 >0, 1-ABS(J905)/Sheet2!B$22,0)","v":0},{"$f":"IF(1-J905/(Sheet2!B$23*2)>0,1-J905/(Sheet2!B$23*2),0)","v":0},{"$f":"IF(ABS(J905)<Sheet2!B$24/2, 1, 0)","v":0}]
[391.5,0,"-2.75776411555355E-002+1.07351819997485E-002i",0,"2.34851617646299-0.914209755703545i","-0.000274761641245217+0.000252117485836829i",null,0,null,391.5,{"$f":"EXP(-((J906)^2/(Sheet2!B$21^2*0.360673760222241)))","v":3.5009192912665451E-19},{"$f":"IF(1-ABS(J906)/Sheet2!B$22 >0, 1-ABS(J906)/Sheet2!B$22,0)","v":0},{"$f":"IF(1-J906/(Sheet2!B$23*2)>0,1-J906/(Sheet2!B$23*2),0)","v":0},{"$f":"IF(ABS(J906)<Sheet2!B$24/2, 1, 0)","v":0}]
[392.5,0,"3.23238253955208E-002-1.24686753597682E-002i",0,"-2.54259023027777+0.980785280403236i","-0.000349785746984342+0.000317027321542514i",null,0,null,392.5,{"$f":"EXP(-((J907)^2/(Sheet2!B$21^2*0.360673760222241)))","v":2.8169496999208125E-19},{"$f":"IF(1-ABS(J907)/Sheet2!B$22 >0, 1-ABS(J907)/Sheet2!B$22,0)","v":0},{"$f":"IF(1-J907/(Sheet2!B$23*2)>0,1-J907/(Sheet2!B$23*2),0)","v":0},{"$f":"IF(ABS(J907)<Sheet2!B$24/2, 1, 0)","v":0}]
[393.5,0,"-1.62726273208252E-002+6.21976031350685E-003i",0,"1.80403033903683-0.689540544737074i","-0.000125337682339494+0.000112206363071044i",null,0,null,393.5,{"$f":"EXP(-((J908)^2/(Sheet2!B$21^2*0.360673760222241)))","v":2.2653497437438887E-19},{"$f":"IF(1-ABS(J908)/Sheet2!B$22 >0, 1-ABS(J908)/Sheet2!B$22,0)","v":0},{"$f":"IF(1-J908/(Sheet2!B$23*2)>0,1-J908/(Sheet2!B$23*2),0)","v":0},{"$f":"IF(ABS(J908)<Sheet2!B$24/2, 1, 0)","v":0}]
[394.5,0,"7.50579441001781E-004-2.84252083262285E-004i",0,"-0.387447916758946+0.146730474455365i","-1.24550998868117E-06+1.10132877494498E-06i",null,0,null,394.5,{"$f":"EXP(-((J909)^2/(Sheet2!B$21^2*0.360673760222241)))","v":1.8207512086783982E-19},{"$f":"IF(1-ABS(J909)/Sheet2!B$22 >0, 1-ABS(J909)/Sheet2!B$22,0)","v":0},{"$f":"IF(1-J909/(Sheet2!B$23*2)>0,1-J909/(Sheet2!B$23*2),0)","v":0},{"$f":"IF(ABS(J909)<Sheet2!B$24/2, 1, 0)","v":0}]
[395.5,0,"-7.17966704638321E-003+2.69385614888996E-003i",0,"-1.19830438924237+0.44961132965461i","0.0000369611914498957-0.0000322805964720206i",null,0,null,395.5,{"$f":"EXP(-((J910)^2/(Sheet2!B$21^2*0.360673760222241)))","v":1.4625985155194649E-19},{"$f":"IF(1-ABS(J910)/Sheet2!B$22 >0, 1-ABS(J910)/Sheet2!B$22,0)","v":0},{"$f":"IF(1-J910/(Sheet2!B$23*2)>0,1-J910/(Sheet2!B$23*2),0)","v":0},{"$f":"IF(ABS(J910)<Sheet2!B$24/2, 1, 0)","v":0}]
[396.5,0,"2.8146225011624E-002-1.04622451940243E-002i",0,"2.37260300141532-0.881921264348363i","0.000287764707158268-0.00024822754348885i",null,0,null,396.5,{"$f":"EXP(-((J911)^2/(Sheet2!B$21^2*0.360673760222241)))","v":1.1742452867670189E-19},{"$f":"IF(1-ABS(J911)/Sheet2!B$22 >0, 1-ABS(J911)/Sheet2!B$22,0)","v":0},{"$f":"IF(1-J911/(Sheet2!B$23*2)>0,1-J911/(Sheet2!B$23*2),0)","v":0},{"$f":"IF(ABS(J911)<Sheet2!B$24/2, 1, 0)","v":0}]
[397.5,0,"-3.63238944999566E-002+1.33752763899139E-002i",0,"-2.69532537924312+0.992479534598719i","0.000423150133160458-0.000360507219081281i",null,0,null,397.5,{"$f":"EXP(-((J912)^2/(Sheet2!B$21^2*0.360673760222241)))","v":9.4221865599262659E-20},{"$f":"IF(1-ABS(J912)/Sheet2!B$22 >0, 1-ABS(J912)/Sheet2!B$22,0)","v":0},{"$f":"IF(1-J912/(Sheet2!B$23*2)>0,1-J912/(Sheet2!B$23*2),0)","v":0},{"$f":"IF(ABS(J912)<Sheet2!B$24/2, 1, 0)","v":0}]
[398.5,0,"2.06336641944199E-002-7.52597451385267E-003i",0,"2.03143615181118-0.740951125354964i","0.000181697960517223-0.000152885367050509i",null,0,null,398.5,{"$f":"EXP(-((J913)^2/(Sheet2!B$21^2*0.360673760222241)))","v":7.556205288816766E-20},{"$f":"IF(1-ABS(J913)/Sheet2!B$22 >0, 1-ABS(J913)/Sheet2!B$22,0)","v":0},{"$f":"IF(1-J913/(Sheet2!B$23*2)>0,1-J913/(Sheet2!B$23*2),0)","v":0},{"$f":"IF(ABS(J913)<Sheet2!B$24/2, 1, 0)","v":0}]
[399.5,0,"-1.83905713764023E-003+6.64396673246309E-004i",0,"-0.606474589352336+0.219101240156868i","4.84885643640739E-06-4.02939699575214E-06i",null,0,null,399.5,{"$f":"EXP(-((J914)^2/(Sheet2!B$21^2*0.360673760222241)))","v":6.0564058993234229E-20},{"$f":"IF(1-ABS(J914)/Sheet2!B$22 >0, 1-ABS(J914)/Sheet2!B$22,0)","v":0},{"$f":"IF(1-J914/(Sheet2!B$23*2)>0,1-J914/(Sheet2!B$23*2),0)","v":0},{"$f":"IF(ABS(J914)<Sheet2!B$24/2, 1, 0)","v":0}]
[400.5,0,"5.71945653851155E-003-2.04645427228923E-003i",0,"-1.06952854459444+0.382683432365091i","-0.0000266698894120378+0.0000218874125942057i",null,0,null,400.5,{"$f":"EXP(-((J915)^2/(Sheet2!B$21^2*0.360673760222241)))","v":4.8516043324040718E-20},{"$f":"IF(1-ABS(J915)/Sheet2!B$22 >0, 1-ABS(J915)/Sheet2!B$22,0)","v":0},{"$f":"IF(1-J915/(Sheet2!B$23*2)>0,1-J915/(Sheet2!B$23*2),0)","v":0},{"$f":"IF(ABS(J915)<Sheet2!B$24/2, 1, 0)","v":0}]
[401.5,0,"-2.84230730975331E-002+1.00716809385672E-002i",0,"2.38424298667468-0.844853565249715i","-0.000296292085717645+0.00024013334641804i",null,0,null,401.5,{"$f":"EXP(-((J916)^2/(Sheet2!B$21^2*0.360673760222241)))","v":3.8843195672420901E-20},{"$f":"IF(1-ABS(J916)/Sheet2!B$22 >0, 1-ABS(J916)/Sheet2!B$22,0)","v":0},{"$f":"IF(1-J916/(Sheet2!B$23*2)>0,1-J916/(Sheet2!B$23*2),0)","v":0},{"$f":"IF(ABS(J916)<Sheet2!B$24/2, 1, 0)","v":0}]
[402.5,0,"4.05096097427507E-002-1.42147946381751E-002i",0,"-2.84638752606716+0.998795456205184i","-0.000505541877810576+0.000404608141437063i",null,0,null,402.5,{"$f":"EXP(-((J917)^2/(Sheet2!B$21^2*0.360673760222241)))","v":3.1081624256501871E-20},{"$f":"IF(1-ABS(J917)/Sheet2!B$22 >0, 1-ABS(J917)/Sheet2!B$22,0)","v":0},{"$f":"IF(1-J917/(Sheet2!B$23*2)>0,1-J917/(Sheet2!B$23*2),0)","v":0},{"$f":"IF(ABS(J917)<Sheet2!B$24/2, 1, 0)","v":0}]
[403.5,0,"-2.57395730258373E-002+8.94340247197383E-003i",0,"2.26890162968085-0.78834642762662i","-0.000256750298980019+0.000202917004435533i",null,0,null,403.5,{"$f":"EXP(-((J918)^2/(Sheet2!B$21^2*0.360673760222241)))","v":2.4857167303344043E-20},{"$f":"IF(1-ABS(J918)/Sheet2!B$22 >0, 1-ABS(J918)/Sheet2!B$22,0)","v":0},{"$f":"IF(1-J918/(Sheet2!B$23*2)>0,1-J918/(Sheet2!B$23*2),0)","v":0},{"$f":"IF(ABS(J918)<Sheet2!B$24/2, 1, 0)","v":0}]
[404.5,0,"3.55995310409284E-003-1.22470432841706E-003i",0,"-0.843795366672952+0.290284677254468i","-0.0000132417951704992+0.0000103339983786263i",null,0,null,404.5,{"$f":"EXP(-((J919)^2/(Sheet2!B$21^2*0.360673760222241)))","v":1.9868209958673305E-20},{"$f":"IF(1-ABS(J919)/Sheet2!B$22 >0, 1-ABS(J919)/Sheet2!B$22,0)","v":0},{"$f":"IF(1-J919/(Sheet2!B$23*2)>0,1-J919/(Sheet2!B$23*2),0)","v":0},{"$f":"IF(ABS(J919)<Sheet2!B$24/2, 1, 0)","v":0}]
[405.5,0,"-4.24103216706425E-003+1.44447498180645E-003i",0,"-0.920981234018162+0.313681740398892i","0.0000172640280623892-0.0000133033435125243i",null,0,null,405.5,{"$f":"EXP(-((J920)^2/(Sheet2!B$21^2*0.360673760222241)))","v":1.5871757601900229E-20},{"$f":"IF(1-ABS(J920)/Sheet2!B$22 >0, 1-ABS(J920)/Sheet2!B$22,0)","v":0},{"$f":"IF(1-J920/(Sheet2!B$23*2)>0,1-J920/(Sheet2!B$23*2),0)","v":0},{"$f":"IF(ABS(J920)<Sheet2!B$24/2, 1, 0)","v":0}]
[406.5,0,"2.83736494642377E-002-9.56688104105683E-003i",0,"2.38216915706012-0.803207531480652i","0.000299533208609931-0.000227899289452682i",null,0,null,406.5,{"$f":"EXP(-((J921)^2/(Sheet2!B$21^2*0.360673760222241)))","v":1.2672155094194019E-20},{"$f":"IF(1-ABS(J921)/Sheet2!B$22 >0, 1-ABS(J921)/Sheet2!B$22,0)","v":0},{"$f":"IF(1-J921/(Sheet2!B$23*2)>0,1-J921/(Sheet2!B$23*2),0)","v":0},{"$f":"IF(ABS(J921)<Sheet2!B$24/2, 1, 0)","v":0}]
[407.5,0,"-4.48575515852399E-002+1.49717292158446E-002i",0,"-2.99524795585433+0.999698818696217i","0.000596961348397002-0.00044844041329366i",null,0,null,407.5,{"$f":"EXP(-((J922)^2/(Sheet2!B$21^2*0.360673760222241)))","v":1.0111954645026337E-20},{"$f":"IF(1-ABS(J922)/Sheet2!B$22 >0, 1-ABS(J922)/Sheet2!B$22,0)","v":0},{"$f":"IF(1-J922/(Sheet2!B$23*2)>0,1-J922/(Sheet2!B$23*2),0)","v":0},{"$f":"IF(ABS(J922)<Sheet2!B$24/2, 1, 0)","v":0}]
[408.5,0,"3.16737880983603E-002-1.04636062191582E-002i",0,"2.51689443951716-0.831469612302557i","0.000355097052684389-0.000263357923102967i",null,0,null,408.5,{"$f":"EXP(-((J923)^2/(Sheet2!B$21^2*0.360673760222241)))","v":8.06452741146067E-21},{"$f":"IF(1-ABS(J923)/Sheet2!B$22 >0, 1-ABS(J923)/Sheet2!B$22,0)","v":0},{"$f":"IF(1-J923/(Sheet2!B$23*2)>0,1-J923/(Sheet2!B$23*2),0)","v":0},{"$f":"IF(ABS(J923)<Sheet2!B$24/2, 1, 0)","v":0}]
[409.5,0,"-6.05819178048026E-003+1.98076232996341E-003i",0,"-1.10074445540151+0.359895036534996i","0.0000297782724050666-0.0000218031315217368i",null,0,null,409.5,{"$f":"EXP(-((J924)^2/(Sheet2!B$21^2*0.360673760222241)))","v":6.4280893950925173E-21},{"$f":"IF(1-ABS(J924)/Sheet2!B$22 >0, 1-ABS(J924)/Sheet2!B$22,0)","v":0},{"$f":"IF(1-J924/(Sheet2!B$23*2)>0,1-J924/(Sheet2!B$23*2),0)","v":0},{"$f":"IF(ABS(J924)<Sheet2!B$24/2, 1, 0)","v":0}]
[410.5,0,"2.81963354648686E-003-9.12330483117632E-004i",0,"-0.750950537184719+0.242980179903264i","-9.47863550739604E-06+6.85115066386918E-06i",null,0,null,410.5,{"$f":"EXP(-((J925)^2/(Sheet2!B$21^2*0.360673760222241)))","v":5.1208737546388525E-21},{"$f":"IF(1-ABS(J925)/Sheet2!B$22 >0, 1-ABS(J925)/Sheet2!B$22,0)","v":0},{"$f":"IF(1-J925/(Sheet2!B$23*2)>0,1-J925/(Sheet2!B$23*2),0)","v":0},{"$f":"IF(ABS(J925)<Sheet2!B$24/2, 1, 0)","v":0}]
[411.5,0,"-2.79652839954343E-002+8.95385997550176E-003i",0,"2.36496443928611-0.757208846506496i","-0.000296784800999544+0.000211755604364091i",null,0,null,411.5,{"$f":"EXP(-((J926)^2/(Sheet2!B$21^2*0.360673760222241)))","v":4.0772318365904308E-21},{"$f":"IF(1-ABS(J926)/Sheet2!B$22 >0, 1-ABS(J926)/Sheet2!B$22,0)","v":0},{"$f":"IF(1-J926/(Sheet2!B$23*2)>0,1-J926/(Sheet2!B$23*2),0)","v":0},{"$f":"IF(ABS(J926)<Sheet2!B$24/2, 1, 0)","v":0}]
[412.5,0,"4.93413583865507E-002-1.56312696547001E-002i",0,"-3.1413805368517+0.995184726672213i","-0.000697219910392412+0.000491037662595553i",null,0,null,412.5,{"$f":"EXP(-((J927)^2/(Sheet2!B$21^2*0.360673760222241)))","v":3.2444861166020836E-21},{"$f":"IF(1-ABS(J927)/Sheet2!B$22 >0, 1-ABS(J927)/Sheet2!B$22,0)","v":0},{"$f":"IF(1-J927/(Sheet2!B$23*2)>0,1-J927/(Sheet2!B$23*2),0)","v":0},{"$f":"IF(ABS(J927)<Sheet2!B$24/2, 1, 0)","v":0}]
[413.5,0,"-3.85323515764793E-002+1.20770380539036E-002i",0,"2.77605301017444-0.870086991108732i","-0.000482298884405793+0.000335264978435265i",null,0,null,413.5,{"$f":"EXP(-((J928)^2/(Sheet2!B$21^2*0.360673760222241)))","v":2.5803915411549512E-21},{"$f":"IF(1-ABS(J928)/Sheet2!B$22 >0, 1-ABS(J928)/Sheet2!B$22,0)","v":0},{"$f":"IF(1-J928/(Sheet2!B$23*2)>0,1-J928/(Sheet2!B$23*2),0)","v":0},{"$f":"IF(ABS(J928)<Sheet2!B$24/2, 1, 0)","v":0}]
[414.5,0,"9.50743189171213E-003-2.94787251673059E-003i",0,"-1.37894393589712+0.4275550934303i","-0.0000592491882185998+0.0000406495093074331i",null,0,null,414.5,{"$f":"EXP(-((J929)^2/(Sheet2!B$21^2*0.360673760222241)))","v":2.0510888558902202E-21},{"$f":"IF(1-ABS(J929)/Sheet2!B$22 >0, 1-ABS(J929)/Sheet2!B$22,0)","v":0},{"$f":"IF(1-J929/(Sheet2!B$23*2)>0,1-J929/(Sheet2!B$23*2),0)","v":0},{"$f":"IF(ABS(J929)<Sheet2!B$24/2, 1, 0)","v":0}]
[415.5,0,"-1.55360574177239E-003+4.76491017678209E-004i",0,"-0.557423670435645+0.170961888760294i","3.92277405314539E-06-2.65607372003024E-06i",null,0,null,415.5,{"$f":"EXP(-((J930)^2/(Sheet2!B$21^2*0.360673760222241)))","v":1.6294555447729507E-21},{"$f":"IF(1-ABS(J930)/Sheet2!B$22 >0, 1-ABS(J930)/Sheet2!B$22,0)","v":0},{"$f":"IF(1-J930/(Sheet2!B$23*2)>0,1-J930/(Sheet2!B$23*2),0)","v":0},{"$f":"IF(ABS(J930)<Sheet2!B$24/2, 1, 0)","v":0}]
[416.5,0,"2.71682400622966E-002-8.24139552234585E-003i",0,"2.33101866411646-0.707106781186552i","0.000287510639980593-0.00019210846780954i",null,0,null,416.5,{"$f":"EXP(-((J931)^2/(Sheet2!B$21^2*0.360673760222241)))","v":1.2937779164343292E-21},{"$f":"IF(1-ABS(J931)/Sheet2!B$22 >0, 1-ABS(J931)/Sheet2!B$22,0)","v":0},{"$f":"IF(1-J931/(Sheet2!B$23*2)>0,1-J931/(Sheet2!B$23*2),0)","v":0},{"$f":"IF(ABS(J931)<Sheet2!B$24/2, 1, 0)","v":0}]
[417.5,0,"-5.39319538998342E-002+1.6179560023218E-002i",0,"-3.28426411544007+0.985277642388949i","0.000805927110571134-0.000531379483878609i",null,0,null,417.5,{"$f":"EXP(-((J932)^2/(Sheet2!B$21^2*0.360673760222241)))","v":1.0266824240335285E-21},{"$f":"IF(1-ABS(J932)/Sheet2!B$22 >0, 1-ABS(J932)/Sheet2!B$22,0)","v":0},{"$f":"IF(1-J932/(Sheet2!B$23*2)>0,1-J932/(Sheet2!B$23*2),0)","v":0},{"$f":"IF(ABS(J932)<Sheet2!B$24/2, 1, 0)","v":0}]
[418.5,0,"4.64283208979237E-002-1.37733561515117E-002i",0,"3.04723877954863-0.903989293123451i","0.000645136067090693-0.00041970704989422i",null,0,null,418.5,{"$f":"EXP(-((J933)^2/(Sheet2!B$21^2*0.360673760222241)))","v":8.1427611661693975E-22},{"$f":"IF(1-ABS(J933)/Sheet2!B$22 >0, 1-ABS(J933)/Sheet2!B$22,0)","v":0},{"$f":"IF(1-J933/(Sheet2!B$23*2)>0,1-J933/(Sheet2!B$23*2),0)","v":0},{"$f":"IF(ABS(J933)<Sheet2!B$24/2, 1, 0)","v":0}]
[419.5,0,"-1.41185645260195E-002+4.14130769175667E-003i",0,"-1.68039070016623+0.492898192229791i","0.000108417307272429-0.0000695901493175473i",null,0,null,419.5,{"$f":"EXP(-((J934)^2/(Sheet2!B$21^2*0.360673760222241)))","v":6.4545570271192458E-22},{"$f":"IF(1-ABS(J934)/Sheet2!B$22 >0, 1-ABS(J934)/Sheet2!B$22,0)","v":0},{"$f":"IF(1-J934/(Sheet2!B$23*2)>0,1-J934/(Sheet2!B$23*2),0)","v":0},{"$f":"IF(ABS(J934)<Sheet2!B$24/2, 1, 0)","v":0}]
[420.5,0,"5.71207840036863E-004-1.6564720400365E-004i",0,"-0.337996402359194+9.80171403295612E-002i","-8.84149648459002E-07+5.5988159014166E-07i",null,0,null,420.5,{"$f":"EXP(-((J935)^2/(Sheet2!B$21^2*0.360673760222241)))","v":5.1135247659842157E-22},{"$f":"IF(1-ABS(J935)/Sheet2!B$22 >0, 1-ABS(J935)/Sheet2!B$22,0)","v":0},{"$f":"IF(1-J935/(Sheet2!B$23*2)>0,1-J935/(Sheet2!B$23*2),0)","v":0},{"$f":"IF(ABS(J935)<Sheet2!B$24/2, 1, 0)","v":0}]
[421.5,0,"-2.59571429714715E-002+7.44117582572806E-003i",0,"2.27847067005374-0.653172842953785i","-0.000271411074849398+0.000169545008696341i",null,0,null,421.5,{"$f":"EXP(-((J936)^2/(Sheet2!B$21^2*0.360673760222241)))","v":4.048866535193073E-22},{"$f":"IF(1-ABS(J936)/Sheet2!B$22 >0, 1-ABS(J936)/Sheet2!B$22,0)","v":0},{"$f":"IF(1-J936/(Sheet2!B$23*2)>0,1-J936/(Sheet2!B$23*2),0)","v":0},{"$f":"IF(ABS(J936)<Sheet2!B$24/2, 1, 0)","v":0}]
[422.5,0,"5.85978208480818E-002-1.6603951720786E-002i",0,"-3.42338489942596+0.970031253194558i","-0.000922482714674475+0.000568417175917357i",null,0,null,422.5,{"$f":"EXP(-((J937)^2/(Sheet2!B$21^2*0.360673760222241)))","v":3.2040975848535228E-22},{"$f":"IF(1-ABS(J937)/Sheet2!B$22 >0, 1-ABS(J937)/Sheet2!B$22,0)","v":0},{"$f":"IF(1-J937/(Sheet2!B$23*2)>0,1-J937/(Sheet2!B$23*2),0)","v":0},{"$f":"IF(ABS(J937)<Sheet2!B$24/2, 1, 0)","v":0}]
[423.5,0,"-5.54979744262579E-002+1.55418194745898E-002i",0,"3.33160545161842-0.932992798834756i","-0.000851984742508592+0.000517792104896134i",null,0,null,423.5,{"$f":"EXP(-((J938)^2/(Sheet2!B$21^2*0.360673760222241)))","v":2.5341783951586895E-22},{"$f":"IF(1-ABS(J938)/Sheet2!B$22 >0, 1-ABS(J938)/Sheet2!B$22,0)","v":0},{"$f":"IF(1-J938/(Sheet2!B$23*2)>0,1-J938/(Sheet2!B$23*2),0)","v":0},{"$f":"IF(ABS(J938)<Sheet2!B$24/2, 1, 0)","v":0}]
[424.5,0,"2.01517439508513E-002-5.57673860952712E-003i",0,"-2.00757286048861+0.555570233019609i","-0.000186789121392301+0.000111957090825258i",null,0,null,424.5,{"$f":"EXP(-((J939)^2/(Sheet2!B$21^2*0.360673760222241)))","v":2.0032161347722124E-22},{"$f":"IF(1-ABS(J939)/Sheet2!B$22 >0, 1-ABS(J939)/Sheet2!B$22,0)","v":0},{"$f":"IF(1-J939/(Sheet2!B$23*2)>0,1-J939/(Sheet2!B$23*2),0)","v":0},{"$f":"IF(ABS(J939)<Sheet2!B$24/2, 1, 0)","v":0}]
[425.5,0,"-4.02761159340376E-005+1.10129861426391E-005i",0,"-8.97508951879142E-002+2.45412285229106E-002i","1.67227262506297E-08-9.88425365073205E-09i",null,0,null,425.5,{"$f":"EXP(-((J940)^2/(Sheet2!B$21^2*0.360673760222241)))","v":1.5826235030613277E-22},{"$f":"IF(1-ABS(J940)/Sheet2!B$22 >0, 1-ABS(J940)/Sheet2!B$22,0)","v":0},{"$f":"IF(1-J940/(Sheet2!B$23*2)>0,1-J940/(Sheet2!B$23*2),0)","v":0},{"$f":"IF(ABS(J940)<Sheet2!B$24/2, 1, 0)","v":0}]
[426.5,0,"2.43129801055305E-002-6.56797048609767E-003i",0,"2.20512947944248-0.595699304492439i","0.000248503668566543-0.000144832253390026i",null,0,null,426.5,{"$f":"EXP(-((J941)^2/(Sheet2!B$21^2*0.360673760222241)))","v":1.2496448061629924E-22},{"$f":"IF(1-ABS(J941)/Sheet2!B$22 >0, 1-ABS(J941)/Sheet2!B$22,0)","v":0},{"$f":"IF(1-J941/(Sheet2!B$23*2)>0,1-J941/(Sheet2!B$23*2),0)","v":0},{"$f":"IF(ABS(J941)<Sheet2!B$24/2, 1, 0)","v":0}]
[427.5,0,"-6.33053174127111E-002+1.68932401526002E-002i",0,"-3.5582388175252+0.949528180593051i","0.00104607415093621-0.000601101828647573i",null,0,null,427.5,{"$f":"EXP(-((J942)^2/(Sheet2!B$21^2*0.360673760222241)))","v":9.8617671035109088E-23},{"$f":"IF(1-ABS(J942)/Sheet2!B$22 >0, 1-ABS(J942)/Sheet2!B$22,0)","v":0},{"$f":"IF(1-J942/(Sheet2!B$23*2)>0,1-J942/(Sheet2!B$23*2),0)","v":0},{"$f":"IF(ABS(J942)<Sheet2!B$24/2, 1, 0)","v":0}]
[428.5,0,"6.59096330268941E-002-1.73717795610271E-002i",0,"3.63069230386977-0.956940335732223i","0.00111336920408115-0.000630715863567435i",null,0,null,428.5,{"$f":"EXP(-((J943)^2/(Sheet2!B$21^2*0.360673760222241)))","v":7.778253112857292E-23},{"$f":"IF(1-ABS(J943)/Sheet2!B$22 >0, 1-ABS(J943)/Sheet2!B$22,0)","v":0},{"$f":"IF(1-J943/(Sheet2!B$23*2)>0,1-J943/(Sheet2!B$23*2),0)","v":0},{"$f":"IF(ABS(J943)<Sheet2!B$24/2, 1, 0)","v":0}]
[429.5,0,"-2.79336862701091E-002+7.27089302541737E-003i",0,"-2.363627985539+0.615231590580636i","0.000307757797631636-0.000171856862347383i",null,0,null,429.5,{"$f":"EXP(-((J944)^2/(Sheet2!B$21^2*0.360673760222241)))","v":6.1315260391122314E-23},{"$f":"IF(1-ABS(J944)/Sheet2!B$22 >0, 1-ABS(J944)/Sheet2!B$22,0)","v":0},{"$f":"IF(1-J944/(Sheet2!B$23*2)>0,1-J944/(Sheet2!B$23*2),0)","v":0},{"$f":"IF(ABS(J944)<Sheet2!B$24/2, 1, 0)","v":0}]
[430.5,0,"1.82235882180553E-004-4.68379008590455E-005i",0,"0.19091143611171-4.90676743274174E-002i","1.62463435563211E-07-8.94189091753163E-08i",null,0,null,430.5,{"$f":"EXP(-((J945)^2/(Sheet2!B$21^2*0.360673760222241)))","v":4.8307466173273546E-23},{"$f":"IF(1-ABS(J945)/Sheet2!B$22 >0, 1-ABS(J945)/Sheet2!B$22,0)","v":0},{"$f":"IF(1-J945/(Sheet2!B$23*2)>0,1-J945/(Sheet2!B$23*2),0)","v":0},{"$f":"IF(ABS(J945)<Sheet2!B$24/2, 1, 0)","v":0}]
[431.5,0,"-2.22260263712926E-002+5.63985274398315E-003i",0,"2.1083655456922-0.534997619887112i","-0.000219216402121674+0.000118908712081907i",null,0,null,431.5,{"$f":"EXP(-((J946)^2/(Sheet2!B$21^2*0.360673760222241)))","v":3.8038126284569029E-23},{"$f":"IF(1-ABS(J946)/Sheet2!B$22 >0, 1-ABS(J946)/Sheet2!B$22,0)","v":0},{"$f":"IF(1-J946/(Sheet2!B$23*2)>0,1-J946/(Sheet2!B$23*2),0)","v":0},{"$f":"IF(ABS(J946)<Sheet2!B$24/2, 1, 0)","v":0}]
[432.5,0,"6.80190326882013E-002-1.70378807332208E-002i",0,"-3.68833384302993+0.923879532511297i","-0.0011756797547363+0.000628413921218459i",null,0,null,432.5,{"$f":"EXP(-((J947)^2/(Sheet2!B$21^2*0.360673760222241)))","v":2.9935267920445764E-23},{"$f":"IF(1-ABS(J947)/Sheet2!B$22 >0, 1-ABS(J947)/Sheet2!B$22,0)","v":0},{"$f":"IF(1-J947/(Sheet2!B$23*2)>0,1-J947/(Sheet2!B$23*2),0)","v":0},{"$f":"IF(ABS(J947)<Sheet2!B$24/2, 1, 0)","v":0}]
[433.5,0,"-7.78763695672016E-002+1.92532967205146E-002i",0,"3.94655215516543-0.975702130038546i","-0.00144278835765714+0.00075984139666387i",null,0,null,433.5,{"$f":"EXP(-((J948)^2/(Sheet2!B$21^2*0.360673760222241)))","v":2.3545415510972538E-23},{"$f":"IF(1-ABS(J948)/Sheet2!B$22 >0, 1-ABS(J948)/Sheet2!B$22,0)","v":0},{"$f":"IF(1-J948/(Sheet2!B$23*2)>0,1-J948/(Sheet2!B$23*2),0)","v":0},{"$f":"IF(ABS(J948)<Sheet2!B$24/2, 1, 0)","v":0}]
[434.5,0,"3.78829839517838E-002-9.24253782757742E-003i",0,"-2.75256185949701+0.671558954847033i","-0.000490341738529977+0.000254406571091474i",null,0,null,434.5,{"$f":"EXP(-((J949)^2/(Sheet2!B$21^2*0.360673760222241)))","v":1.8509246721055321E-23},{"$f":"IF(1-ABS(J949)/Sheet2!B$22 >0, 1-ABS(J949)/Sheet2!B$22,0)","v":0},{"$f":"IF(1-J949/(Sheet2!B$23*2)>0,1-J949/(Sheet2!B$23*2),0)","v":0},{"$f":"IF(ABS(J949)<Sheet2!B$24/2, 1, 0)","v":0}]
[435.5,0,"-1.29287354774023E-003+3.1123062190001E-004i",0,"0.508502418430772-0.122410675199226i","-3.09665687590812E-06+1.58261523925984E-06i",null,0,null,435.5,{"$f":"EXP(-((J950)^2/(Sheet2!B$21^2*0.360673760222241)))","v":1.4542206452952707E-23},{"$f":"IF(1-ABS(J950)/Sheet2!B$22 >0, 1-ABS(J950)/Sheet2!B$22,0)","v":0},{"$f":"IF(1-J950/(Sheet2!B$23*2)>0,1-J950/(Sheet2!B$23*2),0)","v":0},{"$f":"IF(ABS(J950)<Sheet2!B$24/2, 1, 0)","v":0}]
[436.5,0,"1.97002980182435E-002-4.6785144163748E-003i",0,"1.98495833801348-0.471396736825999i","0.000184494171917952-0.0000928665620029956i",null,0,null,436.5,{"$f":"EXP(-((J951)^2/(Sheet2!B$21^2*0.360673760222241)))","v":1.1419078104406372E-23},{"$f":"IF(1-ABS(J951)/Sheet2!B$22 >0, 1-ABS(J951)/Sheet2!B$22,0)","v":0},{"$f":"IF(1-J951/(Sheet2!B$23*2)>0,1-J951/(Sheet2!B$23*2),0)","v":0},{"$f":"IF(ABS(J951)<Sheet2!B$24/2, 1, 0)","v":0}]
[437.5,0,"-7.27021764328034E-002+1.70301800026386E-002i",0,"-3.81319226981302+0.893224301195528i","0.00131007803270029-0.000649393507395853i",null,0,null,437.5,{"$f":"EXP(-((J952)^2/(Sheet2!B$21^2*0.360673760222241)))","v":8.9617114629489725E-24},{"$f":"IF(1-ABS(J952)/Sheet2!B$22 >0, 1-ABS(J952)/Sheet2!B$22,0)","v":0},{"$f":"IF(1-J952/(Sheet2!B$23*2)>0,1-J952/(Sheet2!B$23*2),0)","v":0},{"$f":"IF(ABS(J952)<Sheet2!B$24/2, 1, 0)","v":0}]
[438.5,0,"9.16746373899779E-002-2.11779245720666E-002i",0,"4.28193034483244-0.9891765099648i","0.00185797853087581-0.000906823978657057i",null,0,null,438.5,{"$f":"EXP(-((J953)^2/(Sheet2!B$21^2*0.360673760222241)))","v":7.0292671068946122E-24},{"$f":"IF(1-ABS(J953)/Sheet2!B$22 >0, 1-ABS(J953)/Sheet2!B$22,0)","v":0},{"$f":"IF(1-J953/(Sheet2!B$23*2)>0,1-J953/(Sheet2!B$23*2),0)","v":0},{"$f":"IF(ABS(J953)<Sheet2!B$24/2, 1, 0)","v":0}]
[439.5,0,"-5.05479042395412E-002+1.15139233477019E-002i",0,"-3.17955670619517+0.724247082951485i","0.000761905012555222-0.000366091721948007i",null,0,null,439.5,{"$f":"EXP(-((J954)^2/(Sheet2!B$21^2*0.360673760222241)))","v":5.5104658085886776E-24},{"$f":"IF(1-ABS(J954)/Sheet2!B$22 >0, 1-ABS(J954)/Sheet2!B$22,0)","v":0},{"$f":"IF(1-J954/(Sheet2!B$23*2)>0,1-J954/(Sheet2!B$23*2),0)","v":0},{"$f":"IF(ABS(J954)<Sheet2!B$24/2, 1, 0)","v":0}]
[440.5,0,"3.77386438973546E-003-8.47449587859351E-004i",0,"0.868776655963972-0.195090322016137i","0.0000155665803579398-7.36244419038608E-06i",null,0,null,440.5,{"$f":"EXP(-((J955)^2/(Sheet2!B$21^2*0.360673760222241)))","v":4.3174344598097673E-24},{"$f":"IF(1-ABS(J955)/Sheet2!B$22 >0, 1-ABS(J955)/Sheet2!B$22,0)","v":0},{"$f":"IF(1-J955/(Sheet2!B$23*2)>0,1-J955/(Sheet2!B$23*2),0)","v":0},{"$f":"IF(ABS(J955)<Sheet2!B$24/2, 1, 0)","v":0}]
[441.5,0,"-1.67605858655266E-002+3.7097386495027E-003i",0,"1.83087879803855-0.405241314004992i","-0.000145916309694788+0.0000679208183963908i",null,0,null,441.5,{"$f":"EXP(-((J956)^2/(Sheet2!B$21^2*0.360673760222241)))","v":3.3808225081469657E-24},{"$f":"IF(1-ABS(J956)/Sheet2!B$22 >0, 1-ABS(J956)/Sheet2!B$22,0)","v":0},{"$f":"IF(1-J956/(Sheet2!B$23*2)>0,1-J956/(Sheet2!B$23*2),0)","v":0},{"$f":"IF(ABS(J956)<Sheet2!B$24/2, 1, 0)","v":0}]
[442.5,0,"7.73169977930633E-002-1.68644580593266E-002i",0,"-3.93235292905072+0.857728610000288i","-0.00144786297283663+0.000663170010464428i",null,0,null,442.5,{"$f":"EXP(-((J957)^2/(Sheet2!B$21^2*0.360673760222241)))","v":2.6459288678979165E-24},{"$f":"IF(1-ABS(J957)/Sheet2!B$22 >0, 1-ABS(J957)/Sheet2!B$22,0)","v":0},{"$f":"IF(1-J957/(Sheet2!B$23*2)>0,1-J957/(Sheet2!B$23*2),0)","v":0},{"$f":"IF(ABS(J957)<Sheet2!B$24/2, 1, 0)","v":0}]
[443.5,0,"-0.107672155278398+2.31397343360443E-002i",0,"4.6405205586961-0.997290456678718i","-0.00238288906972553+0.00107380412909177i",null,0,null,443.5,{"$f":"EXP(-((J958)^2/(Sheet2!B$21^2*0.360673760222241)))","v":2.0696320164850377E-24},{"$f":"IF(1-ABS(J958)/Sheet2!B$22 >0, 1-ABS(J958)/Sheet2!B$22,0)","v":0},{"$f":"IF(1-J958/(Sheet2!B$23*2)>0,1-J958/(Sheet2!B$23*2),0)","v":0},{"$f":"IF(ABS(J958)<Sheet2!B$24/2, 1, 0)","v":0}]
[444.5,0,"6.66641519705985E-002-1.41129092363575E-002i",0,"-3.65141484826385+0.773010453362764i","-0.00116254523992648+0.000515320863378362i",null,0,null,444.5,{"$f":"EXP(-((J959)^2/(Sheet2!B$21^2*0.360673760222241)))","v":1.6179581339651364E-24},{"$f":"IF(1-ABS(J959)/Sheet2!B$22 >0, 1-ABS(J959)/Sheet2!B$22,0)","v":0},{"$f":"IF(1-J959/(Sheet2!B$23*2)>0,1-J959/(Sheet2!B$23*2),0)","v":0},{"$f":"IF(ABS(J959)<Sheet2!B$24/2, 1, 0)","v":0}]
[445.5,0,"-8.18187462175616E-003+1.70590641246506E-003i",0,"1.27920871024181-0.266712757474921i","-0.0000500566913949709+0.0000218221034168266i",null,0,null,445.5,{"$f":"EXP(-((J960)^2/(Sheet2!B$21^2*0.360673760222241)))","v":1.2641557990185366E-24},{"$f":"IF(1-ABS(J960)/Sheet2!B$22 >0, 1-ABS(J960)/Sheet2!B$22,0)","v":0},{"$f":"IF(1-J960/(Sheet2!B$23*2)>0,1-J960/(Sheet2!B$23*2),0)","v":0},{"$f":"IF(ABS(J960)<Sheet2!B$24/2, 1, 0)","v":0}]
[446.5,0,"1.34639487798571E-002-2.76413441671788E-003i",0,"1.6409721984196-0.336889853392207i","0.000105813783951433-0.0000453586773052753i",null,0,null,446.5,{"$f":"EXP(-((J961)^2/(Sheet2!B$21^2*0.360673760222241)))","v":9.871726141224545E-25},{"$f":"IF(1-ABS(J961)/Sheet2!B$22 >0, 1-ABS(J961)/Sheet2!B$22,0)","v":0},{"$f":"IF(1-J961/(Sheet2!B$23*2)>0,1-J961/(Sheet2!B$23*2),0)","v":0},{"$f":"IF(ABS(J961)<Sheet2!B$24/2, 1, 0)","v":0}]
[447.5,0,"-8.18252271109542E-002+1.6537179012451E-002i",0,"-4.04537333533166+0.817584813151581i","0.00158746522749581-0.000668990630185854i",null,0,null,447.5,{"$f":"EXP(-((J962)^2/(Sheet2!B$21^2*0.360673760222241)))","v":7.7045055496179067E-25},{"$f":"IF(1-ABS(J962)/Sheet2!B$22 >0, 1-ABS(J962)/Sheet2!B$22,0)","v":0},{"$f":"IF(1-J962/(Sheet2!B$23*2)>0,1-J962/(Sheet2!B$23*2),0)","v":0},{"$f":"IF(ABS(J962)<Sheet2!B$24/2, 1, 0)","v":0}]
[448.5,0,"0.12637071184544-2.51366974606293E-002i",0,"5.02733949212584-1.00000000000001i","0.00305085886424003-0.00126370711845441i",null,{"$f":"IMABS(G963)","v":0},null,448.5,{"$f":"EXP(-((J963)^2/(Sheet2!B$21^2*0.360673760222241)))","v":6.0097391475510446E-25},{"$f":"IF(1-ABS(J963)/Sheet2!B$22 >0, 1-ABS(J963)/Sheet2!B$22,0)","v":0},{"$f":"IF(1-J963/(Sheet2!B$23*2)>0,1-J963/(Sheet2!B$23*2),0)","v":0},{"$f":"IF(ABS(J963)<Sheet2!B$24/2, 1, 0)","v":0}]
[449.5,0,"-8.72455406698033E-002+1.70761293971445E-002i",0,"-4.17721296248604+0.817584813151595i",{"$f":"IMPRODUCT(C964,E964,D$1027)","v":"0.00175241009671244-0.00071330629066836i"},null,0,null,449.5,{"$f":"EXP(-((J964)^2/(Sheet2!B$21^2*0.360673760222241)))","v":4.6851731682398061E-25},{"$f":"IF(1-ABS(J964)/Sheet2!B$22 >0, 1-ABS(J964)/Sheet2!B$22,0)","v":0},{"$f":"IF(1-J964/(Sheet2!B$23*2)>0,1-J964/(Sheet2!B$23*2),0)","v":0},{"$f":"IF(ABS(J964)<Sheet2!B$24/2, 1, 0)","v":0}]
[{"$f":"A964+1","v":450.5},0,"1.53072710165831E-002-2.94728286236267E-003i",0,"1.74970117543465-0.336889853392217i","0.000128951201995027-0.0000515686428861299i",null,0,null,{"$f":"J964+1","v":450.5},{"$f":"EXP(-((J965)^2/(Sheet2!B$21^2*0.360673760222241)))","v":3.6505209822682248E-25},{"$f":"IF(1-ABS(J965)/Sheet2!B$22 >0, 1-ABS(J965)/Sheet2!B$22,0)","v":0},{"$f":"IF(1-J965/(Sheet2!B$23*2)>0,1-J965/(Sheet2!B$23*2),0)","v":0},{"$f":"IF(ABS(J965)<Sheet2!B$24/2, 1, 0)","v":0}]
[451.5,0,"-9.91914061548866E-003+1.87830370478879E-003i",0,"1.40848433541135-0.266712757474904i","-0.0000673499330858936+0.0000264556134533921i",null,0,null,451.5,{"$f":"EXP(-((J966)^2/(Sheet2!B$21^2*0.360673760222241)))","v":2.8427798376834238E-25},{"$f":"IF(1-ABS(J966)/Sheet2!B$22 >0, 1-ABS(J966)/Sheet2!B$22,0)","v":0},{"$f":"IF(1-J966/(Sheet2!B$23*2)>0,1-J966/(Sheet2!B$23*2),0)","v":0},{"$f":"IF(ABS(J966)<Sheet2!B$24/2, 1, 0)","v":0}]
[452.5,0,"8.61885344500808E-002-1.60470467212855E-002i",0,"-4.15183175116916+0.773010453362751i","-0.00172717879527714+0.000666246380899281i",null,0,null,452.5,{"$f":"EXP(-((J967)^2/(Sheet2!B$21^2*0.360673760222241)))","v":2.2125382127279E-25},{"$f":"IF(1-ABS(J967)/Sheet2!B$22 >0, 1-ABS(J967)/Sheet2!B$22,0)","v":0},{"$f":"IF(1-J967/(Sheet2!B$23*2)>0,1-J967/(Sheet2!B$23*2),0)","v":0},{"$f":"IF(ABS(J967)<Sheet2!B$24/2, 1, 0)","v":0}]
[453.5,0,"-0.148473851978707+2.71726286315861E-002i",0,"5.44929081585324-0.997290456678712i","-0.00390989097382383+0.00148071555644693i",null,0,null,453.5,{"$f":"EXP(-((J968)^2/(Sheet2!B$21^2*0.360673760222241)))","v":1.7210659389273329E-25},{"$f":"IF(1-ABS(J968)/Sheet2!B$22 >0, 1-ABS(J968)/Sheet2!B$22,0)","v":0},{"$f":"IF(1-J968/(Sheet2!B$23*2)>0,1-J968/(Sheet2!B$23*2),0)","v":0},{"$f":"IF(ABS(J968)<Sheet2!B$24/2, 1, 0)","v":0}]
[454.5,0,"0.113730823087105-2.04537992783057E-002i",0,"-4.76929393279788+0.857728610000291i","-0.00262435957848616+0.000975501808006903i",null,0,null,454.5,{"$f":"EXP(-((J969)^2/(Sheet2!B$21^2*0.360673760222241)))","v":1.3380224961435665E-25},{"$f":"IF(1-ABS(J969)/Sheet2!B$22 >0, 1-ABS(J969)/Sheet2!B$22,0)","v":0},{"$f":"IF(1-J969/(Sheet2!B$23*2)>0,1-J969/(Sheet2!B$23*2),0)","v":0},{"$f":"IF(ABS(J969)<Sheet2!B$24/2, 1, 0)","v":0}]
[455.5,0,"-2.63045030280683E-002+4.64743974322599E-003i",0,"2.2936653211872-0.405241314005001i","-0.0002922519589912+0.000106596713713438i",null,0,null,455.5,{"$f":"EXP(-((J970)^2/(Sheet2!B$21^2*0.360673760222241)))","v":1.0396532053001252E-25},{"$f":"IF(1-ABS(J970)/Sheet2!B$22 >0, 1-ABS(J970)/Sheet2!B$22,0)","v":0},{"$f":"IF(1-J970/(Sheet2!B$23*2)>0,1-J970/(Sheet2!B$23*2),0)","v":0},{"$f":"IF(ABS(J970)<Sheet2!B$24/2, 1, 0)","v":0}]
[456.5,0,"6.3206260559498E-003-1.09673265908334E-003i",0,"1.12433322960331-0.195090322016133i","0.0000344626398948735-0.000012330929725987i",null,0,null,456.5,{"$f":"EXP(-((J971)^2/(Sheet2!B$21^2*0.360673760222241)))","v":8.0737027223847918E-26},{"$f":"IF(1-ABS(J971)/Sheet2!B$22 >0, 1-ABS(J971)/Sheet2!B$22,0)","v":0},{"$f":"IF(1-J971/(Sheet2!B$23*2)>0,1-J971/(Sheet2!B$23*2),0)","v":0},{"$f":"IF(ABS(J971)<Sheet2!B$24/2, 1, 0)","v":0}]
[457.5,0,"-9.0368998105144E-002+1.53950637115809E-002i",0,"-4.25132915933711+0.724247082951485i","0.00186519263379757-0.000654494832668976i",null,0,null,457.5,{"$f":"EXP(-((J972)^2/(Sheet2!B$21^2*0.360673760222241)))","v":6.2663722170015317E-26},{"$f":"IF(1-ABS(J972)/Sheet2!B$22 >0, 1-ABS(J972)/Sheet2!B$22,0)","v":0},{"$f":"IF(1-J972/(Sheet2!B$23*2)>0,1-J972/(Sheet2!B$23*2),0)","v":0},{"$f":"IF(ABS(J972)<Sheet2!B$24/2, 1, 0)","v":0}]
[458.5,0,"0.174997712429534-2.92600445195417E-002i",0,"5.91604111597508-0.989176509964804i","0.00503175156607726-0.0017310362643287i",null,0,null,458.5,{"$f":"EXP(-((J973)^2/(Sheet2!B$21^2*0.360673760222241)))","v":4.8609236264866632E-26},{"$f":"IF(1-ABS(J973)/Sheet2!B$22 >0, 1-ABS(J973)/Sheet2!B$22,0)","v":0},{"$f":"IF(1-J973/(Sheet2!B$23*2)>0,1-J973/(Sheet2!B$23*2),0)","v":0},{"$f":"IF(ABS(J973)<Sheet2!B$24/2, 1, 0)","v":0}]
[459.5,0,"-0.148230278341886+2.43172239397742E-002i",0,"-5.44481915846423+0.893224301195539i","0.00392683162009883-0.00132402886787949i",null,0,null,459.5,{"$f":"EXP(-((J974)^2/(Sheet2!B$21^2*0.360673760222241)))","v":3.7686046807931737E-26},{"$f":"IF(1-ABS(J974)/Sheet2!B$22 >0, 1-ABS(J974)/Sheet2!B$22,0)","v":0},{"$f":"IF(1-J974/(Sheet2!B$23*2)>0,1-J974/(Sheet2!B$23*2),0)","v":0},{"$f":"IF(ABS(J974)<Sheet2!B$24/2, 1, 0)","v":0}]
[460.5,0,"4.29164415510989E-002-6.90531391722734E-003i",0,"2.92972495470484-0.471396736826006i","0.00061239113666023-0.000202306705033718i",null,0,null,460.5,{"$f":"EXP(-((J975)^2/(Sheet2!B$21^2*0.360673760222241)))","v":2.9201256883530821E-26},{"$f":"IF(1-ABS(J975)/Sheet2!B$22 >0, 1-ABS(J975)/Sheet2!B$22,0)","v":0},{"$f":"IF(1-J975/(Sheet2!B$23*2)>0,1-J975/(Sheet2!B$23*2),0)","v":0},{"$f":"IF(ABS(J975)<Sheet2!B$24/2, 1, 0)","v":0}]
[461.5,0,"-3.01050588394123E-003+4.74923911252682E-004i",0,"0.775951787671372-0.122410675199225i","-0.0000113893583289734+3.68518057944442E-06i",null,0,null,461.5,{"$f":"EXP(-((J976)^2/(Sheet2!B$21^2*0.360673760222241)))","v":2.261422362192515E-26},{"$f":"IF(1-ABS(J976)/Sheet2!B$22 >0, 1-ABS(J976)/Sheet2!B$22,0)","v":0},{"$f":"IF(1-J976/(Sheet2!B$23*2)>0,1-J976/(Sheet2!B$23*2),0)","v":0},{"$f":"IF(ABS(J976)<Sheet2!B$24/2, 1, 0)","v":0}]
[462.5,0,"9.43295761086788E-002-1.45845518280455E-002i",0,"-4.34349113291828+0.671558954847045i","-0.00199962645508716+0.000633478715427059i",null,0,null,462.5,{"$f":"EXP(-((J977)^2/(Sheet2!B$21^2*0.360673760222241)))","v":1.7503342701072292E-26},{"$f":"IF(1-ABS(J977)/Sheet2!B$22 >0, 1-ABS(J977)/Sheet2!B$22,0)","v":0},{"$f":"IF(1-J977/(Sheet2!B$23*2)>0,1-J977/(Sheet2!B$23*2),0)","v":0},{"$f":"IF(ABS(J977)<Sheet2!B$24/2, 1, 0)","v":0}]
[463.5,0,"-0.207460142763671+3.14245879277596E-002i",0,"6.44143062935093-0.975702130038569i","-0.00652839540295364+0.00202419303192611i",null,0,null,463.5,{"$f":"EXP(-((J978)^2/(Sheet2!B$21^2*0.360673760222241)))","v":1.3540025604372849E-26},{"$f":"IF(1-ABS(J978)/Sheet2!B$22 >0, 1-ABS(J978)/Sheet2!B$22,0)","v":0},{"$f":"IF(1-J978/(Sheet2!B$23*2)>0,1-J978/(Sheet2!B$23*2),0)","v":0},{"$f":"IF(ABS(J978)<Sheet2!B$24/2, 1, 0)","v":0}]
[464.5,0,"0.193957975190529-2.87709477908261E-002i",0,"-6.22828989676188+0.923879532511306i","-0.00590722803740334+0.00179193803445866i",null,0,null,464.5,{"$f":"EXP(-((J979)^2/(Sheet2!B$21^2*0.360673760222241)))","v":1.0468323889199326E-26},{"$f":"IF(1-ABS(J979)/Sheet2!B$22 >0, 1-ABS(J979)/Sheet2!B$22,0)","v":0},{"$f":"IF(1-J979/(Sheet2!B$23*2)>0,1-J979/(Sheet2!B$23*2),0)","v":0},{"$f":"IF(ABS(J979)<Sheet2!B$24/2, 1, 0)","v":0}]
[465.5,0,"-6.78779767097372E-002+9.85601365103474E-003i",0,"3.68450747616948-0.534997619887112i","-0.00122411984404703+0.000363145559824641i",null,0,null,465.5,{"$f":"EXP(-((J980)^2/(Sheet2!B$21^2*0.360673760222241)))","v":8.0889843063163765E-27},{"$f":"IF(1-ABS(J980)/Sheet2!B$22 >0, 1-ABS(J980)/Sheet2!B$22,0)","v":0},{"$f":"IF(1-J980/(Sheet2!B$23*2)>0,1-J980/(Sheet2!B$23*2),0)","v":0},{"$f":"IF(ABS(J980)<Sheet2!B$24/2, 1, 0)","v":0}]
[466.5,0,"5.96419807111927E-004-8.47337652494384E-005i",0,"0.345375102494901-4.90676743274179E-002i","1.00915431606738E-06-2.92649328577966E-07i",null,0,null,466.5,{"$f":"EXP(-((J981)^2/(Sheet2!B$21^2*0.360673760222241)))","v":6.2469784883876471E-27},{"$f":"IF(1-ABS(J981)/Sheet2!B$22 >0, 1-ABS(J981)/Sheet2!B$22,0)","v":0},{"$f":"IF(1-J981/(Sheet2!B$23*2)>0,1-J981/(Sheet2!B$23*2),0)","v":0},{"$f":"IF(ABS(J981)<Sheet2!B$24/2, 1, 0)","v":0}]
[467.5,0,"-9.80345736031034E-002+1.36211338801398E-002i",0,"-4.42796959346185+0.615231590580645i","0.00212856979579975-0.000603139666497324i",null,0,null,467.5,{"$f":"EXP(-((J982)^2/(Sheet2!B$21^2*0.360673760222241)))","v":4.8217557168132645E-27},{"$f":"IF(1-ABS(J982)/Sheet2!B$22 >0, 1-ABS(J982)/Sheet2!B$22,0)","v":0},{"$f":"IF(1-J982/(Sheet2!B$23*2)>0,1-J982/(Sheet2!B$23*2),0)","v":0},{"$f":"IF(ABS(J982)<Sheet2!B$24/2, 1, 0)","v":0}]
[468.5,0,"0.24821960044159-3.37122624347088E-002i",0,"7.04584417144734-0.956940335732235i","0.008583280006389-0.00237531347781896i",null,0,null,468.5,{"$f":"EXP(-((J983)^2/(Sheet2!B$21^2*0.360673760222241)))","v":3.7196285603660132E-27},{"$f":"IF(1-ABS(J983)/Sheet2!B$22 >0, 1-ABS(J983)/Sheet2!B$22,0)","v":0},{"$f":"IF(1-J983/(Sheet2!B$23*2)>0,1-J983/(Sheet2!B$23*2),0)","v":0},{"$f":"IF(ABS(J983)<Sheet2!B$24/2, 1, 0)","v":0}]
[469.5,0,"-0.25602925031863+3.39732936456678E-002i",0,"-7.15582630195341+0.949528180593067i","0.00899921121897671-0.00243106988233656i",null,0,null,469.5,{"$f":"EXP(-((J984)^2/(Sheet2!B$21^2*0.360673760222241)))","v":2.8678281231925276E-27},{"$f":"IF(1-ABS(J984)/Sheet2!B$22 >0, 1-ABS(J984)/Sheet2!B$22,0)","v":0},{"$f":"IF(1-J984/(Sheet2!B$23*2)>0,1-J984/(Sheet2!B$23*2),0)","v":0},{"$f":"IF(ABS(J984)<Sheet2!B$24/2, 1, 0)","v":0}]
[470.5,0,"0.105681720363403-1.36934232641083E-002i",0,"4.59742798450215-0.595699304492452i","0.00238853467967245-0.000629545273180446i",null,0,null,470.5,{"$f":"EXP(-((J985)^2/(Sheet2!B$21^2*0.360673760222241)))","v":2.2098654954698704E-27},{"$f":"IF(1-ABS(J985)/Sheet2!B$22 >0, 1-ABS(J985)/Sheet2!B$22,0)","v":0},{"$f":"IF(1-J985/(Sheet2!B$23*2)>0,1-J985/(Sheet2!B$23*2),0)","v":0},{"$f":"IF(ABS(J985)<Sheet2!B$24/2, 1, 0)","v":0}]
[471.5,0,"-1.88320269305398E-004+2.38138621306234E-005i",0,"-0.194072290308116+2.45412285229109E-002i","1.79816622714895E-07-4.62161076464585E-08i",null,0,null,471.5,{"$f":"EXP(-((J986)^2/(Sheet2!B$21^2*0.360673760222241)))","v":1.7019145006679168E-27},{"$f":"IF(1-ABS(J986)/Sheet2!B$22 >0, 1-ABS(J986)/Sheet2!B$22,0)","v":0},{"$f":"IF(1-J986/(Sheet2!B$23*2)>0,1-J986/(Sheet2!B$23*2),0)","v":0},{"$f":"IF(ABS(J986)<Sheet2!B$24/2, 1, 0)","v":0}]
[472.5,0,"0.10145009893558-1.25126762586123E-002i",0,"-4.50444444822178+0.555570233019617i","-0.00225012332228614+0.00056362655105503i",null,0,null,472.5,{"$f":"EXP(-((J987)^2/(Sheet2!B$21^2*0.360673760222241)))","v":1.3099925090113285E-27},{"$f":"IF(1-ABS(J987)/Sheet2!B$22 >0, 1-ABS(J987)/Sheet2!B$22,0)","v":0},{"$f":"IF(1-J987/(Sheet2!B$23*2)>0,1-J987/(Sheet2!B$23*2),0)","v":0},{"$f":"IF(ABS(J987)<Sheet2!B$24/2, 1, 0)","v":0}]
[473.5,0,"-0.301119348960782+3.62020051046728E-002i",0,"7.76040397093844-0.932992798834774i","-0.0115151579066781+0.00280942184170231i",null,0,null,473.5,{"$f":"EXP(-((J988)^2/(Sheet2!B$21^2*0.360673760222241)))","v":1.0077645144715271E-27},{"$f":"IF(1-ABS(J988)/Sheet2!B$22 >0, 1-ABS(J988)/Sheet2!B$22,0)","v":0},{"$f":"IF(1-J988/(Sheet2!B$23*2)>0,1-J988/(Sheet2!B$23*2),0)","v":0},{"$f":"IF(ABS(J988)<Sheet2!B$24/2, 1, 0)","v":0}]
[474.5,0,"0.343025784501839-4.01729858883378E-002i",0,"-8.28282300308108+0.970031253194583i","-0.0140112640333797+0.00332745731618375i",null,0,null,474.5,{"$f":"EXP(-((J989)^2/(Sheet2!B$21^2*0.360673760222241)))","v":7.7483367535425124E-28},{"$f":"IF(1-ABS(J989)/Sheet2!B$22 >0, 1-ABS(J989)/Sheet2!B$22,0)","v":0},{"$f":"IF(1-J989/(Sheet2!B$23*2)>0,1-J989/(Sheet2!B$23*2),0)","v":0},{"$f":"IF(ABS(J989)<Sheet2!B$24/2, 1, 0)","v":0}]
[475.5,0,"-0.164127348763306+1.87112843631974E-002i",0,"5.72935159967201-0.653172842953809i","-0.00464060792692073+0.00107203526998201i",null,0,null,475.5,{"$f":"EXP(-((J990)^2/(Sheet2!B$21^2*0.360673760222241)))","v":5.9541132263906013E-28},{"$f":"IF(1-ABS(J990)/Sheet2!B$22 >0, 1-ABS(J990)/Sheet2!B$22,0)","v":0},{"$f":"IF(1-J990/(Sheet2!B$23*2)>0,1-J990/(Sheet2!B$23*2),0)","v":0},{"$f":"IF(ABS(J990)<Sheet2!B$24/2, 1, 0)","v":0}]
[476.5,0,"3.90595579936891E-003-4.33162340936331E-004i",0,"-0.883850190855855+9.80171403295661E-002i","-0.0000170491122239485+3.82850617707985E-06i",null,0,null,476.5,{"$f":"EXP(-((J991)^2/(Sheet2!B$21^2*0.360673760222241)))","v":4.5728280046590599E-28},{"$f":"IF(1-ABS(J991)/Sheet2!B$22 >0, 1-ABS(J991)/Sheet2!B$22,0)","v":0},{"$f":"IF(1-J991/(Sheet2!B$23*2)>0,1-J991/(Sheet2!B$23*2),0)","v":0},{"$f":"IF(ABS(J991)<Sheet2!B$24/2, 1, 0)","v":0}]
[477.5,0,"-0.104544501436896+1.12691932228861E-002i",0,"-4.57262509805759+0.492898192229805i","0.0023624412308341-0.000515297957658209i",null,0,null,477.5,{"$f":"EXP(-((J992)^2/(Sheet2!B$21^2*0.360673760222241)))","v":3.5100380181991967E-28},{"$f":"IF(1-ABS(J992)/Sheet2!B$22 >0, 1-ABS(J992)/Sheet2!B$22,0)","v":0},{"$f":"IF(1-J992/(Sheet2!B$23*2)>0,1-J992/(Sheet2!B$23*2),0)","v":0},{"$f":"IF(ABS(J992)<Sheet2!B$24/2, 1, 0)","v":0}]
[478.5,0,"0.372804029303625-3.90291045824484E-002i",0,"8.63485992131531-0.903989293123486i","0.01591914339238-0.00337010850923789i",null,0,null,478.5,{"$f":"EXP(-((J993)^2/(Sheet2!B$21^2*0.360673760222241)))","v":2.6927618769925604E-28},{"$f":"IF(1-ABS(J993)/Sheet2!B$22 >0, 1-ABS(J993)/Sheet2!B$22,0)","v":0},{"$f":"IF(1-J993/(Sheet2!B$23*2)>0,1-J993/(Sheet2!B$23*2),0)","v":0},{"$f":"IF(ABS(J993)<Sheet2!B$24/2, 1, 0)","v":0}]
[479.5,0,"-0.470310554324196+4.77788830327037E-002i",0,"-9.69856230917024+0.985277642388996i","0.0225713037527158-0.0046338647415522i",null,0,null,479.5,{"$f":"EXP(-((J994)^2/(Sheet2!B$21^2*0.360673760222241)))","v":2.0646348596796378E-28},{"$f":"IF(1-ABS(J994)/Sheet2!B$22 >0, 1-ABS(J994)/Sheet2!B$22,0)","v":0},{"$f":"IF(1-J994/(Sheet2!B$23*2)>0,1-J994/(Sheet2!B$23*2),0)","v":0},{"$f":"IF(ABS(J994)<Sheet2!B$24/2, 1, 0)","v":0}]
[480.5,0,"0.257717172299541-2.53829259690227E-002i",0,"7.17937563162067-0.70710678118657i","0.00916149973789229-0.00182233560161233i",null,0,null,480.5,{"$f":"EXP(-((J995)^2/(Sheet2!B$21^2*0.360673760222241)))","v":1.582150298242906E-28},{"$f":"IF(1-ABS(J995)/Sheet2!B$22 >0, 1-ABS(J995)/Sheet2!B$22,0)","v":0},{"$f":"IF(1-J995/(Sheet2!B$23*2)>0,1-J995/(Sheet2!B$23*2),0)","v":0},{"$f":"IF(ABS(J995)<Sheet2!B$24/2, 1, 0)","v":0}]
[481.5,0,"-1.60590915321558E-002+1.53195072360634E-003i",0,"-1.79215465471934+0.170961888760308i","0.000142592352253607-0.0000274549262011189i",null,0,null,481.5,{"$f":"EXP(-((J996)^2/(Sheet2!B$21^2*0.360673760222241)))","v":1.211745442883856E-28},{"$f":"IF(1-ABS(J996)/Sheet2!B$22 >0, 1-ABS(J996)/Sheet2!B$22,0)","v":0},{"$f":"IF(1-J996/(Sheet2!B$23*2)>0,1-J996/(Sheet2!B$23*2),0)","v":0},{"$f":"IF(ABS(J996)<Sheet2!B$24/2, 1, 0)","v":0}]
[482.5,0,"0.107288784074837-9.90271427332684E-003i",0,"-4.6322518082428+0.427555093430299i","-0.00246377354054245+0.000458718660991351i",null,0,null,482.5,{"$f":"EXP(-((J997)^2/(Sheet2!B$21^2*0.360673760222241)))","v":9.2754337707322156E-29},{"$f":"IF(1-ABS(J997)/Sheet2!B$22 >0, 1-ABS(J997)/Sheet2!B$22,0)","v":0},{"$f":"IF(1-J997/(Sheet2!B$23*2)>0,1-J997/(Sheet2!B$23*2),0)","v":0},{"$f":"IF(ABS(J997)<Sheet2!B$24/2, 1, 0)","v":0}]
[483.5,0,"-0.475667435737857+4.24325750389412E-002i",0,"9.75363968719239-0.870086991108758i","-0.0230128437378858+0.00413872047929578i",null,0,null,483.5,{"$f":"EXP(-((J998)^2/(Sheet2!B$21^2*0.360673760222241)))","v":7.0960429987552719E-29},{"$f":"IF(1-ABS(J998)/Sheet2!B$22 >0, 1-ABS(J998)/Sheet2!B$22,0)","v":0},{"$f":"IF(1-J998/(Sheet2!B$23*2)>0,1-J998/(Sheet2!B$23*2),0)","v":0},{"$f":"IF(ABS(J998)<Sheet2!B$24/2, 1, 0)","v":0}]
[484.5,0,"0.66776137957072-5.75041718372576E-002i",0,"-11.556481986926+0.995184726672244i","-0.0382987254052075+0.00664545926010366i",null,0,null,484.5,{"$f":"EXP(-((J999)^2/(Sheet2!B$21^2*0.360673760222241)))","v":5.4257205791333131E-29},{"$f":"IF(1-ABS(J999)/Sheet2!B$22 >0, 1-ABS(J999)/Sheet2!B$22,0)","v":0},{"$f":"IF(1-J999/(Sheet2!B$23*2)>0,1-J999/(Sheet2!B$23*2),0)","v":0},{"$f":"IF(ABS(J999)<Sheet2!B$24/2, 1, 0)","v":0}]
[485.5,0,"-0.415895450665029+3.45296969095056E-002i",0,"9.12025713086031-0.757208846506528i","-0.0188346362882651+0.00314919714465371i",null,0,null,485.5,{"$f":"EXP(-((J1000)^2/(Sheet2!B$21^2*0.360673760222241)))","v":4.146271970689883E-29},{"$f":"IF(1-ABS(J1000)/Sheet2!B$22 >0, 1-ABS(J1000)/Sheet2!B$22,0)","v":0},{"$f":"IF(1-J1000/(Sheet2!B$23*2)>0,1-J1000/(Sheet2!B$23*2),0)","v":0},{"$f":"IF(ABS(J1000)<Sheet2!B$24/2, 1, 0)","v":0}]
[486.5,0,"4.61976860352937E-002-3.69288652583438E-003i",0,"-3.03966070591159+0.242980179903279i","-0.000697639963565566+0.0001122512206397i",null,0,null,486.5,{"$f":"EXP(-((J1001)^2/(Sheet2!B$21^2*0.360673760222241)))","v":3.1667758439905519E-29},{"$f":"IF(1-ABS(J1001)/Sheet2!B$22 >0, 1-ABS(J1001)/Sheet2!B$22,0)","v":0},{"$f":"IF(1-J1001/(Sheet2!B$23*2)>0,1-J1001/(Sheet2!B$23*2),0)","v":0},{"$f":"IF(ABS(J1001)<Sheet2!B$24/2, 1, 0)","v":0}]
[487.5,0,"-0.109656984518814+8.42711671281515E-003i",0,"-4.68309693512419+0.359895036535014i","0.00255250705318888-0.000394650044497182i",null,0,null,487.5,{"$f":"EXP(-((J1002)^2/(Sheet2!B$21^2*0.360673760222241)))","v":2.4173305307344211E-29},{"$f":"IF(1-ABS(J1002)/Sheet2!B$22 >0, 1-ABS(J1002)/Sheet2!B$22,0)","v":0},{"$f":"IF(1-J1002/(Sheet2!B$23*2)>0,1-J1002/(Sheet2!B$23*2),0)","v":0},{"$f":"IF(ABS(J1002)<Sheet2!B$24/2, 1, 0)","v":0}]
[488.5,0,"0.635285244276211-4.68614548986371E-002i",0,"11.2719585190526-0.83146961230259i","0.0356097252275557-0.00528220375759894i",null,0,null,488.5,{"$f":"EXP(-((J1003)^2/(Sheet2!B$21^2*0.360673760222241)))","v":1.8442250931563844E-29},{"$f":"IF(1-ABS(J1003)/Sheet2!B$22 >0, 1-ABS(J1003)/Sheet2!B$22,0)","v":0},{"$f":"IF(1-J1003/(Sheet2!B$23*2)>0,1-J1003/(Sheet2!B$23*2),0)","v":0},{"$f":"IF(ABS(J1003)<Sheet2!B$24/2, 1, 0)","v":0}]
[489.5,0,"-1.00025232206709+7.06982990673494E-002i",0,"-14.1439196976446+0.999698818696271i","0.07038405757319-0.00999951064768662i",null,0,null,489.5,{"$f":"EXP(-((J1004)^2/(Sheet2!B$21^2*0.360673760222241)))","v":1.4062126245532268E-29},{"$f":"IF(1-ABS(J1004)/Sheet2!B$22 >0, 1-ABS(J1004)/Sheet2!B$22,0)","v":0},{"$f":"IF(1-J1004/(Sheet2!B$23*2)>0,1-J1004/(Sheet2!B$23*2),0)","v":0},{"$f":"IF(ABS(J1004)<Sheet2!B$24/2, 1, 0)","v":0}]
[490.5,0,"0.705927289163012-4.77191566475903E-002i",0,"11.8821487043634-0.803207531480703i","0.041748023191439-0.00567006115333483i",null,0,null,490.5,{"$f":"EXP(-((J1005)^2/(Sheet2!B$21^2*0.360673760222241)))","v":1.0716358510356508E-29},{"$f":"IF(1-ABS(J1005)/Sheet2!B$22 >0, 1-ABS(J1005)/Sheet2!B$22,0)","v":0},{"$f":"IF(1-J1005/(Sheet2!B$23*2)>0,1-J1005/(Sheet2!B$23*2),0)","v":0},{"$f":"IF(ABS(J1005)<Sheet2!B$24/2, 1, 0)","v":0}]
[491.5,0,"-0.118197175136281+7.62566617861485E-003i",0,"-4.86204021242735+0.313681740398916i","0.00286143693134654-0.000370762956069784i",null,0,null,491.5,{"$f":"EXP(-((J1006)^2/(Sheet2!B$21^2*0.360673760222241)))","v":8.1621139196972063E-30},{"$f":"IF(1-ABS(J1006)/Sheet2!B$22 >0, 1-ABS(J1006)/Sheet2!B$22,0)","v":0},{"$f":"IF(1-J1006/(Sheet2!B$23*2)>0,1-J1006/(Sheet2!B$23*2),0)","v":0},{"$f":"IF(ABS(J1006)<Sheet2!B$24/2, 1, 0)","v":0}]
[492.5,0,"0.111626518615306-6.85792615510593E-003i",0,"-4.7249660023182+0.290284677254488i","-0.00262720377266945+0.000324034679292852i",null,0,null,492.5,{"$f":"EXP(-((J1007)^2/(Sheet2!B$21^2*0.360673760222241)))","v":6.21322735561477E-30},{"$f":"IF(1-ABS(J1007)/Sheet2!B$22 >0, 1-ABS(J1007)/Sheet2!B$22,0)","v":0},{"$f":"IF(1-J1007/(Sheet2!B$23*2)>0,1-J1007/(Sheet2!B$23*2),0)","v":0},{"$f":"IF(ABS(J1007)<Sheet2!B$24/2, 1, 0)","v":0}]
[493.5,0,"-0.912457431794901+5.32486268068603E-002i",0,"13.5089409784404-0.788346427626689i","-0.061421776133687+0.00719332556716904i",null,0,null,493.5,{"$f":"EXP(-((J1008)^2/(Sheet2!B$21^2*0.360673760222241)))","v":4.7270589182632177E-30},{"$f":"IF(1-ABS(J1008)/Sheet2!B$22 >0, 1-ABS(J1008)/Sheet2!B$22,0)","v":0},{"$f":"IF(1-J1008/(Sheet2!B$23*2)>0,1-J1008/(Sheet2!B$23*2),0)","v":0},{"$f":"IF(ABS(J1008)<Sheet2!B$24/2, 1, 0)","v":0}]
[494.5,0,"1.63228013586512-9.02316518291763E-002i",0,"-18.0680941765599+0.998795456205281i","-0.147010341267431+0.0163031398295617i",null,0,null,494.5,{"$f":"EXP(-((J1009)^2/(Sheet2!B$21^2*0.360673760222241)))","v":3.5943797686176648E-30},{"$f":"IF(1-ABS(J1009)/Sheet2!B$22 >0, 1-ABS(J1009)/Sheet2!B$22,0)","v":0},{"$f":"IF(1-J1009/(Sheet2!B$23*2)>0,1-J1009/(Sheet2!B$23*2),0)","v":0},{"$f":"IF(ABS(J1009)<Sheet2!B$24/2, 1, 0)","v":0}]
[495.5,0,"-1.30962554791754+6.8365975115839E-002i",0,"16.18410051821-0.844853565249813i","-0.105686761354475+0.0110644181330028i",null,0,null,495.5,{"$f":"EXP(-((J1010)^2/(Sheet2!B$21^2*0.360673760222241)))","v":2.7315935768343811E-30},{"$f":"IF(1-ABS(J1010)/Sheet2!B$22 >0, 1-ABS(J1010)/Sheet2!B$22,0)","v":0},{"$f":"IF(1-J1010/(Sheet2!B$23*2)>0,1-J1010/(Sheet2!B$23*2),0)","v":0},{"$f":"IF(ABS(J1010)<Sheet2!B$24/2, 1, 0)","v":0}]
[496.5,0,"0.303397147441404-1.490494608284E-002i",0,"-7.78970021812655+0.382683432365121i","-0.0117883447483854+0.00116105061752663i",null,0,null,496.5,{"$f":"EXP(-((J1011)^2/(Sheet2!B$21^2*0.360673760222241)))","v":2.0747576785179561E-30},{"$f":"IF(1-ABS(J1011)/Sheet2!B$22 >0, 1-ABS(J1011)/Sheet2!B$22,0)","v":0},{"$f":"IF(1-J1011/(Sheet2!B$23*2)>0,1-J1011/(Sheet2!B$23*2),0)","v":0},{"$f":"IF(ABS(J1011)<Sheet2!B$24/2, 1, 0)","v":0}]
[497.5,0,"-0.11317848083643+5.21208834065514E-003i",0,"-4.75769862089744+0.219101240156893i","0.00268663563585753-0.000247975455103328i",null,0,null,497.5,{"$f":"EXP(-((J1012)^2/(Sheet2!B$21^2*0.360673760222241)))","v":1.5749901943291027E-30},{"$f":"IF(1-ABS(J1012)/Sheet2!B$22 >0, 1-ABS(J1012)/Sheet2!B$22,0)","v":0},{"$f":"IF(1-J1012/(Sheet2!B$23*2)>0,1-J1012/(Sheet2!B$23*2),0)","v":0},{"$f":"IF(ABS(J1012)<Sheet2!B$24/2, 1, 0)","v":0}]
[498.5,0,"1.48613705303457-6.38710411123697E-002i",0,"17.2402845280151-0.740951125355042i","0.12787050161076-0.011011549218778i",null,0,null,498.5,{"$f":"EXP(-((J1013)^2/(Sheet2!B$21^2*0.360673760222241)))","v":1.194943865377143E-30},{"$f":"IF(1-ABS(J1013)/Sheet2!B$22 >0, 1-ABS(J1013)/Sheet2!B$22,0)","v":0},{"$f":"IF(1-J1013/(Sheet2!B$23*2)>0,1-J1013/(Sheet2!B$23*2),0)","v":0},{"$f":"IF(ABS(J1013)<Sheet2!B$24/2, 1, 0)","v":0}]
[499.5,0,"-3.09289989596144+0.123421123172331i",0,"-24.8712681460414+0.992479534598845i","0.384009248612174-0.0306963984930464i",null,0,null,499.5,{"$f":"EXP(-((J1014)^2/(Sheet2!B$21^2*0.360673760222241)))","v":9.0610041587727504E-31},{"$f":"IF(1-ABS(J1014)/Sheet2!B$22 >0, 1-ABS(J1014)/Sheet2!B$22,0)","v":0},{"$f":"IF(1-J1014/(Sheet2!B$23*2)>0,1-J1014/(Sheet2!B$23*2),0)","v":0},{"$f":"IF(ABS(J1014)<Sheet2!B$24/2, 1, 0)","v":0}]
[500.5,0,"2.86665058708271-0.105584993272425i",0,"23.9443128407675-0.88192126434847i","0.342734304057576-0.0252816011020527i",null,0,null,500.5,{"$f":"EXP(-((J1015)^2/(Sheet2!B$21^2*0.360673760222241)))","v":6.866957056335711E-31},{"$f":"IF(1-ABS(J1015)/Sheet2!B$22 >0, 1-ABS(J1015)/Sheet2!B$22,0)","v":0},{"$f":"IF(1-J1015/(Sheet2!B$23*2)>0,1-J1015/(Sheet2!B$23*2),0)","v":0},{"$f":"IF(ABS(J1015)<Sheet2!B$24/2, 1, 0)","v":0}]
[501.5,0,"-0.886807713558408+2.99389785803243E-002i",0,"-13.3177153713273+0.449611329654675i","0.0589839590715021-0.00398718795241021i",null,0,null,501.5,{"$f":"EXP(-((J1016)^2/(Sheet2!B$21^2*0.360673760222241)))","v":5.2012952755566169E-31},{"$f":"IF(1-ABS(J1016)/Sheet2!B$22 >0, 1-ABS(J1016)/Sheet2!B$22,0)","v":0},{"$f":"IF(1-J1016/(Sheet2!B$23*2)>0,1-J1016/(Sheet2!B$23*2),0)","v":0},{"$f":"IF(ABS(J1016)<Sheet2!B$24/2, 1, 0)","v":0}]
[502.5,0,"0.114297896929701-3.50771616165893E-003i",0,"-4.78116924882938+0.146730474455391i","-0.00272981450574751+0.00016770984645747i",null,0,null,502.5,{"$f":"EXP(-((J1017)^2/(Sheet2!B$21^2*0.360673760222241)))","v":3.9374754858227424E-31},{"$f":"IF(1-ABS(J1017)/Sheet2!B$22 >0, 1-ABS(J1017)/Sheet2!B$22,0)","v":0},{"$f":"IF(1-J1017/(Sheet2!B$23*2)>0,1-J1017/(Sheet2!B$23*2),0)","v":0},{"$f":"IF(ABS(J1017)<Sheet2!B$24/2, 1, 0)","v":0}]
[503.5,0,"-3.11662098754174+8.6076937153984E-002i",0,"24.9664614534854-0.689540544737228i","-0.38875822106225+0.0214903653348902i",null,0,null,503.5,{"$f":"EXP(-((J1018)^2/(Sheet2!B$21^2*0.360673760222241)))","v":2.9790884154138139E-31},{"$f":"IF(1-ABS(J1018)/Sheet2!B$22 >0, 1-ABS(J1018)/Sheet2!B$22,0)","v":0},{"$f":"IF(1-J1018/(Sheet2!B$23*2)>0,1-J1018/(Sheet2!B$23*2),0)","v":0},{"$f":"IF(ABS(J1018)<Sheet2!B$24/2, 1, 0)","v":0}]
[504.5,0,"7.98111634542114-0.195925409171149i",0,"-39.9527629718425+0.98078528040342i","-1.59337744420968+0.0782776143277618i",null,0,null,504.5,{"$f":"EXP(-((J1019)^2/(Sheet2!B$21^2*0.360673760222241)))","v":2.2527245835308609E-31},{"$f":"IF(1-ABS(J1019)/Sheet2!B$22 >0, 1-ABS(J1019)/Sheet2!B$22,0)","v":0},{"$f":"IF(1-J1019/(Sheet2!B$23*2)>0,1-J1019/(Sheet2!B$23*2),0)","v":0},{"$f":"IF(ABS(J1019)<Sheet2!B$24/2, 1, 0)","v":0}]
[505.5,0,"-9.05799856507908+0.194557052136754i",0,"42.5628912671099-0.914209755703766i","-1.92678371033997+0.0828091065534605i",null,0,null,505.5,{"$f":"EXP(-((J1020)^2/(Sheet2!B$21^2*0.360673760222241)))","v":1.7025190505073822E-31},{"$f":"IF(1-ABS(J1020)/Sheet2!B$22 >0, 1-ABS(J1020)/Sheet2!B$22,0)","v":0},{"$f":"IF(1-J1020/(Sheet2!B$23*2)>0,1-J1020/(Sheet2!B$23*2),0)","v":0},{"$f":"IF(ABS(J1020)<Sheet2!B$24/2, 1, 0)","v":0}]
[506.5,0,"3.89914514361473-7.17826728135873E-002i",0,"-27.925419042925+0.514102744193381i","-0.544241791877742+0.0200456121834062i",null,0,null,506.5,{"$f":"EXP(-((J1021)^2/(Sheet2!B$21^2*0.360673760222241)))","v":1.2859824387587485E-31},{"$f":"IF(1-ABS(J1021)/Sheet2!B$22 >0, 1-ABS(J1021)/Sheet2!B$22,0)","v":0},{"$f":"IF(1-J1021/(Sheet2!B$23*2)>0,1-J1021/(Sheet2!B$23*2),0)","v":0},{"$f":"IF(ABS(J1021)<Sheet2!B$24/2, 1, 0)","v":0}]
[507.5,0,"-0.114973924740646+1.76381626646524E-003i",0,"-4.79528778574837+7.35645635996965E-002i","0.0027560165130723-0.0000845800659888751i",null,0,null,507.5,{"$f":"EXP(-((J1022)^2/(Sheet2!B$21^2*0.360673760222241)))","v":9.7081677431481077E-32},{"$f":"IF(1-ABS(J1022)/Sheet2!B$22 >0, 1-ABS(J1022)/Sheet2!B$22,0)","v":0},{"$f":"IF(1-J1022/(Sheet2!B$23*2)>0,1-J1022/(Sheet2!B$23*2),0)","v":0},{"$f":"IF(ABS(J1022)<Sheet2!B$24/2, 1, 0)","v":0}]
[508.5,0,"13.3605316128195-0.163966621589408i",0,"51.692420358926-0.634393284163933i","3.45267098512511-0.0847583152803262i",null,0,null,508.5,{"$f":"EXP(-((J1023)^2/(Sheet2!B$21^2*0.360673760222241)))","v":7.324849088167613E-32},{"$f":"IF(1-ABS(J1023)/Sheet2!B$22 >0, 1-ABS(J1023)/Sheet2!B$22,0)","v":0},{"$f":"IF(1-J1023/(Sheet2!B$23*2)>0,1-J1023/(Sheet2!B$23*2),0)","v":0},{"$f":"IF(ABS(J1023)<Sheet2!B$24/2, 1, 0)","v":0}]
[509.5,0,"-54.8220674545021+0.504590237642714i",0,"-104.71109535718+0.963776065796092i","28.6999621045602-0.528361964901082i",null,0,null,509.5,{"$f":"EXP(-((J1024)^2/(Sheet2!B$21^2*0.360673760222241)))","v":5.5235624332397976E-32},{"$f":"IF(1-ABS(J1024)/Sheet2!B$22 >0, 1-ABS(J1024)/Sheet2!B$22,0)","v":0},{"$f":"IF(1-J1024/(Sheet2!B$23*2)>0,1-J1024/(Sheet2!B$23*2),0)","v":0},{"$f":"IF(ABS(J1024)<Sheet2!B$24/2, 1, 0)","v":0}]
[510.5,0,"117.728220783034-0.722380381282167i",0,"153.445899771244-0.941544065183995i","90.3211630677976-1.10846307582937i",null,0,null,510.5,{"$f":"EXP(-((J1025)^2/(Sheet2!B$21^2*0.360673760222241)))","v":4.1629292403737952E-32},{"$f":"IF(1-ABS(J1025)/Sheet2!B$22 >0, 1-ABS(J1025)/Sheet2!B$22,0)","v":0},{"$f":"IF(1-J1025/(Sheet2!B$23*2)>0,1-J1025/(Sheet2!B$23*2),0)","v":0},{"$f":"IF(ABS(J1025)<Sheet2!B$24/2, 1, 0)","v":0}]
[511.5,0,"-176.125859190182+0.540349063822546i",0,"-187.683701578044+0.575808191419173i","165.278210295048-1.01414712442446i",null,0,null,511.5,{"$f":"EXP(-((J1026)^2/(Sheet2!B$21^2*0.360673760222241)))","v":3.1357249876799646E-32},{"$f":"IF(1-ABS(J1026)/Sheet2!B$22 >0, 1-ABS(J1026)/Sheet2!B$22,0)","v":0},{"$f":"IF(1-J1026/(Sheet2!B$23*2)>0,1-J1026/(Sheet2!B$23*2),0)","v":0},{"$f":"IF(ABS(J1026)<Sheet2!B$24/2, 1, 0)","v":0}]
[null,null,null,{"$f":"1/IMSUM(D3:D1026)","v":5.0000000000000001E-3}]